BEGIN:VCALENDAR
VERSION:2.0
PRODID:-//DBH Internet Website - ECPv6.15.14//NONSGML v1.0//EN
CALSCALE:GREGORIAN
METHOD:PUBLISH
X-WR-CALNAME:DBH Internet Website
X-ORIGINAL-URL:https://wp.sbcounty.gov/dbh
X-WR-CALDESC:Events for DBH Internet Website
REFRESH-INTERVAL;VALUE=DURATION:PT1H
X-Robots-Tag:noindex
X-PUBLISHED-TTL:PT1H
BEGIN:VTIMEZONE
TZID:America/Los_Angeles
BEGIN:DAYLIGHT
TZOFFSETFROM:-0800
TZOFFSETTO:-0700
TZNAME:PDT
DTSTART:20250309T100000
END:DAYLIGHT
BEGIN:STANDARD
TZOFFSETFROM:-0700
TZOFFSETTO:-0800
TZNAME:PST
DTSTART:20251102T090000
END:STANDARD
BEGIN:DAYLIGHT
TZOFFSETFROM:-0800
TZOFFSETTO:-0700
TZNAME:PDT
DTSTART:20260308T100000
END:DAYLIGHT
BEGIN:STANDARD
TZOFFSETFROM:-0700
TZOFFSETTO:-0800
TZNAME:PST
DTSTART:20261101T090000
END:STANDARD
BEGIN:DAYLIGHT
TZOFFSETFROM:-0800
TZOFFSETTO:-0700
TZNAME:PDT
DTSTART:20270314T100000
END:DAYLIGHT
BEGIN:STANDARD
TZOFFSETFROM:-0700
TZOFFSETTO:-0800
TZNAME:PST
DTSTART:20271107T090000
END:STANDARD
END:VTIMEZONE
BEGIN:VEVENT
DTSTART;TZID=America/Los_Angeles:20260114T130000
DTEND;TZID=America/Los_Angeles:20260114T170000
DTSTAMP:20260422T105233
CREATED:20251216T181014Z
LAST-MODIFIED:20251216T221407Z
UID:80579-1768395600-1768410000@wp.sbcounty.gov
SUMMARY:LEAP (Listen-Empathize-Agree-Partner) - Community Education Program
DESCRIPTION:LEAP (Listen-Empathize-Agree-Partner) is a set of evidence-based practices that create therapeutic alliances and trusting relationships with people suffering from severe mental illness. Designed to build and strengthen mutual respect\, it helps people who are non-adherent\, or partially adherent\, to become more cooperative and engaged in treatment and services\, including medication\, psychotherapy\, psychosocial programs\, club houses\, peer-support\, and supervised housing. \nTraining Goals: \n\nIdentify anosognosia vs. denial\nReduce defensiveness\, anger\, and resistance\nGain cooperation and compliance\nRe-establish trust and develop relationships\nCreate an alliance with the mentally ill person and work towards common goals\n\nContact Information: DBHCEPTraining@dbh.sbcounty.gov \n01.14.26-LEAP-Flyer
URL:https://wp.sbcounty.gov/dbh/event/leap-listen-empathize-agree-partner-community-education-program/
LOCATION:303 E Vanderbilt Way\, San Bernardino – Conference Room 109\, 303 E Vanderbilt Way\, San Bernardino\, CA\, 92408\, United States
ATTACH;FMTTYPE=image/jpeg:https://wp.sbcounty.gov/dbh/wp-content/uploads/sites/121/2025/11/LEAP-Community-Education.jpg
END:VEVENT
END:VCALENDAR