BEGIN:VCALENDAR
VERSION:2.0
PRODID:-//DBH Internet Website - ECPv6.15.14//NONSGML v1.0//EN
CALSCALE:GREGORIAN
METHOD:PUBLISH
X-WR-CALNAME:DBH Internet Website
X-ORIGINAL-URL:https://wp.sbcounty.gov/dbh
X-WR-CALDESC:Events for DBH Internet Website
REFRESH-INTERVAL;VALUE=DURATION:PT1H
X-Robots-Tag:noindex
X-PUBLISHED-TTL:PT1H
BEGIN:VTIMEZONE
TZID:America/Los_Angeles
BEGIN:DAYLIGHT
TZOFFSETFROM:-0800
TZOFFSETTO:-0700
TZNAME:PDT
DTSTART:20250309T100000
END:DAYLIGHT
BEGIN:STANDARD
TZOFFSETFROM:-0700
TZOFFSETTO:-0800
TZNAME:PST
DTSTART:20251102T090000
END:STANDARD
BEGIN:DAYLIGHT
TZOFFSETFROM:-0800
TZOFFSETTO:-0700
TZNAME:PDT
DTSTART:20260308T100000
END:DAYLIGHT
BEGIN:STANDARD
TZOFFSETFROM:-0700
TZOFFSETTO:-0800
TZNAME:PST
DTSTART:20261101T090000
END:STANDARD
BEGIN:DAYLIGHT
TZOFFSETFROM:-0800
TZOFFSETTO:-0700
TZNAME:PDT
DTSTART:20270314T100000
END:DAYLIGHT
BEGIN:STANDARD
TZOFFSETFROM:-0700
TZOFFSETTO:-0800
TZNAME:PST
DTSTART:20271107T090000
END:STANDARD
END:VTIMEZONE
BEGIN:VEVENT
DTSTART;TZID=America/Los_Angeles:20260120T110000
DTEND;TZID=America/Los_Angeles:20260120T120000
DTSTAMP:20260422T153821
CREATED:20251230T174721Z
LAST-MODIFIED:20251230T174721Z
UID:80863-1768906800-1768910400@wp.sbcounty.gov
SUMMARY:MHSA Administration Morning Meeting
DESCRIPTION:Please join us at an upcoming stakeholder engagement meeting! Get information on the Behavioral Health services Ats (BHSA) and the BHSA Integrated Plan for fiscal years 2026/27-2028/29. \nJoin Meeting: https://tinyurl.com/yfa7uuun \nMeeting ID: 226 907 757 829 49 \nPasscode: 4sd3Pg22
URL:https://wp.sbcounty.gov/dbh/event/mhsa-administration-morning-meeting/
CATEGORIES:Events
ATTACH;FMTTYPE=image/png:https://wp.sbcounty.gov/dbh/wp-content/uploads/sites/121/BHSA-PLANNING-MEETING-1920x1080-1.png
LOCATION:https://tinyurl.com/yfa7uuun
END:VEVENT
END:VCALENDAR