BEGIN:VCALENDAR
VERSION:2.0
PRODID:-//DBH Internet Website - ECPv6.15.14//NONSGML v1.0//EN
CALSCALE:GREGORIAN
METHOD:PUBLISH
X-WR-CALNAME:DBH Internet Website
X-ORIGINAL-URL:https://wp.sbcounty.gov/dbh
X-WR-CALDESC:Events for DBH Internet Website
REFRESH-INTERVAL;VALUE=DURATION:PT1H
X-Robots-Tag:noindex
X-PUBLISHED-TTL:PT1H
BEGIN:VTIMEZONE
TZID:America/Los_Angeles
BEGIN:DAYLIGHT
TZOFFSETFROM:-0800
TZOFFSETTO:-0700
TZNAME:PDT
DTSTART:20250309T100000
END:DAYLIGHT
BEGIN:STANDARD
TZOFFSETFROM:-0700
TZOFFSETTO:-0800
TZNAME:PST
DTSTART:20251102T090000
END:STANDARD
BEGIN:DAYLIGHT
TZOFFSETFROM:-0800
TZOFFSETTO:-0700
TZNAME:PDT
DTSTART:20260308T100000
END:DAYLIGHT
BEGIN:STANDARD
TZOFFSETFROM:-0700
TZOFFSETTO:-0800
TZNAME:PST
DTSTART:20261101T090000
END:STANDARD
BEGIN:DAYLIGHT
TZOFFSETFROM:-0800
TZOFFSETTO:-0700
TZNAME:PDT
DTSTART:20270314T100000
END:DAYLIGHT
BEGIN:STANDARD
TZOFFSETFROM:-0700
TZOFFSETTO:-0800
TZNAME:PST
DTSTART:20271107T090000
END:STANDARD
END:VTIMEZONE
BEGIN:VEVENT
DTSTART;TZID=America/Los_Angeles:20260427T160000
DTEND;TZID=America/Los_Angeles:20260427T180000
DTSTAMP:20260421T172336
CREATED:20260417T214339Z
LAST-MODIFIED:20260417T214339Z
UID:85096-1777305600-1777312800@wp.sbcounty.gov
SUMMARY:Reel Reality Film Festival - 5th District
DESCRIPTION:San Bernardino County Department of Behavioral Health and 5th District County Board of Supervisors Joe Baca Jr. proudly presents the Reel Reality: Fentanyl Awareness Film Contest! \nFilm Screening and Award Ceremony: Regal Theater\, 450 N. E St.\, San Bernardino \nWe invited high school students to create impactful short videos that raise awareness about the dangers of fentanyl and its devastating effects on our communities. This contest features high school students located in San Bernardino County’s 5th District. \n– Arroyo Valley High School\n– Bloomington High School\n– Cajon High School\n– Colton High School\n– Eisenhower High School\n– Indian Springs High School\n– Middle College High School\n– Pacific High School\n– Rialto High School\n– San Bernardino High School\n– San Gorgonio High School\n– Sierra High School\n– Slover Mountain High School\n– Washington High School\n– Wilmer Amina Carter High School\n– Zupanic High School \nBring the family and celebrate creativity! Enjoy free popcorn and a drink. \n*Special award for the school with most in attendance! \nDisclaimer\n“The films in this contest may include the depiction of or reference to the use of illegal substances or other illegal conduct. San Bernardino County does not endorse the use of illegal substances and presents this material for educational purposes only”. \nView the Reel Reality Film Screening and Award Ceremony Flyer. RSVP Now!
URL:https://wp.sbcounty.gov/dbh/event/reel-reality-film-festival-5th-district/
LOCATION:450 N. E St.\, San Bernardino
END:VEVENT
END:VCALENDAR