BEGIN:VCALENDAR
VERSION:2.0
PRODID:-//DBH Internet Website - ECPv6.15.14//NONSGML v1.0//EN
CALSCALE:GREGORIAN
METHOD:PUBLISH
X-WR-CALNAME:DBH Internet Website
X-ORIGINAL-URL:https://wp.sbcounty.gov/dbh
X-WR-CALDESC:Events for DBH Internet Website
REFRESH-INTERVAL;VALUE=DURATION:PT1H
X-Robots-Tag:noindex
X-PUBLISHED-TTL:PT1H
BEGIN:VTIMEZONE
TZID:America/Los_Angeles
BEGIN:DAYLIGHT
TZOFFSETFROM:-0800
TZOFFSETTO:-0700
TZNAME:PDT
DTSTART:20250309T100000
END:DAYLIGHT
BEGIN:STANDARD
TZOFFSETFROM:-0700
TZOFFSETTO:-0800
TZNAME:PST
DTSTART:20251102T090000
END:STANDARD
BEGIN:DAYLIGHT
TZOFFSETFROM:-0800
TZOFFSETTO:-0700
TZNAME:PDT
DTSTART:20260308T100000
END:DAYLIGHT
BEGIN:STANDARD
TZOFFSETFROM:-0700
TZOFFSETTO:-0800
TZNAME:PST
DTSTART:20261101T090000
END:STANDARD
BEGIN:DAYLIGHT
TZOFFSETFROM:-0800
TZOFFSETTO:-0700
TZNAME:PDT
DTSTART:20270314T100000
END:DAYLIGHT
BEGIN:STANDARD
TZOFFSETFROM:-0700
TZOFFSETTO:-0800
TZNAME:PST
DTSTART:20271107T090000
END:STANDARD
END:VTIMEZONE
BEGIN:VEVENT
DTSTART;TZID=America/Los_Angeles:20260425T100000
DTEND;TZID=America/Los_Angeles:20260425T140000
DTSTAMP:20260422T173906
CREATED:20260422T195446Z
LAST-MODIFIED:20260422T195446Z
UID:85174-1777111200-1777125600@wp.sbcounty.gov
SUMMARY:Safe Disposal Site for Unwanted or Unused Prescriptions
DESCRIPTION:Institute for Public Strategies (IPS) East Valley in collaboration with the Yucaipa Sheriff’s Department\, The City of Yucaipa\, Drug Enforcement Administration\, and C&C Center for Healing are hosting a safe disposal site for unwanted or unused prescriptions. The site will host drop boxes where medications can be anonymously forfeited and safely disposed of by professionals.\nCome by to drop off unused expired or unwanted medications. \nFree Naloxone and Fentanyl Test Strips will also be distributed. \nEvent Partners: Institute for Public Strategies (IPS) East Valley \nYucaipa Sheriff’s Department \nThe City of Yucaipa \nDrug Enforcement Administration (DEA) \nGuest Tabler’s Station: C&C Center for Healing IEOCC & Transitional Assistance Department (TAD) \nContact Information: Evprevention@publicstrategies.org
URL:https://wp.sbcounty.gov/dbh/event/safe-disposal-site-for-unwanted-or-unused-prescriptions/
LOCATION:Yucaipa Community Center/Park\, 34900 Oak Glen Rd.\, Yucaipa\, CA\, 92399\, United States
ATTACH;FMTTYPE=image/jpeg:https://wp.sbcounty.gov/dbh/wp-content/uploads/sites/121/English-NTBD-Yucaipa.jpg
END:VEVENT
END:VCALENDAR