BEGIN:VCALENDAR
VERSION:2.0
PRODID:-//DBH Internet Website - ECPv6.15.14//NONSGML v1.0//EN
CALSCALE:GREGORIAN
METHOD:PUBLISH
X-ORIGINAL-URL:https://wp.sbcounty.gov/dbh
X-WR-CALDESC:Events for DBH Internet Website
REFRESH-INTERVAL;VALUE=DURATION:PT1H
X-Robots-Tag:noindex
X-PUBLISHED-TTL:PT1H
BEGIN:VTIMEZONE
TZID:America/Los_Angeles
BEGIN:DAYLIGHT
TZOFFSETFROM:-0800
TZOFFSETTO:-0700
TZNAME:PDT
DTSTART:20240310T100000
END:DAYLIGHT
BEGIN:STANDARD
TZOFFSETFROM:-0700
TZOFFSETTO:-0800
TZNAME:PST
DTSTART:20241103T090000
END:STANDARD
BEGIN:DAYLIGHT
TZOFFSETFROM:-0800
TZOFFSETTO:-0700
TZNAME:PDT
DTSTART:20250309T100000
END:DAYLIGHT
BEGIN:STANDARD
TZOFFSETFROM:-0700
TZOFFSETTO:-0800
TZNAME:PST
DTSTART:20251102T090000
END:STANDARD
BEGIN:DAYLIGHT
TZOFFSETFROM:-0800
TZOFFSETTO:-0700
TZNAME:PDT
DTSTART:20260308T100000
END:DAYLIGHT
BEGIN:STANDARD
TZOFFSETFROM:-0700
TZOFFSETTO:-0800
TZNAME:PST
DTSTART:20261101T090000
END:STANDARD
END:VTIMEZONE
BEGIN:VEVENT
DTSTART;TZID=America/Los_Angeles:20251201T090000
DTEND;TZID=America/Los_Angeles:20251201T120000
DTSTAMP:20260423T044754
CREATED:20251119T000657Z
LAST-MODIFIED:20251119T003044Z
UID:10007388-1764579600-1764590400@wp.sbcounty.gov
SUMMARY:SafeTALK - Lake Arrowhead
DESCRIPTION:SafeTALK\nIn this free three-hour training\, participants will learn how to to recognize and support a person with thoughts of suicide. Participants will become a: “safeTALK-trained suicide alert helper.” Over the course of training\, participants will learn to: \n\n\n\nNotice and respond to situations where suicide thoughts might be present\nRecognize that invitations for help are often overlooked\nMove beyond the common tendency to miss\, dismiss\, and avoid suicide\nApply the TALK steps: Tell\, Ask\, Listen\, and Keep Safe\nKnow community resources\n\nRegister HERE\nFor questions email DBHOSP@DBH.SBCOUNTY.GOV or Call (909) 387-6221
URL:https://wp.sbcounty.gov/dbh/event/safetalk-lake-arrowhead/
LOCATION:Lake Arrowhead Fire Station 91\, 301 S. State HWY 173\, Lake Arrowhead\, CA\, United States
ATTACH;FMTTYPE=image/png:https://wp.sbcounty.gov/dbh/wp-content/uploads/sites/121/safeTALK_Social_8.5x11_Flyer-6-SafeTALK-1080x1350-ENG-1-scaled.png
END:VEVENT
BEGIN:VEVENT
DTSTART;TZID=America/Los_Angeles:20251201T090000
DTEND;TZID=America/Los_Angeles:20251201T120000
DTSTAMP:20260423T044754
CREATED:20251119T002624Z
LAST-MODIFIED:20251119T002734Z
UID:10007391-1764579600-1764590400@wp.sbcounty.gov
SUMMARY:SafeTALK - City of Fontana
DESCRIPTION:SafeTALK\nIn this free three-hour training\, participants will learn how to to recognize and support a person with thoughts of suicide. Participants will become a: “safeTALK-trained suicide alert helper.” Over the course of training\, participants will learn to: \n\n\n\nNotice and respond to situations where suicide thoughts might be present\nRecognize that invitations for help are often overlooked\nMove beyond the common tendency to miss\, dismiss\, and avoid suicide\nApply the TALK steps: Tell\, Ask\, Listen\, and Keep Safe\nKnow community resources\n\nRegister HERE\nFor questions please email: DBHOSP@DBH.SBCOUNTY.GOV or CALL (909) 387-6221
URL:https://wp.sbcounty.gov/dbh/event/safetalk-city-of-fontana/
LOCATION:Steelworker’s Auditorium\, 8437 Sierra Ave\, Fontana\, 92335\, United States
ATTACH;FMTTYPE=image/png:https://wp.sbcounty.gov/dbh/wp-content/uploads/sites/121/safeTALK_Social_Fontana_Flyer-6-SafeTALK-1080x1350-ENG-1-1-scaled.png
END:VEVENT
END:VCALENDAR