BEGIN:VCALENDAR
VERSION:2.0
PRODID:-//DBH Internet Website - ECPv6.15.14//NONSGML v1.0//EN
CALSCALE:GREGORIAN
METHOD:PUBLISH
X-WR-CALNAME:DBH Internet Website
X-ORIGINAL-URL:https://wp.sbcounty.gov/dbh
X-WR-CALDESC:Events for DBH Internet Website
REFRESH-INTERVAL;VALUE=DURATION:PT1H
X-Robots-Tag:noindex
X-PUBLISHED-TTL:PT1H
BEGIN:VTIMEZONE
TZID:America/Los_Angeles
BEGIN:DAYLIGHT
TZOFFSETFROM:-0800
TZOFFSETTO:-0700
TZNAME:PDT
DTSTART:20250309T100000
END:DAYLIGHT
BEGIN:STANDARD
TZOFFSETFROM:-0700
TZOFFSETTO:-0800
TZNAME:PST
DTSTART:20251102T090000
END:STANDARD
BEGIN:DAYLIGHT
TZOFFSETFROM:-0800
TZOFFSETTO:-0700
TZNAME:PDT
DTSTART:20260308T100000
END:DAYLIGHT
BEGIN:STANDARD
TZOFFSETFROM:-0700
TZOFFSETTO:-0800
TZNAME:PST
DTSTART:20261101T090000
END:STANDARD
BEGIN:DAYLIGHT
TZOFFSETFROM:-0800
TZOFFSETTO:-0700
TZNAME:PDT
DTSTART:20270314T100000
END:DAYLIGHT
BEGIN:STANDARD
TZOFFSETFROM:-0700
TZOFFSETTO:-0800
TZNAME:PST
DTSTART:20271107T090000
END:STANDARD
END:VTIMEZONE
BEGIN:VEVENT
DTSTART;TZID=America/Los_Angeles:20260423T090000
DTEND;TZID=America/Los_Angeles:20260423T120000
DTSTAMP:20260423T033820
CREATED:20260323T214559Z
LAST-MODIFIED:20260323T214559Z
UID:10007565-1776934800-1776945600@wp.sbcounty.gov
SUMMARY:Career and Resource Fair
DESCRIPTION:
URL:https://wp.sbcounty.gov/dbh/event/career-and-resource-fair/
LOCATION:670 E Carnegie\, 670 E. Carnegie Dr\, San Bernardino\, CA\, 92408
CATEGORIES:Behavioral Health Services Act (BHSA)
END:VEVENT
BEGIN:VEVENT
DTSTART;TZID=America/Los_Angeles:20260423T100000
DTEND;TZID=America/Los_Angeles:20260423T113000
DTSTAMP:20260423T033820
CREATED:20260402T173749Z
LAST-MODIFIED:20260402T173749Z
UID:10007658-1776938400-1776943800@wp.sbcounty.gov
SUMMARY:Latino Awareness Subcommittee
DESCRIPTION:Virtual meeting via Teams\, click here to join.
URL:https://wp.sbcounty.gov/dbh/event/latino-awareness-subcommittee/2026-04-23/
LOCATION:CA
END:VEVENT
BEGIN:VEVENT
DTSTART;TZID=America/Los_Angeles:20260423T100000
DTEND;TZID=America/Los_Angeles:20260423T113000
DTSTAMP:20260423T033820
CREATED:20260402T175128Z
LAST-MODIFIED:20260402T175128Z
UID:10007730-1776938400-1776943800@wp.sbcounty.gov
SUMMARY:Older Adults Awareness Subcommittee
DESCRIPTION:Virtual meeting via Teams\, click here to join.
URL:https://wp.sbcounty.gov/dbh/event/older-adults-awareness-subcommittee-2/2026-04-23/
LOCATION:CA
END:VEVENT
END:VCALENDAR