BEGIN:VCALENDAR
VERSION:2.0
PRODID:-//DBH Internet Website - ECPv6.15.14//NONSGML v1.0//EN
CALSCALE:GREGORIAN
METHOD:PUBLISH
X-WR-CALNAME:DBH Internet Website
X-ORIGINAL-URL:https://wp.sbcounty.gov/dbh
X-WR-CALDESC:Events for DBH Internet Website
REFRESH-INTERVAL;VALUE=DURATION:PT1H
X-Robots-Tag:noindex
X-PUBLISHED-TTL:PT1H
BEGIN:VTIMEZONE
TZID:America/Los_Angeles
BEGIN:DAYLIGHT
TZOFFSETFROM:-0800
TZOFFSETTO:-0700
TZNAME:PDT
DTSTART:20250309T100000
END:DAYLIGHT
BEGIN:STANDARD
TZOFFSETFROM:-0700
TZOFFSETTO:-0800
TZNAME:PST
DTSTART:20251102T090000
END:STANDARD
BEGIN:DAYLIGHT
TZOFFSETFROM:-0800
TZOFFSETTO:-0700
TZNAME:PDT
DTSTART:20260308T100000
END:DAYLIGHT
BEGIN:STANDARD
TZOFFSETFROM:-0700
TZOFFSETTO:-0800
TZNAME:PST
DTSTART:20261101T090000
END:STANDARD
BEGIN:DAYLIGHT
TZOFFSETFROM:-0800
TZOFFSETTO:-0700
TZNAME:PDT
DTSTART:20270314T100000
END:DAYLIGHT
BEGIN:STANDARD
TZOFFSETFROM:-0700
TZOFFSETTO:-0800
TZNAME:PST
DTSTART:20271107T090000
END:STANDARD
END:VTIMEZONE
BEGIN:VEVENT
DTSTART;TZID=America/Los_Angeles:20260321T100000
DTEND;TZID=America/Los_Angeles:20260321T140000
DTSTAMP:20260420T003432
CREATED:20260304T233429Z
LAST-MODIFIED:20260304T233429Z
UID:10007494-1774087200-1774101600@wp.sbcounty.gov
SUMMARY:Our Paths Foundation 4th Annual Ability Walk
DESCRIPTION:
URL:https://wp.sbcounty.gov/dbh/event/our-paths-foundation-4th-annual-ability-walk/
LOCATION:9134\, 9134 Mango Ave\, Fontana\, CA\, 92335\, United States
CATEGORIES:Behavioral Health Services Act (BHSA),Events
END:VEVENT
BEGIN:VEVENT
DTSTART;TZID=America/Los_Angeles:20260321T110000
DTEND;TZID=America/Los_Angeles:20260321T120000
DTSTAMP:20260420T003432
CREATED:20260309T193828Z
LAST-MODIFIED:20260309T193828Z
UID:10007521-1774090800-1774094400@wp.sbcounty.gov
SUMMARY:San Bernardino County Department of Behavioral Health Community Forums
DESCRIPTION:Details\nThis community forum will provide an overview of the draft Behavioral Health Services Act (BHSA) Integrated Plan\, discuss the impact of Proposition 1 on local behavioral health services\, and offer an opportunity for community members to share input and feedback. All community members are welcome to attend. The forum is designed to keep the community informed\, encourage open dialogue\, and ensure that community voices help shape future behavioral health priorities and services. \nLanguage assistance services are available free of charge\, please contact the Office of Equity and Inclusion at (909) 252-5150 prior to the meeting. \nTo register\, click here.
URL:https://wp.sbcounty.gov/dbh/event/san-bernardino-county-department-of-behavioral-health-community-forums-2/
LOCATION:CA
CATEGORIES:Behavioral Health Services Act (BHSA)
END:VEVENT
END:VCALENDAR