BEGIN:VCALENDAR
VERSION:2.0
PRODID:-//DBH Internet Website - ECPv6.15.14//NONSGML v1.0//EN
CALSCALE:GREGORIAN
METHOD:PUBLISH
X-WR-CALNAME:DBH Internet Website
X-ORIGINAL-URL:https://wp.sbcounty.gov/dbh
X-WR-CALDESC:Events for DBH Internet Website
REFRESH-INTERVAL;VALUE=DURATION:PT1H
X-Robots-Tag:noindex
X-PUBLISHED-TTL:PT1H
BEGIN:VTIMEZONE
TZID:America/Denver
BEGIN:DAYLIGHT
TZOFFSETFROM:-0700
TZOFFSETTO:-0600
TZNAME:MDT
DTSTART:20240310T090000
END:DAYLIGHT
BEGIN:STANDARD
TZOFFSETFROM:-0600
TZOFFSETTO:-0700
TZNAME:MST
DTSTART:20241103T080000
END:STANDARD
BEGIN:DAYLIGHT
TZOFFSETFROM:-0700
TZOFFSETTO:-0600
TZNAME:MDT
DTSTART:20250309T090000
END:DAYLIGHT
BEGIN:STANDARD
TZOFFSETFROM:-0600
TZOFFSETTO:-0700
TZNAME:MST
DTSTART:20251102T080000
END:STANDARD
BEGIN:DAYLIGHT
TZOFFSETFROM:-0700
TZOFFSETTO:-0600
TZNAME:MDT
DTSTART:20260308T090000
END:DAYLIGHT
BEGIN:STANDARD
TZOFFSETFROM:-0600
TZOFFSETTO:-0700
TZNAME:MST
DTSTART:20261101T080000
END:STANDARD
END:VTIMEZONE
BEGIN:VEVENT
DTSTART;TZID=America/Denver:20251210T100000
DTEND;TZID=America/Denver:20251210T113000
DTSTAMP:20260425T033408
CREATED:20251111T000225Z
LAST-MODIFIED:20251117T171745Z
UID:10002291-1765360800-1765366200@wp.sbcounty.gov
SUMMARY:Mental Health and Substance Use Awareness Subcommittee
DESCRIPTION:The Mental Health and Substance Use Awareness Subcommittee serves as an advisory group to the San Bernardino County Department of Behavioral Health (DBH). The subcommittee includes community stakeholders and DBH staff who work together to ensure communities are heard and represented in the planning\, development and evaluation of DBH services. \n2nd Wed. of the month 10 – 11:30 a.m.\nhttps://tinyurl.com/55hsz6f5\nMeeting ID: 295 312 272 03\nPasscode: 2z99Kr2J \nFor questions\, please contact the Office of Equity and Inclusion 909-252-5150 or by email cultural_competency@dbh.sbcounty.gov
URL:https://wp.sbcounty.gov/dbh/event/mental-health-and-substance-use-awareness-subcommittee/
CATEGORIES:Meetings
ATTACH;FMTTYPE=image/png:https://wp.sbcounty.gov/dbh/wp-content/uploads/sites/121/2023/05/Co-Occurring-and-Substance-Abuse-Awareness-Subcommittee-1.png
END:VEVENT
BEGIN:VEVENT
DTSTART;TZID=America/Denver:20251218T130000
DTEND;TZID=America/Denver:20251218T143000
DTSTAMP:20260425T033408
CREATED:20241008T173657Z
LAST-MODIFIED:20251117T171324Z
UID:10007258-1766062800-1766068200@wp.sbcounty.gov
SUMMARY:Cultural Competency Advisory Committee (CCAC) Meeting
DESCRIPTION:The Cultural Competency Advisory Committee (CCAC) serves as an advisory group to the San Bernardino County Department of Behavioral Health (DBH). \n3rd Thursday of the month 1 – 2:30 p.m.\nhttps://bit.ly/422xx2K\nMeeting ID: 255 553 890 216\nPasscode: YU9mo9wv \nFor questions\, please contact the Office of Equity and Inclusion 909-252-5150 or by email cultural_competency@dbh.sbcounty.gov \n 
URL:https://wp.sbcounty.gov/dbh/event/cultural-competency-advisory-committee-ccac-meeting-5-2/2025-12-18/
CATEGORIES:Events,Meetings
ATTACH;FMTTYPE=image/png:https://wp.sbcounty.gov/dbh/wp-content/uploads/sites/121/2023/05/CCAC-Subcommittee.png
END:VEVENT
END:VCALENDAR