BEGIN:VCALENDAR
VERSION:2.0
PRODID:-//DBH Internet Website - ECPv6.15.14//NONSGML v1.0//EN
CALSCALE:GREGORIAN
METHOD:PUBLISH
X-WR-CALNAME:DBH Internet Website
X-ORIGINAL-URL:https://wp.sbcounty.gov/dbh
X-WR-CALDESC:Events for DBH Internet Website
REFRESH-INTERVAL;VALUE=DURATION:PT1H
X-Robots-Tag:noindex
X-PUBLISHED-TTL:PT1H
BEGIN:VTIMEZONE
TZID:America/Denver
BEGIN:DAYLIGHT
TZOFFSETFROM:-0700
TZOFFSETTO:-0600
TZNAME:MDT
DTSTART:20240310T090000
END:DAYLIGHT
BEGIN:STANDARD
TZOFFSETFROM:-0600
TZOFFSETTO:-0700
TZNAME:MST
DTSTART:20241103T080000
END:STANDARD
BEGIN:DAYLIGHT
TZOFFSETFROM:-0700
TZOFFSETTO:-0600
TZNAME:MDT
DTSTART:20250309T090000
END:DAYLIGHT
BEGIN:STANDARD
TZOFFSETFROM:-0600
TZOFFSETTO:-0700
TZNAME:MST
DTSTART:20251102T080000
END:STANDARD
BEGIN:DAYLIGHT
TZOFFSETFROM:-0700
TZOFFSETTO:-0600
TZNAME:MDT
DTSTART:20260308T090000
END:DAYLIGHT
BEGIN:STANDARD
TZOFFSETFROM:-0600
TZOFFSETTO:-0700
TZNAME:MST
DTSTART:20261101T080000
END:STANDARD
END:VTIMEZONE
BEGIN:VEVENT
DTSTART;TZID=America/Denver:20251127T100000
DTEND;TZID=America/Denver:20251127T113000
DTSTAMP:20260425T070048
CREATED:20251111T000503Z
LAST-MODIFIED:20251117T171405Z
UID:10006964-1764237600-1764243000@wp.sbcounty.gov
SUMMARY:Latino Awareness Subcommittee
DESCRIPTION:The Latino Awareness Subcommittee serves as an advisory group to the San Bernardino County Department of Behavioral Health (DBH). The subcommittee includes community stakeholders and DBH staff who work together to ensure communities are heard and represented in the planning\, development and evaluation of DBH services. \n4th Thursday of the month 10 – 11:30 a.m.\nhttps://bit.ly/4iJV4uV\nMeeting ID: 290 759 516 952\nPasscode: TJ2rG6aK \nFor questions\, please contact the Office of Equity and Inclusion 909-252-5150 or by email cultural_competency@dbh.sbcounty.gov
URL:https://wp.sbcounty.gov/dbh/event/latino-awareness-subcommittee-4/
CATEGORIES:Events,Meetings
ATTACH;FMTTYPE=image/png:https://wp.sbcounty.gov/dbh/wp-content/uploads/sites/121/2023/05/Latino-Awareness-Subcommittee.png
END:VEVENT
END:VCALENDAR