BEGIN:VCALENDAR
VERSION:2.0
PRODID:-//DBH Internet Website - ECPv6.15.14//NONSGML v1.0//EN
CALSCALE:GREGORIAN
METHOD:PUBLISH
X-ORIGINAL-URL:https://wp.sbcounty.gov/dbh
X-WR-CALDESC:Events for DBH Internet Website
REFRESH-INTERVAL;VALUE=DURATION:PT1H
X-Robots-Tag:noindex
X-PUBLISHED-TTL:PT1H
BEGIN:VTIMEZONE
TZID:America/Los_Angeles
BEGIN:DAYLIGHT
TZOFFSETFROM:-0800
TZOFFSETTO:-0700
TZNAME:PDT
DTSTART:20250309T100000
END:DAYLIGHT
BEGIN:STANDARD
TZOFFSETFROM:-0700
TZOFFSETTO:-0800
TZNAME:PST
DTSTART:20251102T090000
END:STANDARD
BEGIN:DAYLIGHT
TZOFFSETFROM:-0800
TZOFFSETTO:-0700
TZNAME:PDT
DTSTART:20260308T100000
END:DAYLIGHT
BEGIN:STANDARD
TZOFFSETFROM:-0700
TZOFFSETTO:-0800
TZNAME:PST
DTSTART:20261101T090000
END:STANDARD
BEGIN:DAYLIGHT
TZOFFSETFROM:-0800
TZOFFSETTO:-0700
TZNAME:PDT
DTSTART:20270314T100000
END:DAYLIGHT
BEGIN:STANDARD
TZOFFSETFROM:-0700
TZOFFSETTO:-0800
TZNAME:PST
DTSTART:20271107T090000
END:STANDARD
END:VTIMEZONE
BEGIN:VTIMEZONE
TZID:America/Denver
BEGIN:DAYLIGHT
TZOFFSETFROM:-0700
TZOFFSETTO:-0600
TZNAME:MDT
DTSTART:20250309T090000
END:DAYLIGHT
BEGIN:STANDARD
TZOFFSETFROM:-0600
TZOFFSETTO:-0700
TZNAME:MST
DTSTART:20251102T080000
END:STANDARD
BEGIN:DAYLIGHT
TZOFFSETFROM:-0700
TZOFFSETTO:-0600
TZNAME:MDT
DTSTART:20260308T090000
END:DAYLIGHT
BEGIN:STANDARD
TZOFFSETFROM:-0600
TZOFFSETTO:-0700
TZNAME:MST
DTSTART:20261101T080000
END:STANDARD
BEGIN:DAYLIGHT
TZOFFSETFROM:-0700
TZOFFSETTO:-0600
TZNAME:MDT
DTSTART:20270314T090000
END:DAYLIGHT
BEGIN:STANDARD
TZOFFSETFROM:-0600
TZOFFSETTO:-0700
TZNAME:MST
DTSTART:20271107T080000
END:STANDARD
END:VTIMEZONE
BEGIN:VEVENT
DTSTART;TZID=America/Los_Angeles:20260422T130000
DTEND;TZID=America/Los_Angeles:20260422T150000
DTSTAMP:20260421T144045
CREATED:20260402T180558Z
LAST-MODIFIED:20260402T180558Z
UID:10007820-1776862800-1776870000@wp.sbcounty.gov
SUMMARY:Women's Awareness Subcommittee
DESCRIPTION:Virtual meeting via Teams\, click here to join.
URL:https://wp.sbcounty.gov/dbh/event/womens-awareness-subcommittee-2/2026-04-22/
END:VEVENT
BEGIN:VEVENT
DTSTART;TZID=America/Los_Angeles:20260422T160000
DTEND;TZID=America/Los_Angeles:20260422T190000
DTSTAMP:20260421T144045
CREATED:20260323T213415Z
LAST-MODIFIED:20260323T213415Z
UID:10007559-1776873600-1776884400@wp.sbcounty.gov
SUMMARY:Victim's Rights Week Memorials 2026-High Desert
DESCRIPTION:
URL:https://wp.sbcounty.gov/dbh/event/victims-rights-week-memorials-2026-high-desert/
LOCATION:Victor Valley College\, 18422 Bear Valley Road\, Victorville\, CA\, 92301\, United States
CATEGORIES:Behavioral Health Services Act (BHSA)
END:VEVENT
BEGIN:VEVENT
DTSTART;TZID=America/Los_Angeles:20260423T090000
DTEND;TZID=America/Los_Angeles:20260423T120000
DTSTAMP:20260421T144045
CREATED:20260323T214559Z
LAST-MODIFIED:20260323T214559Z
UID:10007565-1776934800-1776945600@wp.sbcounty.gov
SUMMARY:Career and Resource Fair
DESCRIPTION:
URL:https://wp.sbcounty.gov/dbh/event/career-and-resource-fair/
LOCATION:670 E Carnegie\, 670 E. Carnegie Dr\, San Bernardino\, CA\, 92408
CATEGORIES:Behavioral Health Services Act (BHSA)
END:VEVENT
BEGIN:VEVENT
DTSTART;TZID=America/Los_Angeles:20260423T100000
DTEND;TZID=America/Los_Angeles:20260423T113000
DTSTAMP:20260421T144045
CREATED:20260402T173749Z
LAST-MODIFIED:20260402T173749Z
UID:10007658-1776938400-1776943800@wp.sbcounty.gov
SUMMARY:Latino Awareness Subcommittee
DESCRIPTION:Virtual meeting via Teams\, click here to join.
URL:https://wp.sbcounty.gov/dbh/event/latino-awareness-subcommittee/2026-04-23/
END:VEVENT
BEGIN:VEVENT
DTSTART;TZID=America/Los_Angeles:20260423T100000
DTEND;TZID=America/Los_Angeles:20260423T113000
DTSTAMP:20260421T144045
CREATED:20260402T175128Z
LAST-MODIFIED:20260402T175128Z
UID:10007730-1776938400-1776943800@wp.sbcounty.gov
SUMMARY:Older Adults Awareness Subcommittee
DESCRIPTION:Virtual meeting via Teams\, click here to join.
URL:https://wp.sbcounty.gov/dbh/event/older-adults-awareness-subcommittee-2/2026-04-23/
END:VEVENT
BEGIN:VEVENT
DTSTART;TZID=America/Los_Angeles:20260425T083000
DTEND;TZID=America/Los_Angeles:20260425T120000
DTSTAMP:20260421T144045
CREATED:20260323T214653Z
LAST-MODIFIED:20260323T214653Z
UID:10007568-1777105800-1777118400@wp.sbcounty.gov
SUMMARY:Runner's High 5K
DESCRIPTION:
URL:https://wp.sbcounty.gov/dbh/event/runners-high-5k/
LOCATION:Central Park\, 11200 Baseline Road\, Rancho Cucamonga\, CA\, 91701\, United States
CATEGORIES:Behavioral Health Services Act (BHSA)
END:VEVENT
BEGIN:VEVENT
DTSTART;TZID=America/Los_Angeles:20260425T090000
DTEND;TZID=America/Los_Angeles:20260425T130000
DTSTAMP:20260421T144045
CREATED:20260323T214810Z
LAST-MODIFIED:20260323T214810Z
UID:10007571-1777107600-1777122000@wp.sbcounty.gov
SUMMARY:The Water Safety Summit
DESCRIPTION:
URL:https://wp.sbcounty.gov/dbh/event/the-water-safety-summit/
LOCATION:Diversity Center\, 3933 Mission Inn Ave\, Riverside\, CA\, 92501\, United States
CATEGORIES:Behavioral Health Services Act (BHSA)
END:VEVENT
BEGIN:VEVENT
DTSTART;TZID=America/Los_Angeles:20260425T100000
DTEND;TZID=America/Los_Angeles:20260425T140000
DTSTAMP:20260421T144045
CREATED:20260416T233704Z
LAST-MODIFIED:20260416T233704Z
UID:10007861-1777111200-1777125600@wp.sbcounty.gov
SUMMARY:CSUSB - DEA Prescription Takeback Day Event
DESCRIPTION:Did you know that there is a proper process to dispose of medications? If not disposed correctly we risk environmental contamination and harm to others! \nNational Take Back Day provides a convenient and responsible way of disposing unwanted\, unused\, and/or expired prescription medication. \nJust drop them off! \nFor more information\, view the National Take Back Day Flyer. \n¿Sabía que existe un proceso adecuado para desechar los medicamentos? Si no se eliminan correctamente\, corremos el riesgo de contaminar el medio ambiente y causar daño a otros. \nEl Día Nacional para Desechar Medicamentos ofrece una manera conveniente y responsable de desechar los medicamentos recetados no deseados\, sin uso o vencidos. \n¡Solo tiene que entregarlos! \nPara más información\, consulte el folleto del Día Nacional para Desechar de Medicamentos.
URL:https://wp.sbcounty.gov/dbh/event/csusb-dea-prescription-takeback-day-event/
LOCATION:Cal State University San Bernardino (CSUSB)\, 5500 University Pkwy.\, San Bernardino\, CA\, United States
ATTACH;FMTTYPE=image/png:https://wp.sbcounty.gov/dbh/wp-content/uploads/sites/121/2016/06/resourcesBHC.bak_.bak_.bak_.png
END:VEVENT
BEGIN:VEVENT
DTSTART;TZID=America/Los_Angeles:20260427T110000
DTEND;TZID=America/Los_Angeles:20260427T120000
DTSTAMP:20260421T144046
CREATED:20260402T173311Z
LAST-MODIFIED:20260402T173311Z
UID:10007622-1777287600-1777291200@wp.sbcounty.gov
SUMMARY:Consumer and Family Members Awareness Subcommittee
DESCRIPTION:Hybrid meeting\nVia Teams: click here to join.\nIn Person: Rotating location. Please contact OEI for details. \ncultural_competency@dbh.subcounty.gov
URL:https://wp.sbcounty.gov/dbh/event/consumer-and-family-members-awareness-subcommittee/2026-04-27/
END:VEVENT
BEGIN:VEVENT
DTSTART;TZID=America/Los_Angeles:20260427T160000
DTEND;TZID=America/Los_Angeles:20260427T180000
DTSTAMP:20260421T144046
CREATED:20260417T214339Z
LAST-MODIFIED:20260417T214339Z
UID:10007873-1777305600-1777312800@wp.sbcounty.gov
SUMMARY:Reel Reality Film Festival - 5th District
DESCRIPTION:San Bernardino County Department of Behavioral Health and 5th District County Board of Supervisors Joe Baca Jr. proudly presents the Reel Reality: Fentanyl Awareness Film Contest! \nFilm Screening and Award Ceremony: Regal Theater\, 450 N. E St.\, San Bernardino \nWe invited high school students to create impactful short videos that raise awareness about the dangers of fentanyl and its devastating effects on our communities. This contest features high school students located in San Bernardino County’s 5th District. \n– Arroyo Valley High School\n– Bloomington High School\n– Cajon High School\n– Colton High School\n– Eisenhower High School\n– Indian Springs High School\n– Middle College High School\n– Pacific High School\n– Rialto High School\n– San Bernardino High School\n– San Gorgonio High School\n– Sierra High School\n– Slover Mountain High School\n– Washington High School\n– Wilmer Amina Carter High School\n– Zupanic High School \nBring the family and celebrate creativity! Enjoy free popcorn and a drink. \n*Special award for the school with most in attendance! \nDisclaimer\n“The films in this contest may include the depiction of or reference to the use of illegal substances or other illegal conduct. San Bernardino County does not endorse the use of illegal substances and presents this material for educational purposes only”. \nView the Reel Reality Film Screening and Award Ceremony Flyer. RSVP Now!
URL:https://wp.sbcounty.gov/dbh/event/reel-reality-film-festival-5th-district/
LOCATION:450 N. E St.\, San Bernardino
END:VEVENT
BEGIN:VEVENT
DTSTART;TZID=America/Los_Angeles:20260428T123000
DTEND;TZID=America/Los_Angeles:20260428T140000
DTSTAMP:20260421T144046
CREATED:20260402T173933Z
LAST-MODIFIED:20260402T173933Z
UID:10007676-1777379400-1777384800@wp.sbcounty.gov
SUMMARY:LGBTQ Awareness Subcommittee
DESCRIPTION:Virtual meeting via Teams\, click here to join.
URL:https://wp.sbcounty.gov/dbh/event/lgbtq-awareness-subcommittee-2/2026-04-28/
END:VEVENT
BEGIN:VEVENT
DTSTART;TZID=America/Los_Angeles:20260429T120000
DTEND;TZID=America/Los_Angeles:20260429T130000
DTSTAMP:20260421T144046
CREATED:20260414T223609Z
LAST-MODIFIED:20260414T223609Z
UID:10007858-1777464000-1777467600@wp.sbcounty.gov
SUMMARY:Mindful Moments- Dear You: Journaling with Lo-Fi for Hope
DESCRIPTION:(For DBH County Staff Only)\n \nThis session combines reflective journaling with calming lo-fi music to create a supportive environment that fosters resilience\, mindfulness\, and hope. This activity encourages participants to write letters addressed to “You” — whether to their past self\, future self\, a loved one\, or their community. This reflective practice helps staff process emotions\, recognize coping strategies\, and cultivate gratitude. \nDuration: 30–45 minutes \nStructure: \n\nWelcome and framing of the activity\nGuided journaling prompts (e.g.\, “Dear You\, I want you to remember …”)\nQuiet reflection with lo-fi music\nOptional sharing (voluntary excerpts)\nClosing with available support resources\n\nRegister Here
URL:https://wp.sbcounty.gov/dbh/event/mindful-moments-dear-you-journaling-with-lo-fi-for-hope/
CATEGORIES:Events,Trainings
ATTACH;FMTTYPE=image/jpeg:https://wp.sbcounty.gov/dbh/wp-content/uploads/sites/121/Mindful_Moments_Wellness.jpg
END:VEVENT
BEGIN:VEVENT
DTSTART;TZID=America/Los_Angeles:20260502T140000
DTEND;TZID=America/Los_Angeles:20260502T160000
DTSTAMP:20260421T144046
CREATED:20260417T205845Z
LAST-MODIFIED:20260417T210018Z
UID:10007864-1777730400-1777737600@wp.sbcounty.gov
SUMMARY:Directing Change Award Ceremony & Film Screening
DESCRIPTION:San Bernardino County Department of Behavioral Health presents Directing Change Award Ceremony & Film Screening \nJoin us on Saturday\, May 2 \nThe Directing Change Award Ceremony and Film Screening celebrates the creativity\, passion\, and commitment of youth across the county. This inspiring event honors students in the Directing Change Program & Film Contest\, which promotes mental health awareness and suicide prevention through powerful short films. \nJoin us for a FREE evening of recognition\, inspiration\, and connection as we showcase these impactful films\, celebrate young filmmakers\, and applaud their efforts to shape the conversation around mental health. Free snacks will be provided! \nView the Directing Change Award Ceremony Flyer. \n\nWe look forward to hosting you! RSVP Now!
URL:https://wp.sbcounty.gov/dbh/event/directing-change-award-ceremony-film-screening/
LOCATION:1575 N. Mountain Ave.\, Ontario
END:VEVENT
BEGIN:VEVENT
DTSTART;TZID=America/Los_Angeles:20260504T150000
DTEND;TZID=America/Los_Angeles:20260504T163000
DTSTAMP:20260421T144046
CREATED:20260402T180458Z
LAST-MODIFIED:20260402T180458Z
UID:10007805-1777906800-1777912200@wp.sbcounty.gov
SUMMARY:Veterans Awareness Subcommittee
DESCRIPTION:Virtual meeting via Teams\, click here to join.
URL:https://wp.sbcounty.gov/dbh/event/veterans-awareness-subcommittee/2026-05-04/
END:VEVENT
BEGIN:VEVENT
DTSTART;TZID=America/Los_Angeles:20260507T120000
DTEND;TZID=America/Los_Angeles:20260507T140000
DTSTAMP:20260421T144046
CREATED:20260417T210851Z
LAST-MODIFIED:20260417T220429Z
UID:10007867-1778155200-1778162400@wp.sbcounty.gov
SUMMARY:Behavioral Health Commission Meeting & Luncheon
DESCRIPTION:OPEN TO THE PUBLIC \nBehavioral Health Commission Meeting & Luncheon. \nThe meeting will be held on Thursday\, May 7\, from Noon – 2 p.m. at the Behavioral Health Services Auditorium\, 850 E. Foothill Blvd.\, Room F120\, Rialto. \nLunch will be provided. \nWear lime green in celebration of May being Mental Health Month. \nSatellite Locations available for public attendance. \n\nApple Valley Clinic\n18818 Highway 18\, Apple Valley\nYucca Valley\n58945 Business Center Drive\, Yucca Valley\n\nWe look forward to your participation. \nView the Behavioral Health Commission Luncheon Flyer and RSVP via the QR Code.
URL:https://wp.sbcounty.gov/dbh/event/behavioral-health-commission-meeting-luncheon/
LOCATION:850 E. Foothill Blvd.\, Rialto\, CA 92376\, 850 E. Foothill Blvd.\, Rialto\, 92376\, United States
END:VEVENT
BEGIN:VEVENT
DTSTART;TZID=America/Los_Angeles:20260508T100000
DTEND;TZID=America/Los_Angeles:20260508T113000
DTSTAMP:20260421T144046
CREATED:20260402T172951Z
LAST-MODIFIED:20260402T172951Z
UID:10007607-1778234400-1778239800@wp.sbcounty.gov
SUMMARY:Asian Pacific Islander Awareness Subcommittee
DESCRIPTION:Virtual meeting via Teams\, click here to join.
URL:https://wp.sbcounty.gov/dbh/event/asian-pacific-islander-awareness-subcommittee/2026-05-08/
END:VEVENT
BEGIN:VEVENT
DTSTART;TZID=America/Los_Angeles:20260511T080000
DTEND;TZID=America/Los_Angeles:20260511T170000
DTSTAMP:20260421T144046
CREATED:20260223T214720Z
LAST-MODIFIED:20260223T214720Z
UID:10007464-1778486400-1778518800@wp.sbcounty.gov
SUMMARY:Mental Health First Aid
DESCRIPTION:Mental Health First Aid teaches individuals how to identify\, understand\, and respond to the signs of a mental health challenge. \nThe training gives people the skills necessary to reach out to someone experiencing a mental health challenge and get them connected to the help that they need. \nFor more information\, click here \nTo register\, click here \nContact information:  DBHCEPTraining@dbh.sbcounty.gov
URL:https://wp.sbcounty.gov/dbh/event/mental-health-first-aid-3/
LOCATION:Yucaipa Community Center/Park\, 34900 Oak Glen Rd.\, Yucaipa\, CA\, 92399\, United States
ATTACH;FMTTYPE=image/jpeg:https://wp.sbcounty.gov/dbh/wp-content/uploads/sites/121/istockphoto-1180264796-612x612-1.bak_.bak_-1.bak_.jpg
END:VEVENT
BEGIN:VEVENT
DTSTART;TZID=America/Los_Angeles:20260511T100000
DTEND;TZID=America/Los_Angeles:20260511T113000
DTSTAMP:20260421T144046
CREATED:20260402T175826Z
LAST-MODIFIED:20260402T175826Z
UID:10007769-1778493600-1778499000@wp.sbcounty.gov
SUMMARY:Suicide Prevention Awareness Subcommittee
DESCRIPTION:Virtual meeting via Teams\, click here to join.
URL:https://wp.sbcounty.gov/dbh/event/suicide-prevention-awareness-subcommittee-2/2026-05-11/
END:VEVENT
BEGIN:VEVENT
DTSTART;TZID=America/Los_Angeles:20260512T130000
DTEND;TZID=America/Los_Angeles:20260512T143000
DTSTAMP:20260421T144046
CREATED:20260402T175720Z
LAST-MODIFIED:20260407T154304Z
UID:10007844-1778590800-1778596200@wp.sbcounty.gov
SUMMARY:Spirituality Awareness Subcommittee
DESCRIPTION:Virtual meeting via Teams\, click here to join.
URL:https://wp.sbcounty.gov/dbh/event/spirituality-awareness-subcommittee-2/2026-05-12/
END:VEVENT
BEGIN:VEVENT
DTSTART;TZID=America/Los_Angeles:20260513T100000
DTEND;TZID=America/Los_Angeles:20260513T113000
DTSTAMP:20260421T144046
CREATED:20260402T174203Z
LAST-MODIFIED:20260402T174203Z
UID:10007697-1778666400-1778671800@wp.sbcounty.gov
SUMMARY:Mental Health and Substance Use Awareness Subcommittee
DESCRIPTION:Virtual meeting via Teams\, click here to join.
URL:https://wp.sbcounty.gov/dbh/event/mental-health-and-substance-use-awareness-subcommittee-3/2026-05-13/
END:VEVENT
BEGIN:VEVENT
DTSTART;TZID=America/Los_Angeles:20260514T100000
DTEND;TZID=America/Los_Angeles:20260514T113000
DTSTAMP:20260421T144046
CREATED:20260402T173519Z
LAST-MODIFIED:20260402T173519Z
UID:10007643-1778752800-1778758200@wp.sbcounty.gov
SUMMARY:Disabilities Awareness Subcommittee
DESCRIPTION:Virtual Meeting via Teams\, click here to join.
URL:https://wp.sbcounty.gov/dbh/event/disabilities-awareness-subcommittee/2026-05-14/
END:VEVENT
BEGIN:VEVENT
DTSTART;TZID=America/Los_Angeles:20260515T183000
DTEND;TZID=America/Los_Angeles:20260515T200000
DTSTAMP:20260421T144046
CREATED:20260417T212835Z
LAST-MODIFIED:20260417T221223Z
UID:10007870-1778869800-1778875200@wp.sbcounty.gov
SUMMARY:Meet the Artist Reception
DESCRIPTION:Meet the Artist \nJoin us Friday\, May 15 \n\nIn recognition of Mental Health Awareness Month in May\, the San Bernardino County Department of Behavioral Health is proud to host the 2026 Meet the Artist Exhibition\, celebrating creativity\, expression\, and the importance of mental health and wellbeing at every stage of life. \n\nThis special free event will showcase original artwork created by emerging artists whose pieces reflect themes of mental health\, healing\, and suicide prevention awareness. The exhibition will feature a variety of mediums\, including visual art\, digital art\, and poetry. \nCommunity members are invited to attend the Meet the Artist Exhibition to experience the artwork\, meet the artists\, and engage in meaningful conversations about mental health through creative expression. \nA reception will be held during the exhibition opening\, and everyone is welcome to attend and support the participating artists. \n\nView the Meet the Artist Flyer. RSVP Now!
URL:https://wp.sbcounty.gov/dbh/event/meet-the-artist-reception/
LOCATION:Fontana Lewis Library & Technology Center\, 8437 Sierra Avenue\, Fontana\, 92335\, United States
ATTACH;FMTTYPE=image/png:https://wp.sbcounty.gov/dbh/wp-content/uploads/sites/121/Meet-the-Artist-FINAL-3.25.25-12-Website-Featured-Image.bak_.png
GEO:34.1006454;-117.4350481
X-APPLE-STRUCTURED-LOCATION;VALUE=URI;X-ADDRESS=Fontana Lewis Library & Technology Center 8437 Sierra Avenue Fontana 92335 United States;X-APPLE-RADIUS=500;X-TITLE=8437 Sierra Avenue:geo:-117.4350481,34.1006454
END:VEVENT
BEGIN:VEVENT
DTSTART;TZID=America/Los_Angeles:20260518T140000
DTEND;TZID=America/Los_Angeles:20260518T153000
DTSTAMP:20260421T144046
CREATED:20260402T172828Z
LAST-MODIFIED:20260402T172828Z
UID:10007589-1779112800-1779118200@wp.sbcounty.gov
SUMMARY:African American Awareness Subcommittee
DESCRIPTION:Virtual meeting via Teams\, click here to join. \n 
URL:https://wp.sbcounty.gov/dbh/event/african-american-awareness-subcommittee-2/2026-05-18/
END:VEVENT
BEGIN:VEVENT
DTSTART;TZID=America/Los_Angeles:20260519T140000
DTEND;TZID=America/Los_Angeles:20260519T153000
DTSTAMP:20260421T144046
CREATED:20260402T174301Z
LAST-MODIFIED:20260402T174301Z
UID:10007715-1779199200-1779204600@wp.sbcounty.gov
SUMMARY:Native American Awareness Subcommittee
DESCRIPTION:Virtual meeting via Teams\, click here to join.
URL:https://wp.sbcounty.gov/dbh/event/native-american-awareness-subcommittee-2/2026-05-19/
END:VEVENT
BEGIN:VEVENT
DTSTART;TZID=America/Los_Angeles:20260520T080000
DTEND;TZID=America/Los_Angeles:20260520T170000
DTSTAMP:20260421T144046
CREATED:20260401T224654Z
LAST-MODIFIED:20260401T224754Z
UID:10007583-1779264000-1779296400@wp.sbcounty.gov
SUMMARY:Mental Health First Aid
DESCRIPTION:Mental Health First Aid teaches individuals how to identify\, understand\, and respond to the signs of a mental health challenge. The training gives people the skills necessary to reach out to someone experiencing a mental health challenge and get them connected to the help that they need. \nClick here for more information \nClick here to register \nDBHCEPTraining@dbh.sbcounty.gov
URL:https://wp.sbcounty.gov/dbh/event/mental-health-first-aid-4/
LOCATION:550\, 550 E Hospitality Ln\, San Bernardino\, CA\, 92408\, United States
ATTACH;FMTTYPE=image/png:https://wp.sbcounty.gov/dbh/wp-content/uploads/sites/121/Screenshot-2025-06-10-100524.bak_.png
END:VEVENT
BEGIN:VEVENT
DTSTART;TZID=America/Los_Angeles:20260520T140000
DTEND;TZID=America/Los_Angeles:20260520T150000
DTSTAMP:20260421T144046
CREATED:20260402T180327Z
LAST-MODIFIED:20260402T180327Z
UID:10007787-1779285600-1779289200@wp.sbcounty.gov
SUMMARY:Transitional Age Youth (TAY) Awareness Subcommittee
DESCRIPTION:Virtual meeting via Teams\, click here to join.
URL:https://wp.sbcounty.gov/dbh/event/transitional-age-youth-tay-awareness-subcommittee-2/2026-05-20/
END:VEVENT
BEGIN:VEVENT
DTSTART;TZID=America/Los_Angeles:20260521T100000
DTEND;TZID=America/Los_Angeles:20260521T120000
DTSTAMP:20260421T144046
CREATED:20260330T163324Z
LAST-MODIFIED:20260330T163324Z
UID:10007577-1779357600-1779364800@wp.sbcounty.gov
SUMMARY:Community Advisory Committee (CPAC) Meeting
DESCRIPTION:Please join us for our monthly Community Policy Advisory Committee (CPAC) Meeting. Held on the third Thursday of every month\, 10:00 a.m. – noon. The meeting is to provide updates on the Behavioral Health Service Act (BHSA) legislation and BHSA funded programs. Stakeholder feedback is gathered for program input. \nThe May CPAC meeting will be presented In-Person ONLY. If you speak another language\, language assistance services are available to you free of charge by dialing (888) 743-1478. TTY users dial 711. DBH complies with applicable federal\, civil rights laws and does not discriminate on the basis of race\, color\, national origin\, sex\, gender identity\, age\, disability\, or LEP.
URL:https://wp.sbcounty.gov/dbh/event/community-advisory-committee-cpac-meeting/
LOCATION:Inland Regional Center (IRC) Conference Building\, 1425 South Waterman Ave\, San Bernardino\, CA\, 92408\, United States
ATTACH;FMTTYPE=image/jpeg:https://wp.sbcounty.gov/dbh/wp-content/uploads/sites/121/2025/11/LEAP-Community-Education.jpg
END:VEVENT
BEGIN:VEVENT
DTSTART;TZID=America/Denver:20260521T130000
DTEND;TZID=America/Denver:20260521T143000
DTSTAMP:20260421T144046
CREATED:20241008T173657Z
LAST-MODIFIED:20251117T171324Z
UID:10007414-1779368400-1779373800@wp.sbcounty.gov
SUMMARY:Cultural Competency Advisory Committee (CCAC) Meeting
DESCRIPTION:The Cultural Competency Advisory Committee (CCAC) serves as an advisory group to the San Bernardino County Department of Behavioral Health (DBH). \n3rd Thursday of the month 1 – 2:30 p.m.\nhttps://bit.ly/422xx2K\nMeeting ID: 255 553 890 216\nPasscode: YU9mo9wv \nFor questions\, please contact the Office of Equity and Inclusion 909-252-5150 or by email cultural_competency@dbh.sbcounty.gov \n 
URL:https://wp.sbcounty.gov/dbh/event/cultural-competency-advisory-committee-ccac-meeting-5-2/2026-05-21/
CATEGORIES:Events,Meetings
ATTACH;FMTTYPE=image/png:https://wp.sbcounty.gov/dbh/wp-content/uploads/sites/121/2023/05/CCAC-Subcommittee.png
END:VEVENT
BEGIN:VEVENT
DTSTART;TZID=America/Los_Angeles:20260525T110000
DTEND;TZID=America/Los_Angeles:20260525T120000
DTSTAMP:20260421T144046
CREATED:20260402T173311Z
LAST-MODIFIED:20260402T173311Z
UID:10007625-1779706800-1779710400@wp.sbcounty.gov
SUMMARY:Consumer and Family Members Awareness Subcommittee
DESCRIPTION:Hybrid meeting\nVia Teams: click here to join.\nIn Person: Rotating location. Please contact OEI for details. \ncultural_competency@dbh.subcounty.gov
URL:https://wp.sbcounty.gov/dbh/event/consumer-and-family-members-awareness-subcommittee/2026-05-25/
END:VEVENT
BEGIN:VEVENT
DTSTART;TZID=America/Los_Angeles:20260526T123000
DTEND;TZID=America/Los_Angeles:20260526T140000
DTSTAMP:20260421T144046
CREATED:20260402T173933Z
LAST-MODIFIED:20260402T173933Z
UID:10007679-1779798600-1779804000@wp.sbcounty.gov
SUMMARY:LGBTQ Awareness Subcommittee
DESCRIPTION:Virtual meeting via Teams\, click here to join.
URL:https://wp.sbcounty.gov/dbh/event/lgbtq-awareness-subcommittee-2/2026-05-26/
END:VEVENT
END:VCALENDAR