BEGIN:VCALENDAR
VERSION:2.0
PRODID:-//DBH Internet Website - ECPv6.15.14//NONSGML v1.0//EN
CALSCALE:GREGORIAN
METHOD:PUBLISH
X-ORIGINAL-URL:https://wp.sbcounty.gov/dbh
X-WR-CALDESC:Events for DBH Internet Website
REFRESH-INTERVAL;VALUE=DURATION:PT1H
X-Robots-Tag:noindex
X-PUBLISHED-TTL:PT1H
BEGIN:VTIMEZONE
TZID:America/Los_Angeles
BEGIN:DAYLIGHT
TZOFFSETFROM:-0800
TZOFFSETTO:-0700
TZNAME:PDT
DTSTART:20250309T100000
END:DAYLIGHT
BEGIN:STANDARD
TZOFFSETFROM:-0700
TZOFFSETTO:-0800
TZNAME:PST
DTSTART:20251102T090000
END:STANDARD
BEGIN:DAYLIGHT
TZOFFSETFROM:-0800
TZOFFSETTO:-0700
TZNAME:PDT
DTSTART:20260308T100000
END:DAYLIGHT
BEGIN:STANDARD
TZOFFSETFROM:-0700
TZOFFSETTO:-0800
TZNAME:PST
DTSTART:20261101T090000
END:STANDARD
BEGIN:DAYLIGHT
TZOFFSETFROM:-0800
TZOFFSETTO:-0700
TZNAME:PDT
DTSTART:20270314T100000
END:DAYLIGHT
BEGIN:STANDARD
TZOFFSETFROM:-0700
TZOFFSETTO:-0800
TZNAME:PST
DTSTART:20271107T090000
END:STANDARD
END:VTIMEZONE
BEGIN:VTIMEZONE
TZID:America/Denver
BEGIN:DAYLIGHT
TZOFFSETFROM:-0700
TZOFFSETTO:-0600
TZNAME:MDT
DTSTART:20250309T090000
END:DAYLIGHT
BEGIN:STANDARD
TZOFFSETFROM:-0600
TZOFFSETTO:-0700
TZNAME:MST
DTSTART:20251102T080000
END:STANDARD
BEGIN:DAYLIGHT
TZOFFSETFROM:-0700
TZOFFSETTO:-0600
TZNAME:MDT
DTSTART:20260308T090000
END:DAYLIGHT
BEGIN:STANDARD
TZOFFSETFROM:-0600
TZOFFSETTO:-0700
TZNAME:MST
DTSTART:20261101T080000
END:STANDARD
BEGIN:DAYLIGHT
TZOFFSETFROM:-0700
TZOFFSETTO:-0600
TZNAME:MDT
DTSTART:20270314T090000
END:DAYLIGHT
BEGIN:STANDARD
TZOFFSETFROM:-0600
TZOFFSETTO:-0700
TZNAME:MST
DTSTART:20271107T080000
END:STANDARD
END:VTIMEZONE
BEGIN:VEVENT
DTSTART;TZID=America/Los_Angeles:20260514T100000
DTEND;TZID=America/Los_Angeles:20260514T113000
DTSTAMP:20260421T194317
CREATED:20260402T173519Z
LAST-MODIFIED:20260402T173519Z
UID:10007643-1778752800-1778758200@wp.sbcounty.gov
SUMMARY:Disabilities Awareness Subcommittee
DESCRIPTION:Virtual Meeting via Teams\, click here to join.
URL:https://wp.sbcounty.gov/dbh/event/disabilities-awareness-subcommittee/2026-05-14/
END:VEVENT
BEGIN:VEVENT
DTSTART;TZID=America/Los_Angeles:20260515T183000
DTEND;TZID=America/Los_Angeles:20260515T200000
DTSTAMP:20260421T194317
CREATED:20260417T212835Z
LAST-MODIFIED:20260417T221223Z
UID:10007870-1778869800-1778875200@wp.sbcounty.gov
SUMMARY:Meet the Artist Reception
DESCRIPTION:Meet the Artist \nJoin us Friday\, May 15 \n\nIn recognition of Mental Health Awareness Month in May\, the San Bernardino County Department of Behavioral Health is proud to host the 2026 Meet the Artist Exhibition\, celebrating creativity\, expression\, and the importance of mental health and wellbeing at every stage of life. \n\nThis special free event will showcase original artwork created by emerging artists whose pieces reflect themes of mental health\, healing\, and suicide prevention awareness. The exhibition will feature a variety of mediums\, including visual art\, digital art\, and poetry. \nCommunity members are invited to attend the Meet the Artist Exhibition to experience the artwork\, meet the artists\, and engage in meaningful conversations about mental health through creative expression. \nA reception will be held during the exhibition opening\, and everyone is welcome to attend and support the participating artists. \n\nView the Meet the Artist Flyer. RSVP Now!
URL:https://wp.sbcounty.gov/dbh/event/meet-the-artist-reception/
LOCATION:Fontana Lewis Library & Technology Center\, 8437 Sierra Avenue\, Fontana\, 92335\, United States
ATTACH;FMTTYPE=image/png:https://wp.sbcounty.gov/dbh/wp-content/uploads/sites/121/Meet-the-Artist-FINAL-3.25.25-12-Website-Featured-Image.bak_.png
GEO:34.1006454;-117.4350481
X-APPLE-STRUCTURED-LOCATION;VALUE=URI;X-ADDRESS=Fontana Lewis Library & Technology Center 8437 Sierra Avenue Fontana 92335 United States;X-APPLE-RADIUS=500;X-TITLE=8437 Sierra Avenue:geo:-117.4350481,34.1006454
END:VEVENT
BEGIN:VEVENT
DTSTART;TZID=America/Los_Angeles:20260518T140000
DTEND;TZID=America/Los_Angeles:20260518T153000
DTSTAMP:20260421T194317
CREATED:20260402T172828Z
LAST-MODIFIED:20260402T172828Z
UID:10007589-1779112800-1779118200@wp.sbcounty.gov
SUMMARY:African American Awareness Subcommittee
DESCRIPTION:Virtual meeting via Teams\, click here to join. \n 
URL:https://wp.sbcounty.gov/dbh/event/african-american-awareness-subcommittee-2/2026-05-18/
END:VEVENT
BEGIN:VEVENT
DTSTART;TZID=America/Los_Angeles:20260519T140000
DTEND;TZID=America/Los_Angeles:20260519T153000
DTSTAMP:20260421T194317
CREATED:20260402T174301Z
LAST-MODIFIED:20260402T174301Z
UID:10007715-1779199200-1779204600@wp.sbcounty.gov
SUMMARY:Native American Awareness Subcommittee
DESCRIPTION:Virtual meeting via Teams\, click here to join.
URL:https://wp.sbcounty.gov/dbh/event/native-american-awareness-subcommittee-2/2026-05-19/
END:VEVENT
BEGIN:VEVENT
DTSTART;TZID=America/Los_Angeles:20260520T080000
DTEND;TZID=America/Los_Angeles:20260520T170000
DTSTAMP:20260421T194317
CREATED:20260401T224654Z
LAST-MODIFIED:20260401T224754Z
UID:10007583-1779264000-1779296400@wp.sbcounty.gov
SUMMARY:Mental Health First Aid
DESCRIPTION:Mental Health First Aid teaches individuals how to identify\, understand\, and respond to the signs of a mental health challenge. The training gives people the skills necessary to reach out to someone experiencing a mental health challenge and get them connected to the help that they need. \nClick here for more information \nClick here to register \nDBHCEPTraining@dbh.sbcounty.gov
URL:https://wp.sbcounty.gov/dbh/event/mental-health-first-aid-4/
LOCATION:550\, 550 E Hospitality Ln\, San Bernardino\, CA\, 92408\, United States
ATTACH;FMTTYPE=image/png:https://wp.sbcounty.gov/dbh/wp-content/uploads/sites/121/Screenshot-2025-06-10-100524.bak_.png
END:VEVENT
BEGIN:VEVENT
DTSTART;TZID=America/Los_Angeles:20260520T140000
DTEND;TZID=America/Los_Angeles:20260520T150000
DTSTAMP:20260421T194317
CREATED:20260402T180327Z
LAST-MODIFIED:20260402T180327Z
UID:10007787-1779285600-1779289200@wp.sbcounty.gov
SUMMARY:Transitional Age Youth (TAY) Awareness Subcommittee
DESCRIPTION:Virtual meeting via Teams\, click here to join.
URL:https://wp.sbcounty.gov/dbh/event/transitional-age-youth-tay-awareness-subcommittee-2/2026-05-20/
END:VEVENT
BEGIN:VEVENT
DTSTART;TZID=America/Los_Angeles:20260521T100000
DTEND;TZID=America/Los_Angeles:20260521T120000
DTSTAMP:20260421T194317
CREATED:20260330T163324Z
LAST-MODIFIED:20260330T163324Z
UID:10007577-1779357600-1779364800@wp.sbcounty.gov
SUMMARY:Community Advisory Committee (CPAC) Meeting
DESCRIPTION:Please join us for our monthly Community Policy Advisory Committee (CPAC) Meeting. Held on the third Thursday of every month\, 10:00 a.m. – noon. The meeting is to provide updates on the Behavioral Health Service Act (BHSA) legislation and BHSA funded programs. Stakeholder feedback is gathered for program input. \nThe May CPAC meeting will be presented In-Person ONLY. If you speak another language\, language assistance services are available to you free of charge by dialing (888) 743-1478. TTY users dial 711. DBH complies with applicable federal\, civil rights laws and does not discriminate on the basis of race\, color\, national origin\, sex\, gender identity\, age\, disability\, or LEP.
URL:https://wp.sbcounty.gov/dbh/event/community-advisory-committee-cpac-meeting/
LOCATION:Inland Regional Center (IRC) Conference Building\, 1425 South Waterman Ave\, San Bernardino\, CA\, 92408\, United States
ATTACH;FMTTYPE=image/jpeg:https://wp.sbcounty.gov/dbh/wp-content/uploads/sites/121/2025/11/LEAP-Community-Education.jpg
END:VEVENT
BEGIN:VEVENT
DTSTART;TZID=America/Denver:20260521T130000
DTEND;TZID=America/Denver:20260521T143000
DTSTAMP:20260421T194317
CREATED:20241008T173657Z
LAST-MODIFIED:20251117T171324Z
UID:10007414-1779368400-1779373800@wp.sbcounty.gov
SUMMARY:Cultural Competency Advisory Committee (CCAC) Meeting
DESCRIPTION:The Cultural Competency Advisory Committee (CCAC) serves as an advisory group to the San Bernardino County Department of Behavioral Health (DBH). \n3rd Thursday of the month 1 – 2:30 p.m.\nhttps://bit.ly/422xx2K\nMeeting ID: 255 553 890 216\nPasscode: YU9mo9wv \nFor questions\, please contact the Office of Equity and Inclusion 909-252-5150 or by email cultural_competency@dbh.sbcounty.gov \n 
URL:https://wp.sbcounty.gov/dbh/event/cultural-competency-advisory-committee-ccac-meeting-5-2/2026-05-21/
CATEGORIES:Events,Meetings
ATTACH;FMTTYPE=image/png:https://wp.sbcounty.gov/dbh/wp-content/uploads/sites/121/2023/05/CCAC-Subcommittee.png
END:VEVENT
BEGIN:VEVENT
DTSTART;TZID=America/Los_Angeles:20260525T110000
DTEND;TZID=America/Los_Angeles:20260525T120000
DTSTAMP:20260421T194317
CREATED:20260402T173311Z
LAST-MODIFIED:20260402T173311Z
UID:10007625-1779706800-1779710400@wp.sbcounty.gov
SUMMARY:Consumer and Family Members Awareness Subcommittee
DESCRIPTION:Hybrid meeting\nVia Teams: click here to join.\nIn Person: Rotating location. Please contact OEI for details. \ncultural_competency@dbh.subcounty.gov
URL:https://wp.sbcounty.gov/dbh/event/consumer-and-family-members-awareness-subcommittee/2026-05-25/
END:VEVENT
BEGIN:VEVENT
DTSTART;TZID=America/Los_Angeles:20260526T123000
DTEND;TZID=America/Los_Angeles:20260526T140000
DTSTAMP:20260421T194317
CREATED:20260402T173933Z
LAST-MODIFIED:20260402T173933Z
UID:10007679-1779798600-1779804000@wp.sbcounty.gov
SUMMARY:LGBTQ Awareness Subcommittee
DESCRIPTION:Virtual meeting via Teams\, click here to join.
URL:https://wp.sbcounty.gov/dbh/event/lgbtq-awareness-subcommittee-2/2026-05-26/
END:VEVENT
BEGIN:VEVENT
DTSTART;TZID=America/Los_Angeles:20260527T080000
DTEND;TZID=America/Los_Angeles:20260527T170000
DTSTAMP:20260421T194317
CREATED:20260223T212131Z
LAST-MODIFIED:20260223T212131Z
UID:10007461-1779868800-1779901200@wp.sbcounty.gov
SUMMARY:Mental Health First Aid
DESCRIPTION:Mental Health First Aid teaches individuals how to identify\, understand\, and respond to the signs of a mental health challenge. \nThe training gives people the skills necessary to reach out to someone experiencing a mental health challenge and get them connected to the help that they need. \nFor more information\, click here \nTo register\, click here
URL:https://wp.sbcounty.gov/dbh/event/mental-health-first-aid-2/
LOCATION:Hesperia Police Department\, 15840 Smoke Treet St\, Hesperia\, CA\, 92345\, United States
ATTACH;FMTTYPE=image/jpeg:https://wp.sbcounty.gov/dbh/wp-content/uploads/sites/121/istockphoto-1180264796-612x612-1.bak_.bak_-1.jpg
END:VEVENT
BEGIN:VEVENT
DTSTART;TZID=America/Los_Angeles:20260527T130000
DTEND;TZID=America/Los_Angeles:20260527T150000
DTSTAMP:20260421T194317
CREATED:20260402T180558Z
LAST-MODIFIED:20260402T180558Z
UID:10007823-1779886800-1779894000@wp.sbcounty.gov
SUMMARY:Women's Awareness Subcommittee
DESCRIPTION:Virtual meeting via Teams\, click here to join.
URL:https://wp.sbcounty.gov/dbh/event/womens-awareness-subcommittee-2/2026-05-27/
END:VEVENT
BEGIN:VEVENT
DTSTART;TZID=America/Los_Angeles:20260528T090000
DTEND;TZID=America/Los_Angeles:20260528T123000
DTSTAMP:20260421T194317
CREATED:20260402T195637Z
LAST-MODIFIED:20260402T195637Z
UID:10007838-1779958800-1779971400@wp.sbcounty.gov
SUMMARY:SafeTALK - City of Fontana
DESCRIPTION:SafeTALK\nIn this free three-hour training\, participants will learn how to to recognize and support a person with thoughts of suicide. Participants will become a: “safeTALK-trained suicide alert helper.” Over the course of training\, participants will learn to: \n\n\n\nNotice and respond to situations where suicide thoughts might be present\nRecognize that invitations for help are often overlooked\nMove beyond the common tendency to miss\, dismiss\, and avoid suicide\nApply the TALK steps: Tell\, Ask\, Listen\, and Keep Safe\nKnow community resources\n\nRegister HERE\nFor questions please email: DBHOSP@DBH.SBCOUNTY.GOV or CALL (909) 387-6221
URL:https://wp.sbcounty.gov/dbh/event/safetalk-city-of-fontana-2/
LOCATION:Steelworker’s Auditorium\, 8437 Sierra Ave\, Fontana\, 92335\, United States
CATEGORIES:Trainings
ATTACH;FMTTYPE=image/png:https://wp.sbcounty.gov/dbh/wp-content/uploads/sites/121/Screenshot-2025-06-10-100524-1.bak_.png
END:VEVENT
BEGIN:VEVENT
DTSTART;TZID=America/Los_Angeles:20260528T100000
DTEND;TZID=America/Los_Angeles:20260528T113000
DTSTAMP:20260421T194317
CREATED:20260402T173749Z
LAST-MODIFIED:20260402T173749Z
UID:10007661-1779962400-1779967800@wp.sbcounty.gov
SUMMARY:Latino Awareness Subcommittee
DESCRIPTION:Virtual meeting via Teams\, click here to join.
URL:https://wp.sbcounty.gov/dbh/event/latino-awareness-subcommittee/2026-05-28/
END:VEVENT
BEGIN:VEVENT
DTSTART;TZID=America/Los_Angeles:20260528T100000
DTEND;TZID=America/Los_Angeles:20260528T113000
DTSTAMP:20260421T194317
CREATED:20260402T175128Z
LAST-MODIFIED:20260402T175128Z
UID:10007733-1779962400-1779967800@wp.sbcounty.gov
SUMMARY:Older Adults Awareness Subcommittee
DESCRIPTION:Virtual meeting via Teams\, click here to join.
URL:https://wp.sbcounty.gov/dbh/event/older-adults-awareness-subcommittee-2/2026-05-28/
END:VEVENT
BEGIN:VEVENT
DTSTART;TZID=America/Los_Angeles:20260601T150000
DTEND;TZID=America/Los_Angeles:20260601T163000
DTSTAMP:20260421T194317
CREATED:20260402T180458Z
LAST-MODIFIED:20260402T180458Z
UID:10007808-1780326000-1780331400@wp.sbcounty.gov
SUMMARY:Veterans Awareness Subcommittee
DESCRIPTION:Virtual meeting via Teams\, click here to join.
URL:https://wp.sbcounty.gov/dbh/event/veterans-awareness-subcommittee/2026-06-01/
END:VEVENT
BEGIN:VEVENT
DTSTART;TZID=America/Los_Angeles:20260608T100000
DTEND;TZID=America/Los_Angeles:20260608T113000
DTSTAMP:20260421T194317
CREATED:20260402T175826Z
LAST-MODIFIED:20260402T175826Z
UID:10007772-1780912800-1780918200@wp.sbcounty.gov
SUMMARY:Suicide Prevention Awareness Subcommittee
DESCRIPTION:Virtual meeting via Teams\, click here to join.
URL:https://wp.sbcounty.gov/dbh/event/suicide-prevention-awareness-subcommittee-2/2026-06-08/
END:VEVENT
BEGIN:VEVENT
DTSTART;TZID=America/Los_Angeles:20260609T130000
DTEND;TZID=America/Los_Angeles:20260609T143000
DTSTAMP:20260421T194317
CREATED:20260402T175720Z
LAST-MODIFIED:20260407T154304Z
UID:10007847-1781010000-1781015400@wp.sbcounty.gov
SUMMARY:Spirituality Awareness Subcommittee
DESCRIPTION:Virtual meeting via Teams\, click here to join.
URL:https://wp.sbcounty.gov/dbh/event/spirituality-awareness-subcommittee-2/2026-06-09/
END:VEVENT
BEGIN:VEVENT
DTSTART;TZID=America/Los_Angeles:20260610T100000
DTEND;TZID=America/Los_Angeles:20260610T113000
DTSTAMP:20260421T194317
CREATED:20260402T174203Z
LAST-MODIFIED:20260402T174203Z
UID:10007700-1781085600-1781091000@wp.sbcounty.gov
SUMMARY:Mental Health and Substance Use Awareness Subcommittee
DESCRIPTION:Virtual meeting via Teams\, click here to join.
URL:https://wp.sbcounty.gov/dbh/event/mental-health-and-substance-use-awareness-subcommittee-3/2026-06-10/
END:VEVENT
BEGIN:VEVENT
DTSTART;TZID=America/Los_Angeles:20260611T100000
DTEND;TZID=America/Los_Angeles:20260611T113000
DTSTAMP:20260421T194317
CREATED:20260402T173519Z
LAST-MODIFIED:20260402T173519Z
UID:10007646-1781172000-1781177400@wp.sbcounty.gov
SUMMARY:Disabilities Awareness Subcommittee
DESCRIPTION:Virtual Meeting via Teams\, click here to join.
URL:https://wp.sbcounty.gov/dbh/event/disabilities-awareness-subcommittee/2026-06-11/
END:VEVENT
BEGIN:VEVENT
DTSTART;TZID=America/Los_Angeles:20260612T100000
DTEND;TZID=America/Los_Angeles:20260612T113000
DTSTAMP:20260421T194317
CREATED:20260402T172951Z
LAST-MODIFIED:20260402T172951Z
UID:10007610-1781258400-1781263800@wp.sbcounty.gov
SUMMARY:Asian Pacific Islander Awareness Subcommittee
DESCRIPTION:Virtual meeting via Teams\, click here to join.
URL:https://wp.sbcounty.gov/dbh/event/asian-pacific-islander-awareness-subcommittee/2026-06-12/
END:VEVENT
BEGIN:VEVENT
DTSTART;TZID=America/Los_Angeles:20260615T140000
DTEND;TZID=America/Los_Angeles:20260615T153000
DTSTAMP:20260421T194317
CREATED:20260402T172828Z
LAST-MODIFIED:20260402T172828Z
UID:10007592-1781532000-1781537400@wp.sbcounty.gov
SUMMARY:African American Awareness Subcommittee
DESCRIPTION:Virtual meeting via Teams\, click here to join. \n 
URL:https://wp.sbcounty.gov/dbh/event/african-american-awareness-subcommittee-2/2026-06-15/
END:VEVENT
BEGIN:VEVENT
DTSTART;TZID=America/Los_Angeles:20260616T140000
DTEND;TZID=America/Los_Angeles:20260616T153000
DTSTAMP:20260421T194317
CREATED:20260402T174301Z
LAST-MODIFIED:20260402T174301Z
UID:10007718-1781618400-1781623800@wp.sbcounty.gov
SUMMARY:Native American Awareness Subcommittee
DESCRIPTION:Virtual meeting via Teams\, click here to join.
URL:https://wp.sbcounty.gov/dbh/event/native-american-awareness-subcommittee-2/2026-06-16/
END:VEVENT
BEGIN:VEVENT
DTSTART;TZID=America/Los_Angeles:20260617T140000
DTEND;TZID=America/Los_Angeles:20260617T150000
DTSTAMP:20260421T194317
CREATED:20260402T180327Z
LAST-MODIFIED:20260402T180327Z
UID:10007790-1781704800-1781708400@wp.sbcounty.gov
SUMMARY:Transitional Age Youth (TAY) Awareness Subcommittee
DESCRIPTION:Virtual meeting via Teams\, click here to join.
URL:https://wp.sbcounty.gov/dbh/event/transitional-age-youth-tay-awareness-subcommittee-2/2026-06-17/
END:VEVENT
BEGIN:VEVENT
DTSTART;TZID=America/Los_Angeles:20260618T100000
DTEND;TZID=America/Los_Angeles:20260618T120000
DTSTAMP:20260421T194317
CREATED:20260330T170119Z
LAST-MODIFIED:20260330T170119Z
UID:10007580-1781776800-1781784000@wp.sbcounty.gov
SUMMARY:Community Policy Advisory Committee (CPAC) Meeting
DESCRIPTION:Please join us for our monthly Community Policy Advisory Committee (CPAC) Meeting. Held on the third Thursday of every month\, 10:00 a.m. – noon. The meeting is to provide updates on the Behavioral Health Service Act (BHSA) legislation and BHSA funded programs. Stakeholder feedback is gathered for program input. \nThe June CPAC meeting will be VIRTUAL ONLY.  If you speak another language\, language assistance services are available to you free of charge by dialing (888) 743-1478. TTY users dial 711. DBH complies with applicable federal\, civil rights laws and does not discriminate on the basis of race\, color\, national origin\, sex\, gender identity\, age\, disability\, or LEP. \nJoin meeting by pressing here
URL:https://wp.sbcounty.gov/dbh/event/community-policy-advisory-committee-cpac-meeting-3/
ATTACH;FMTTYPE=image/png:https://wp.sbcounty.gov/dbh/wp-content/uploads/sites/121/Grave-Diability-Observations.bak_.png
END:VEVENT
BEGIN:VEVENT
DTSTART;TZID=America/Denver:20260618T130000
DTEND;TZID=America/Denver:20260618T143000
DTSTAMP:20260421T194317
CREATED:20241008T173657Z
LAST-MODIFIED:20251117T171324Z
UID:10007417-1781787600-1781793000@wp.sbcounty.gov
SUMMARY:Cultural Competency Advisory Committee (CCAC) Meeting
DESCRIPTION:The Cultural Competency Advisory Committee (CCAC) serves as an advisory group to the San Bernardino County Department of Behavioral Health (DBH). \n3rd Thursday of the month 1 – 2:30 p.m.\nhttps://bit.ly/422xx2K\nMeeting ID: 255 553 890 216\nPasscode: YU9mo9wv \nFor questions\, please contact the Office of Equity and Inclusion 909-252-5150 or by email cultural_competency@dbh.sbcounty.gov \n 
URL:https://wp.sbcounty.gov/dbh/event/cultural-competency-advisory-committee-ccac-meeting-5-2/2026-06-18/
CATEGORIES:Events,Meetings
ATTACH;FMTTYPE=image/png:https://wp.sbcounty.gov/dbh/wp-content/uploads/sites/121/2023/05/CCAC-Subcommittee.png
END:VEVENT
BEGIN:VEVENT
DTSTART;TZID=America/Los_Angeles:20260622T110000
DTEND;TZID=America/Los_Angeles:20260622T120000
DTSTAMP:20260421T194317
CREATED:20260402T173311Z
LAST-MODIFIED:20260402T173311Z
UID:10007628-1782126000-1782129600@wp.sbcounty.gov
SUMMARY:Consumer and Family Members Awareness Subcommittee
DESCRIPTION:Hybrid meeting\nVia Teams: click here to join.\nIn Person: Rotating location. Please contact OEI for details. \ncultural_competency@dbh.subcounty.gov
URL:https://wp.sbcounty.gov/dbh/event/consumer-and-family-members-awareness-subcommittee/2026-06-22/
END:VEVENT
BEGIN:VEVENT
DTSTART;TZID=America/Los_Angeles:20260623T123000
DTEND;TZID=America/Los_Angeles:20260623T140000
DTSTAMP:20260421T194317
CREATED:20260402T173933Z
LAST-MODIFIED:20260402T173933Z
UID:10007682-1782217800-1782223200@wp.sbcounty.gov
SUMMARY:LGBTQ Awareness Subcommittee
DESCRIPTION:Virtual meeting via Teams\, click here to join.
URL:https://wp.sbcounty.gov/dbh/event/lgbtq-awareness-subcommittee-2/2026-06-23/
END:VEVENT
BEGIN:VEVENT
DTSTART;TZID=America/Los_Angeles:20260624T130000
DTEND;TZID=America/Los_Angeles:20260624T150000
DTSTAMP:20260421T194317
CREATED:20260402T180558Z
LAST-MODIFIED:20260402T180558Z
UID:10007826-1782306000-1782313200@wp.sbcounty.gov
SUMMARY:Women's Awareness Subcommittee
DESCRIPTION:Virtual meeting via Teams\, click here to join.
URL:https://wp.sbcounty.gov/dbh/event/womens-awareness-subcommittee-2/2026-06-24/
END:VEVENT
BEGIN:VEVENT
DTSTART;TZID=America/Los_Angeles:20260625T100000
DTEND;TZID=America/Los_Angeles:20260625T113000
DTSTAMP:20260421T194317
CREATED:20260402T173749Z
LAST-MODIFIED:20260402T173749Z
UID:10007664-1782381600-1782387000@wp.sbcounty.gov
SUMMARY:Latino Awareness Subcommittee
DESCRIPTION:Virtual meeting via Teams\, click here to join.
URL:https://wp.sbcounty.gov/dbh/event/latino-awareness-subcommittee/2026-06-25/
END:VEVENT
END:VCALENDAR