BEGIN:VCALENDAR
VERSION:2.0
PRODID:-//DBH Internet Website - ECPv6.15.14//NONSGML v1.0//EN
CALSCALE:GREGORIAN
METHOD:PUBLISH
X-WR-CALNAME:DBH Internet Website
X-ORIGINAL-URL:https://wp.sbcounty.gov/dbh
X-WR-CALDESC:Events for DBH Internet Website
REFRESH-INTERVAL;VALUE=DURATION:PT1H
X-Robots-Tag:noindex
X-PUBLISHED-TTL:PT1H
BEGIN:VTIMEZONE
TZID:America/Los_Angeles
BEGIN:DAYLIGHT
TZOFFSETFROM:-0800
TZOFFSETTO:-0700
TZNAME:PDT
DTSTART:20250309T100000
END:DAYLIGHT
BEGIN:STANDARD
TZOFFSETFROM:-0700
TZOFFSETTO:-0800
TZNAME:PST
DTSTART:20251102T090000
END:STANDARD
BEGIN:DAYLIGHT
TZOFFSETFROM:-0800
TZOFFSETTO:-0700
TZNAME:PDT
DTSTART:20260308T100000
END:DAYLIGHT
BEGIN:STANDARD
TZOFFSETFROM:-0700
TZOFFSETTO:-0800
TZNAME:PST
DTSTART:20261101T090000
END:STANDARD
BEGIN:DAYLIGHT
TZOFFSETFROM:-0800
TZOFFSETTO:-0700
TZNAME:PDT
DTSTART:20270314T100000
END:DAYLIGHT
BEGIN:STANDARD
TZOFFSETFROM:-0700
TZOFFSETTO:-0800
TZNAME:PST
DTSTART:20271107T090000
END:STANDARD
END:VTIMEZONE
BEGIN:VTIMEZONE
TZID:America/Denver
BEGIN:DAYLIGHT
TZOFFSETFROM:-0700
TZOFFSETTO:-0600
TZNAME:MDT
DTSTART:20250309T090000
END:DAYLIGHT
BEGIN:STANDARD
TZOFFSETFROM:-0600
TZOFFSETTO:-0700
TZNAME:MST
DTSTART:20251102T080000
END:STANDARD
BEGIN:DAYLIGHT
TZOFFSETFROM:-0700
TZOFFSETTO:-0600
TZNAME:MDT
DTSTART:20260308T090000
END:DAYLIGHT
BEGIN:STANDARD
TZOFFSETFROM:-0600
TZOFFSETTO:-0700
TZNAME:MST
DTSTART:20261101T080000
END:STANDARD
BEGIN:DAYLIGHT
TZOFFSETFROM:-0700
TZOFFSETTO:-0600
TZNAME:MDT
DTSTART:20270314T090000
END:DAYLIGHT
BEGIN:STANDARD
TZOFFSETFROM:-0600
TZOFFSETTO:-0700
TZNAME:MST
DTSTART:20271107T080000
END:STANDARD
END:VTIMEZONE
BEGIN:VEVENT
DTSTART;TZID=America/Los_Angeles:20260112T100000
DTEND;TZID=America/Los_Angeles:20260112T113000
DTSTAMP:20260422T153654
CREATED:20251230T173223Z
LAST-MODIFIED:20251230T173223Z
UID:10007405-1768212000-1768217400@wp.sbcounty.gov
SUMMARY:Suicide Prevention Awareness Subcommittee
DESCRIPTION:Please join us at an upcoming stakeholder engagement meeting! Get information on the Behavioral Health services Ats (BHSA) and the BHSA Integrated Plan for fiscal years 2026/27-2028/29. \nJoin Meeting: https://tinyurl.com/y2aspmab \nMeeting ID: 234 618 474 907 \nPasscode: gm9Pt26p
URL:https://wp.sbcounty.gov/dbh/event/suicide-prevention-awareness-subcommittee/
LOCATION:https://tinyurl.com/y2aspmab
CATEGORIES:Events
ATTACH;FMTTYPE=image/png:https://wp.sbcounty.gov/dbh/wp-content/uploads/sites/121/BHSA-PLANNING-MEETING-1920x1080-1.png
END:VEVENT
BEGIN:VEVENT
DTSTART;TZID=America/Los_Angeles:20260113T130000
DTEND;TZID=America/Los_Angeles:20260113T143000
DTSTAMP:20260422T153654
CREATED:20251230T173603Z
LAST-MODIFIED:20251230T174824Z
UID:10007408-1768309200-1768314600@wp.sbcounty.gov
SUMMARY:Spirituality Awareness Subcommittee
DESCRIPTION:Please join us at an upcoming stakeholder engagement meeting! Get information on the Behavioral Health services Ats (BHSA) and the BHSA Integrated Plan for fiscal years 2026/27-2028/29. \nJoin Meeting: https://tinyurl.com/43j3zcwu \nMeeting ID: 271 308 778 728 \nPasscode: 4zU24i4s
URL:https://wp.sbcounty.gov/dbh/event/spirituality-awareness-subcommittee/
LOCATION:https://tinyurl.com/43j3zcwu
CATEGORIES:Events
ATTACH;FMTTYPE=image/png:https://wp.sbcounty.gov/dbh/wp-content/uploads/sites/121/BHSA-PLANNING-MEETING-1920x1080-1.png
END:VEVENT
BEGIN:VEVENT
DTSTART;TZID=America/Los_Angeles:20260114T100000
DTEND;TZID=America/Los_Angeles:20260114T113000
DTSTAMP:20260422T153654
CREATED:20251230T173957Z
LAST-MODIFIED:20251230T174842Z
UID:10007411-1768384800-1768390200@wp.sbcounty.gov
SUMMARY:Mental Health and Substance Use Awareness Subcommittee
DESCRIPTION:Please join us at an upcoming stakeholder engagement meeting! Get information on the Behavioral Health services Ats (BHSA) and the BHSA Integrated Plan for fiscal years 2026/27-2028/29. \nJoin Meeting: https://tinyurl.com/55hsz6f5 \nMeeting ID: 295 312 272 03 \nPasscode: 2z99Kr2J
URL:https://wp.sbcounty.gov/dbh/event/mental-health-and-substance-use-awareness-subcommittee-2/
LOCATION:https://tinyurl.com/55hsz6f5
CATEGORIES:Events
ATTACH;FMTTYPE=image/png:https://wp.sbcounty.gov/dbh/wp-content/uploads/sites/121/BHSA-PLANNING-MEETING-1920x1080-1.png
END:VEVENT
BEGIN:VEVENT
DTSTART;TZID=America/Los_Angeles:20260114T130000
DTEND;TZID=America/Los_Angeles:20260114T170000
DTSTAMP:20260422T153654
CREATED:20251216T181014Z
LAST-MODIFIED:20251216T221407Z
UID:10007400-1768395600-1768410000@wp.sbcounty.gov
SUMMARY:LEAP (Listen-Empathize-Agree-Partner) - Community Education Program
DESCRIPTION:LEAP (Listen-Empathize-Agree-Partner) is a set of evidence-based practices that create therapeutic alliances and trusting relationships with people suffering from severe mental illness. Designed to build and strengthen mutual respect\, it helps people who are non-adherent\, or partially adherent\, to become more cooperative and engaged in treatment and services\, including medication\, psychotherapy\, psychosocial programs\, club houses\, peer-support\, and supervised housing. \nTraining Goals: \n\nIdentify anosognosia vs. denial\nReduce defensiveness\, anger\, and resistance\nGain cooperation and compliance\nRe-establish trust and develop relationships\nCreate an alliance with the mentally ill person and work towards common goals\n\nContact Information: DBHCEPTraining@dbh.sbcounty.gov \n01.14.26-LEAP-Flyer
URL:https://wp.sbcounty.gov/dbh/event/leap-listen-empathize-agree-partner-community-education-program/
LOCATION:303 E Vanderbilt Way\, San Bernardino – Conference Room 109\, 303 E Vanderbilt Way\, San Bernardino\, CA\, 92408\, United States
ATTACH;FMTTYPE=image/jpeg:https://wp.sbcounty.gov/dbh/wp-content/uploads/sites/121/2025/11/LEAP-Community-Education.jpg
END:VEVENT
BEGIN:VEVENT
DTSTART;TZID=America/Los_Angeles:20260115T100000
DTEND;TZID=America/Los_Angeles:20260115T130000
DTSTAMP:20260422T153654
CREATED:20251212T232550Z
LAST-MODIFIED:20251230T174906Z
UID:10007397-1768471200-1768482000@wp.sbcounty.gov
SUMMARY:Behavioral Health Services Act (BHSA) Community Program Planning Meeting
DESCRIPTION:Behavioral Health Services Act (BHSA) Community Program Planning Meeting \nThursday\, January 15th at 10 a.m. – 1 p.m. \nBehavioral Health Services Auditorium | 850 E. Foothill Blvd.\, Rialto\, 92376 \nThis is your opportunity to be heard! DBH is hosting this important meeting to connect with community members and stakeholders\, gather feedback\, and shape priorities for behavioral health services across San Bernardino County. \nWhether you’re a resident\, provider\, advocate\, or community partner—your voice matters. Help us build a stronger\, healthier community together.
URL:https://wp.sbcounty.gov/dbh/event/behavioral-health-services-act-bhsa-community-program-planning-meeting/
LOCATION:850 E. Foothill Blvd.\, Rialto\, CA 92376\, 850 E. Foothill Blvd.\, Rialto\, 92376\, United States
CATEGORIES:Events
ATTACH;FMTTYPE=image/png:https://wp.sbcounty.gov/dbh/wp-content/uploads/sites/121/BHSA-PLANNING-MEETING-1920x1080-1.png
END:VEVENT
BEGIN:VEVENT
DTSTART;TZID=America/Denver:20260115T130000
DTEND;TZID=America/Denver:20260115T143000
DTSTAMP:20260422T153654
CREATED:20251230T174119Z
LAST-MODIFIED:20251230T174119Z
UID:10007261-1768482000-1768487400@wp.sbcounty.gov
SUMMARY:Cultural Competency Advisory Committee (CCAC) Meeting
DESCRIPTION:The Cultural Competency Advisory Committee (CCAC) serves as an advisory group to the San Bernardino County Department of Behavioral Health (DBH). \n3rd Thursday of the month 1 – 2:30 p.m.\nhttps://bit.ly/422xx2K\nMeeting ID: 255 553 890 216\nPasscode: YU9mo9wv \nFor questions\, please contact the Office of Equity and Inclusion 909-252-5150 or by email cultural_competency@dbh.sbcounty.gov \n 
URL:https://wp.sbcounty.gov/dbh/event/cultural-competency-advisory-committee-ccac-meeting-5-2-2/
LOCATION:CA
CATEGORIES:Events,Meetings
ATTACH;FMTTYPE=image/png:https://wp.sbcounty.gov/dbh/wp-content/uploads/sites/121/BHSA-PLANNING-MEETING-1920x1080-1.png
END:VEVENT
BEGIN:VEVENT
DTSTART;TZID=America/Los_Angeles:20260117T110000
DTEND;TZID=America/Los_Angeles:20260117T120000
DTSTAMP:20260422T153654
CREATED:20251230T174432Z
LAST-MODIFIED:20251230T174744Z
UID:10007420-1768647600-1768651200@wp.sbcounty.gov
SUMMARY:Mental Health Services Act (MHSA) Administration Meeting
DESCRIPTION:Please join us at an upcoming stakeholder engagement meeting! Get information on the Behavioral Health services Ats (BHSA) and the BHSA Integrated Plan for fiscal years 2026/27-2028/29. \nJoin Meeting: https://bit.ly/4p7zP9f \nMeeting ID: 297 109 380 768 74 \nPasscode: rs3U4Dm2
URL:https://wp.sbcounty.gov/dbh/event/mental-health-services-act-mhsa-administration-meeting/
LOCATION:https://bit.ly/4p7zP9f
CATEGORIES:Events
ATTACH;FMTTYPE=image/png:https://wp.sbcounty.gov/dbh/wp-content/uploads/sites/121/BHSA-PLANNING-MEETING-1920x1080-1.png
END:VEVENT
BEGIN:VEVENT
DTSTART;TZID=America/Los_Angeles:20260120T110000
DTEND;TZID=America/Los_Angeles:20260120T120000
DTSTAMP:20260422T153654
CREATED:20251230T174721Z
LAST-MODIFIED:20251230T174721Z
UID:10007423-1768906800-1768910400@wp.sbcounty.gov
SUMMARY:MHSA Administration Morning Meeting
DESCRIPTION:Please join us at an upcoming stakeholder engagement meeting! Get information on the Behavioral Health services Ats (BHSA) and the BHSA Integrated Plan for fiscal years 2026/27-2028/29. \nJoin Meeting: https://tinyurl.com/yfa7uuun \nMeeting ID: 226 907 757 829 49 \nPasscode: 4sd3Pg22
URL:https://wp.sbcounty.gov/dbh/event/mhsa-administration-morning-meeting/
LOCATION:https://tinyurl.com/yfa7uuun
CATEGORIES:Events
ATTACH;FMTTYPE=image/png:https://wp.sbcounty.gov/dbh/wp-content/uploads/sites/121/BHSA-PLANNING-MEETING-1920x1080-1.png
END:VEVENT
BEGIN:VEVENT
DTSTART;TZID=America/Los_Angeles:20260120T140000
DTEND;TZID=America/Los_Angeles:20260120T153000
DTSTAMP:20260422T153654
CREATED:20251230T175237Z
LAST-MODIFIED:20251230T175237Z
UID:10007426-1768917600-1768923000@wp.sbcounty.gov
SUMMARY:Native American Awareness Subcommittee
DESCRIPTION:Please join us at an upcoming stakeholder engagement meeting! Get information on the Behavioral Health services Ats (BHSA) and the BHSA Integrated Plan for fiscal years 2026/27-2028/29. \nJoin Meeting: https://tinyurl.com/cee59cth \nMeeting ID: 295 312 272 03 \nPasscode: 2z99Kr2J
URL:https://wp.sbcounty.gov/dbh/event/native-american-awareness-subcommittee/
LOCATION:https://tinyurl.com/cee59cth
CATEGORIES:Events
ATTACH;FMTTYPE=image/png:https://wp.sbcounty.gov/dbh/wp-content/uploads/sites/121/BHSA-PLANNING-MEETING-1920x1080-1.png
END:VEVENT
BEGIN:VEVENT
DTSTART;TZID=America/Los_Angeles:20260121T140000
DTEND;TZID=America/Los_Angeles:20260121T150000
DTSTAMP:20260422T153654
CREATED:20251230T175522Z
LAST-MODIFIED:20251230T175522Z
UID:10007429-1769004000-1769007600@wp.sbcounty.gov
SUMMARY:Transitional Age Youth (TAY) Awareness Subcommittee
DESCRIPTION:Please join us at an upcoming stakeholder engagement meeting! Get information on the Behavioral Health services Ats (BHSA) and the BHSA Integrated Plan for fiscal years 2026/27-2028/29. \nJoin Meeting: https://tinyurl.com/2r4nh2t9 \nMeeting ID: 292 223 091 032 \nPasscode: GF6FJ3D8
URL:https://wp.sbcounty.gov/dbh/event/transitional-age-youth-tay-awareness-subcommittee/
LOCATION:https://tinyurl.com/2r4nh2t9
CATEGORIES:Events
ATTACH;FMTTYPE=image/png:https://wp.sbcounty.gov/dbh/wp-content/uploads/sites/121/BHSA-PLANNING-MEETING-1920x1080-1.png
END:VEVENT
BEGIN:VEVENT
DTSTART;TZID=America/Los_Angeles:20260122T100000
DTEND;TZID=America/Los_Angeles:20260122T113000
DTSTAMP:20260422T153654
CREATED:20251230T175828Z
LAST-MODIFIED:20251230T175828Z
UID:10007432-1769076000-1769081400@wp.sbcounty.gov
SUMMARY:Older Adults Awareness Subcommittee
DESCRIPTION:Please join us at an upcoming stakeholder engagement meeting! Get information on the Behavioral Health services Ats (BHSA) and the BHSA Integrated Plan for fiscal years 2026/27-2028/29. \nJoin Meeting: https://tinyurl.com/5ekhhdu8 \nMeeting ID: 285 102 507 890 \nPasscode: yi62fe6n
URL:https://wp.sbcounty.gov/dbh/event/older-adults-awareness-subcommittee/
LOCATION:https://tinyurl.com/5ekhhdu8
CATEGORIES:Events
ATTACH;FMTTYPE=image/png:https://wp.sbcounty.gov/dbh/wp-content/uploads/sites/121/BHSA-PLANNING-MEETING-1920x1080-1.png
END:VEVENT
BEGIN:VEVENT
DTSTART;TZID=America/Los_Angeles:20260122T163000
DTEND;TZID=America/Los_Angeles:20260122T173000
DTSTAMP:20260422T153654
CREATED:20251230T180102Z
LAST-MODIFIED:20251230T180102Z
UID:10007435-1769099400-1769103000@wp.sbcounty.gov
SUMMARY:MHSA Administration Afternoon Meeting
DESCRIPTION:Please join us at an upcoming stakeholder engagement meeting! Get information on the Behavioral Health services Ats (BHSA) and the BHSA Integrated Plan for fiscal years 2026/27-2028/29. \nJoin Meeting: https://tinyurl.com/4txw9vya \nMeeting ID: 254 461 994 518 71 \nPasscode: YV2ay2xi
URL:https://wp.sbcounty.gov/dbh/event/mhsa-administration-afternoon-meeting/
LOCATION:https://tinyurl.com/4txw9vya
CATEGORIES:Events
ATTACH;FMTTYPE=image/png:https://wp.sbcounty.gov/dbh/wp-content/uploads/sites/121/BHSA-PLANNING-MEETING-1920x1080-1.png
END:VEVENT
BEGIN:VEVENT
DTSTART;TZID=America/Los_Angeles:20260126T110000
DTEND;TZID=America/Los_Angeles:20260126T120000
DTSTAMP:20260422T153654
CREATED:20251230T180327Z
LAST-MODIFIED:20251230T180327Z
UID:10007438-1769425200-1769428800@wp.sbcounty.gov
SUMMARY:Consumer and Family Member Awareness Subcommittee
DESCRIPTION:Please join us at an upcoming stakeholder engagement meeting! Get information on the Behavioral Health services Ats (BHSA) and the BHSA Integrated Plan for fiscal years 2026/27-2028/29. \nJoin Meeting: https://tinyurl.com/u4tb9msv \nMeeting ID: 297 507 714 953 \nPasscode: id7or7yj
URL:https://wp.sbcounty.gov/dbh/event/consumer-and-family-member-awareness-subcommittee/
LOCATION:https://tinyurl.com/u4tb9msv
CATEGORIES:Events
ATTACH;FMTTYPE=image/png:https://wp.sbcounty.gov/dbh/wp-content/uploads/sites/121/BHSA-PLANNING-MEETING-1920x1080-1.png
END:VEVENT
BEGIN:VEVENT
DTSTART;TZID=America/Los_Angeles:20260126T140000
DTEND;TZID=America/Los_Angeles:20260126T153000
DTSTAMP:20260422T153654
CREATED:20251230T180555Z
LAST-MODIFIED:20251230T180555Z
UID:10007441-1769436000-1769441400@wp.sbcounty.gov
SUMMARY:African American Awareness Subcommittee
DESCRIPTION:Please join us at an upcoming stakeholder engagement meeting! Get information on the Behavioral Health services Ats (BHSA) and the BHSA Integrated Plan for fiscal years 2026/27-2028/29. \nJoin Meeting: https://tinyurl.com/bddbfkaz \nMeeting ID: 247 421 838 75 \nPasscode: EV7cx6sw
URL:https://wp.sbcounty.gov/dbh/event/african-american-awareness-subcommittee/
LOCATION:https://tinyurl.com/bddbfkaz
CATEGORIES:Events
ATTACH;FMTTYPE=image/png:https://wp.sbcounty.gov/dbh/wp-content/uploads/sites/121/BHSA-PLANNING-MEETING-1920x1080-1.png
END:VEVENT
BEGIN:VEVENT
DTSTART;TZID=America/Los_Angeles:20260127T123000
DTEND;TZID=America/Los_Angeles:20260127T140000
DTSTAMP:20260422T153654
CREATED:20251230T180812Z
LAST-MODIFIED:20251230T180812Z
UID:10007444-1769517000-1769522400@wp.sbcounty.gov
SUMMARY:LGBTQ Awareness Subcommittee
DESCRIPTION:Please join us at an upcoming stakeholder engagement meeting! Get information on the Behavioral Health services Ats (BHSA) and the BHSA Integrated Plan for fiscal years 2026/27-2028/29. \nJoin Meeting: https://bit.ly/4iFVNNP \nMeeting ID: 271 614 200 406 \nPasscode: rT6oj2uu
URL:https://wp.sbcounty.gov/dbh/event/lgbtq-awareness-subcommittee/
LOCATION:https://bit.ly/4iFVNNP
CATEGORIES:Events
ATTACH;FMTTYPE=image/png:https://wp.sbcounty.gov/dbh/wp-content/uploads/sites/121/BHSA-PLANNING-MEETING-1920x1080-1.png
END:VEVENT
BEGIN:VEVENT
DTSTART;TZID=America/Los_Angeles:20260128T130000
DTEND;TZID=America/Los_Angeles:20260128T150000
DTSTAMP:20260422T153654
CREATED:20251230T181046Z
LAST-MODIFIED:20251230T181046Z
UID:10007447-1769605200-1769612400@wp.sbcounty.gov
SUMMARY:Women's Awareness Subcommittee
DESCRIPTION:Please join us at an upcoming stakeholder engagement meeting! Get information on the Behavioral Health services Ats (BHSA) and the BHSA Integrated Plan for fiscal years 2026/27-2028/29. \nJoin Meeting: https://tinyurl.com/yadze8uj \nMeeting ID: 217 666 308 673 \nPasscode: xp6eF2rU
URL:https://wp.sbcounty.gov/dbh/event/womens-awareness-subcommittee/
LOCATION:https://tinyurl.com/yadze8uj
CATEGORIES:Events
ATTACH;FMTTYPE=image/png:https://wp.sbcounty.gov/dbh/wp-content/uploads/sites/121/BHSA-PLANNING-MEETING-1920x1080-1.png
END:VEVENT
END:VCALENDAR