BEGIN:VCALENDAR
VERSION:2.0
PRODID:-//DBH Internet Website - ECPv6.15.14//NONSGML v1.0//EN
CALSCALE:GREGORIAN
METHOD:PUBLISH
X-WR-CALNAME:DBH Internet Website
X-ORIGINAL-URL:https://wp.sbcounty.gov/dbh
X-WR-CALDESC:Events for DBH Internet Website
REFRESH-INTERVAL;VALUE=DURATION:PT1H
X-Robots-Tag:noindex
X-PUBLISHED-TTL:PT1H
BEGIN:VTIMEZONE
TZID:America/Los_Angeles
BEGIN:DAYLIGHT
TZOFFSETFROM:-0800
TZOFFSETTO:-0700
TZNAME:PDT
DTSTART:20250309T100000
END:DAYLIGHT
BEGIN:STANDARD
TZOFFSETFROM:-0700
TZOFFSETTO:-0800
TZNAME:PST
DTSTART:20251102T090000
END:STANDARD
BEGIN:DAYLIGHT
TZOFFSETFROM:-0800
TZOFFSETTO:-0700
TZNAME:PDT
DTSTART:20260308T100000
END:DAYLIGHT
BEGIN:STANDARD
TZOFFSETFROM:-0700
TZOFFSETTO:-0800
TZNAME:PST
DTSTART:20261101T090000
END:STANDARD
BEGIN:DAYLIGHT
TZOFFSETFROM:-0800
TZOFFSETTO:-0700
TZNAME:PDT
DTSTART:20270314T100000
END:DAYLIGHT
BEGIN:STANDARD
TZOFFSETFROM:-0700
TZOFFSETTO:-0800
TZNAME:PST
DTSTART:20271107T090000
END:STANDARD
END:VTIMEZONE
BEGIN:VEVENT
DTSTART;TZID=America/Los_Angeles:20260402T120000
DTEND;TZID=America/Los_Angeles:20260402T140000
DTSTAMP:20260421T222214
CREATED:20260305T182521Z
LAST-MODIFIED:20260305T182521Z
UID:10007515-1775131200-1775138400@wp.sbcounty.gov
SUMMARY:Behavioral Health Commission Meeting - BHSA Public Hearing
DESCRIPTION:You may submit comments during the 30-day public comment period\, which runs from February 27 through March 30. \nPublic Hearing Information \nBehavioral Health Commission Meeting \nApril 2 at 12:00 – 2:00 pm \n850 E. Foothill Blvd.\, Room F120\, Rialto\, CA 92376 \nSatellite locations are available for public attendance. \n\nApple Valley Clinic\n18818 Highway 18\, Apple Valley\nYucca Valley\n58945 Business Center Drive\, Yucca Valley\n\nPublic comments may be provided in the following ways: \n\nComplete the Electronic Survey:\n\nEnglish Survey\nSpanish Survey\n\n\nComplete a Stakeholder Comment Form:\n\nStakeholder Comment Form–English\nStakeholder Comment Form–Spanish\nSubmit the complete form by:\n\nEmail: MHSA@dbh.sbcounty.gov\nMail: Mental Health Services Act Administration\, 1950 S. Sunwest Lane\, Suite 200\, San Bernardino\, CA 92415\n\n\n\n\nAttend a BHSA Community Information and Feedback Session\nCall the MHSA/BHSA Administration Office at (909) 252-4021\n\n 
URL:https://wp.sbcounty.gov/dbh/event/behavioral-health-commission-meeting-bhsa-public-hearing/
LOCATION:850 E. Foothill Blvd.\, Rialto\, CA 92376\, 850 E. Foothill Blvd.\, Rialto\, 92376\, United States
CATEGORIES:Behavioral Health Services Act (BHSA),Meetings
END:VEVENT
BEGIN:VEVENT
DTSTART;TZID=America/Los_Angeles:20260115T100000
DTEND;TZID=America/Los_Angeles:20260115T130000
DTSTAMP:20260421T222214
CREATED:20251212T232550Z
LAST-MODIFIED:20251230T174906Z
UID:10007397-1768471200-1768482000@wp.sbcounty.gov
SUMMARY:Behavioral Health Services Act (BHSA) Community Program Planning Meeting
DESCRIPTION:Behavioral Health Services Act (BHSA) Community Program Planning Meeting \nThursday\, January 15th at 10 a.m. – 1 p.m. \nBehavioral Health Services Auditorium | 850 E. Foothill Blvd.\, Rialto\, 92376 \nThis is your opportunity to be heard! DBH is hosting this important meeting to connect with community members and stakeholders\, gather feedback\, and shape priorities for behavioral health services across San Bernardino County. \nWhether you’re a resident\, provider\, advocate\, or community partner—your voice matters. Help us build a stronger\, healthier community together.
URL:https://wp.sbcounty.gov/dbh/event/behavioral-health-services-act-bhsa-community-program-planning-meeting/
LOCATION:850 E. Foothill Blvd.\, Rialto\, CA 92376\, 850 E. Foothill Blvd.\, Rialto\, 92376\, United States
CATEGORIES:Events
ATTACH;FMTTYPE=image/png:https://wp.sbcounty.gov/dbh/wp-content/uploads/sites/121/BHSA-PLANNING-MEETING-1920x1080-1.png
END:VEVENT
END:VCALENDAR