BEGIN:VCALENDAR
VERSION:2.0
PRODID:-//DBH Internet Website - ECPv6.15.14//NONSGML v1.0//EN
CALSCALE:GREGORIAN
METHOD:PUBLISH
X-WR-CALNAME:DBH Internet Website
X-ORIGINAL-URL:https://wp.sbcounty.gov/dbh
X-WR-CALDESC:Events for DBH Internet Website
REFRESH-INTERVAL;VALUE=DURATION:PT1H
X-Robots-Tag:noindex
X-PUBLISHED-TTL:PT1H
BEGIN:VTIMEZONE
TZID:America/Los_Angeles
BEGIN:DAYLIGHT
TZOFFSETFROM:-0800
TZOFFSETTO:-0700
TZNAME:PDT
DTSTART:20240310T100000
END:DAYLIGHT
BEGIN:STANDARD
TZOFFSETFROM:-0700
TZOFFSETTO:-0800
TZNAME:PST
DTSTART:20241103T090000
END:STANDARD
BEGIN:DAYLIGHT
TZOFFSETFROM:-0800
TZOFFSETTO:-0700
TZNAME:PDT
DTSTART:20250309T100000
END:DAYLIGHT
BEGIN:STANDARD
TZOFFSETFROM:-0700
TZOFFSETTO:-0800
TZNAME:PST
DTSTART:20251102T090000
END:STANDARD
BEGIN:DAYLIGHT
TZOFFSETFROM:-0800
TZOFFSETTO:-0700
TZNAME:PDT
DTSTART:20260308T100000
END:DAYLIGHT
BEGIN:STANDARD
TZOFFSETFROM:-0700
TZOFFSETTO:-0800
TZNAME:PST
DTSTART:20261101T090000
END:STANDARD
END:VTIMEZONE
BEGIN:VEVENT
DTSTART;TZID=America/Los_Angeles:20251210T173000
DTEND;TZID=America/Los_Angeles:20251210T183000
DTSTAMP:20260424T010026
CREATED:20251118T002819Z
LAST-MODIFIED:20251118T002819Z
UID:10007385-1765387800-1765391400@wp.sbcounty.gov
SUMMARY:Pathways to Wellness: Community Forum on the Comprehensive Treatment Campus
DESCRIPTION:Pathways to Wellness: Community Forum on the Comprehensive Treatment Campus \n\nJoin us for this awesome event on December 10\, 2025\, for a community meeting to learn more about the\nComprehensive Behavioral Health Treatment Campus.\n\nDecember 10\, 2025\, 5:00 PM – 6:30 PM\nComprehensive Treatment Campus 13333 Palmdale Road\, Victorville\, 92392
URL:https://wp.sbcounty.gov/dbh/event/pathways-to-wellness-community-forum-on-the-comprehensive-treatment-campus/
LOCATION:Comprehensive Treatment Campus\, 13333 Palmdale Road\, Victorville\, CA\, 92392\, United States
ATTACH;FMTTYPE=image/png:https://wp.sbcounty.gov/dbh/wp-content/uploads/sites/121/2025/11/Comprehensive-Treatment-Facility-3-3-9.png
END:VEVENT
END:VCALENDAR