BEGIN:VCALENDAR
VERSION:2.0
PRODID:-//Grand Jury - ECPv6.15.14//NONSGML v1.0//EN
CALSCALE:GREGORIAN
METHOD:PUBLISH
X-WR-CALNAME:Grand Jury
X-ORIGINAL-URL:https://wp.sbcounty.gov/grandjury
X-WR-CALDESC:Events for Grand Jury
REFRESH-INTERVAL;VALUE=DURATION:PT1H
X-Robots-Tag:noindex
X-PUBLISHED-TTL:PT1H
BEGIN:VTIMEZONE
TZID:UTC
BEGIN:STANDARD
TZOFFSETFROM:+0000
TZOFFSETTO:+0000
TZNAME:UTC
DTSTART:20170101T000000
END:STANDARD
END:VTIMEZONE
BEGIN:VEVENT
DTSTART;VALUE=DATE:20181022
DTEND;VALUE=DATE:20181023
DTSTAMP:20260422T192102
CREATED:20171213T053940Z
LAST-MODIFIED:20180209T054128Z
UID:10000083-1540166400-1540252799@wp.sbcounty.gov
SUMMARY:San Bernardino County Past Grand Juror's Association Quarterly Meeting
DESCRIPTION:
URL:https://wp.sbcounty.gov/grandjury/event/san-bernardino-county-past-grand-jurors-association-quarterly-meeting/2018-10-22/
LOCATION:Shandin Hills Country Club\, 3380 Little Mt. Dr.\, San Bernardino\, CA\, 92405\, United States
CATEGORIES:Meeting
END:VEVENT
BEGIN:VEVENT
DTSTART;VALUE=DATE:20180625
DTEND;VALUE=DATE:20180626
DTSTAMP:20260422T192102
CREATED:20171213T053940Z
LAST-MODIFIED:20180209T054128Z
UID:10000080-1529884800-1529971199@wp.sbcounty.gov
SUMMARY:San Bernardino County Past Grand Juror's Association Quarterly Meeting
DESCRIPTION:
URL:https://wp.sbcounty.gov/grandjury/event/san-bernardino-county-past-grand-jurors-association-quarterly-meeting/2018-06-25/
LOCATION:Shandin Hills Country Club\, 3380 Little Mt. Dr.\, San Bernardino\, CA\, 92405\, United States
CATEGORIES:Meeting
END:VEVENT
BEGIN:VEVENT
DTSTART;VALUE=DATE:20180326
DTEND;VALUE=DATE:20180327
DTSTAMP:20260422T192102
CREATED:20171213T053940Z
LAST-MODIFIED:20180209T054128Z
UID:10000077-1522022400-1522108799@wp.sbcounty.gov
SUMMARY:San Bernardino County Past Grand Juror's Association Quarterly Meeting
DESCRIPTION:
URL:https://wp.sbcounty.gov/grandjury/event/san-bernardino-county-past-grand-jurors-association-quarterly-meeting/2018-03-26/
LOCATION:Shandin Hills Country Club\, 3380 Little Mt. Dr.\, San Bernardino\, CA\, 92405\, United States
CATEGORIES:Meeting
END:VEVENT
BEGIN:VEVENT
DTSTART;VALUE=DATE:20180122
DTEND;VALUE=DATE:20180123
DTSTAMP:20260422T192102
CREATED:20171213T053940Z
LAST-MODIFIED:20180209T054128Z
UID:10000074-1516579200-1516665599@wp.sbcounty.gov
SUMMARY:San Bernardino County Past Grand Juror's Association Quarterly Meeting
DESCRIPTION:
URL:https://wp.sbcounty.gov/grandjury/event/san-bernardino-county-past-grand-jurors-association-quarterly-meeting/2018-01-22/
LOCATION:Shandin Hills Country Club\, 3380 Little Mt. Dr.\, San Bernardino\, CA\, 92405\, United States
CATEGORIES:Meeting
END:VEVENT
END:VCALENDAR