BEGIN:VCALENDAR
VERSION:2.0
PRODID:-//Human Services | San Bernardino County - ECPv6.15.14//NONSGML v1.0//EN
CALSCALE:GREGORIAN
METHOD:PUBLISH
X-ORIGINAL-URL:https://wp.sbcounty.gov/hs
X-WR-CALDESC:Events for Human Services | San Bernardino County
REFRESH-INTERVAL;VALUE=DURATION:PT1H
X-Robots-Tag:noindex
X-PUBLISHED-TTL:PT1H
BEGIN:VTIMEZONE
TZID:UTC
BEGIN:STANDARD
TZOFFSETFROM:+0000
TZOFFSETTO:+0000
TZNAME:UTC
DTSTART:20230101T000000
END:STANDARD
END:VTIMEZONE
BEGIN:VEVENT
DTSTART;TZID=UTC:20240502T120000
DTEND;TZID=UTC:20240502T140000
DTSTAMP:20260419T170301
CREATED:20180405T020520Z
LAST-MODIFIED:20230718T165026Z
UID:10002381-1714651200-1714658400@wp.sbcounty.gov
SUMMARY:Behavioral Health Commission (BHC)
DESCRIPTION:
URL:https://wp.sbcounty.gov/hs/event/behavioral-health-commission-bhc/2024-05-02/
LOCATION:Behavioral Health Services Auditorium\, 850 East Foothill Blvd.\, Rialto\, CA\, United States
CATEGORIES:Department of Behavioral Health
END:VEVENT
BEGIN:VEVENT
DTSTART;TZID=UTC:20240515T130000
DTEND;TZID=UTC:20240515T140000
DTSTAMP:20260419T170301
CREATED:20180405T032402Z
LAST-MODIFIED:20180613T165541Z
UID:10003194-1715778000-1715781600@wp.sbcounty.gov
SUMMARY:Senior Affairs Commission Meetings
DESCRIPTION:Meeting held in Conference Room A.
URL:https://wp.sbcounty.gov/hs/event/senior-affairs-commission-meetings/2024-05-15/
LOCATION:DAAS Administration\, 784 E. Hospitality Lane\, San Bernardino\, CA\, 92415\, United States
CATEGORIES:DAAS
END:VEVENT
BEGIN:VEVENT
DTSTART;TZID=UTC:20240516T100000
DTEND;TZID=UTC:20240516T120000
DTSTAMP:20260419T170301
CREATED:20180405T031838Z
LAST-MODIFIED:20230713T231253Z
UID:10002804-1715853600-1715860800@wp.sbcounty.gov
SUMMARY:Community Policy Advisory Committee (CPAC)
DESCRIPTION:
URL:https://wp.sbcounty.gov/hs/event/community-policy-advisory-committee-cpac/2024-05-16/
LOCATION:CA
CATEGORIES:Department of Behavioral Health
END:VEVENT
BEGIN:VEVENT
DTSTART;TZID=UTC:20240516T130000
DTEND;TZID=UTC:20240516T143000
DTSTAMP:20260419T170301
CREATED:20180405T031926Z
LAST-MODIFIED:20230713T231519Z
UID:10003584-1715864400-1715869800@wp.sbcounty.gov
SUMMARY:Cultural Competency Advisory Committee (CCAC)
DESCRIPTION:
URL:https://wp.sbcounty.gov/hs/event/cultural-competency-advisory-committee-ccac/2024-05-16/
LOCATION:CA
CATEGORIES:Department of Behavioral Health
END:VEVENT
END:VCALENDAR