BEGIN:VCALENDAR
VERSION:2.0
PRODID:-//San Bernardino County Sheriff&#039;s Department - ECPv6.15.14//NONSGML v1.0//EN
CALSCALE:GREGORIAN
METHOD:PUBLISH
X-WR-CALNAME:San Bernardino County Sheriff&#039;s Department
X-ORIGINAL-URL:https://wp.sbcounty.gov/sheriff
X-WR-CALDESC:Events for San Bernardino County Sheriff&#039;s Department
REFRESH-INTERVAL;VALUE=DURATION:PT1H
X-Robots-Tag:noindex
X-PUBLISHED-TTL:PT1H
BEGIN:VTIMEZONE
TZID:America/Los_Angeles
BEGIN:DAYLIGHT
TZOFFSETFROM:-0800
TZOFFSETTO:-0700
TZNAME:PDT
DTSTART:20240310T100000
END:DAYLIGHT
BEGIN:STANDARD
TZOFFSETFROM:-0700
TZOFFSETTO:-0800
TZNAME:PST
DTSTART:20241103T090000
END:STANDARD
BEGIN:DAYLIGHT
TZOFFSETFROM:-0800
TZOFFSETTO:-0700
TZNAME:PDT
DTSTART:20250309T100000
END:DAYLIGHT
BEGIN:STANDARD
TZOFFSETFROM:-0700
TZOFFSETTO:-0800
TZNAME:PST
DTSTART:20251102T090000
END:STANDARD
BEGIN:DAYLIGHT
TZOFFSETFROM:-0800
TZOFFSETTO:-0700
TZNAME:PDT
DTSTART:20260308T100000
END:DAYLIGHT
BEGIN:STANDARD
TZOFFSETFROM:-0700
TZOFFSETTO:-0800
TZNAME:PST
DTSTART:20261101T090000
END:STANDARD
END:VTIMEZONE
BEGIN:VEVENT
DTSTART;TZID=America/Los_Angeles:20250721T140000
DTEND;TZID=America/Los_Angeles:20250721T143000
DTSTAMP:20260420T170733
CREATED:20250226T214419Z
LAST-MODIFIED:20250716T141539Z
UID:65173-1753106400-1753108200@wp.sbcounty.gov
SUMMARY:CANCELLED CEU Real Property Sale: 11090 HIDDEN TRAIL DR. RANCHO CUCAMONGA CA 91737
DESCRIPTION:Property Information\nCourt Case #: CIVDS1805491\nLocation: 11090 HIDDEN TRAIL DR. RANCHO CUCAMONGA\, CA 91737\nAPN: 1074-621-30-0000 \nSale Information\nSale Date: 05/30/2025 AT 9:00AM CANCELLED\nLocation: San Bernardino Superior Court\, Entrance to Courthouse\nAddress: 351 N. Arrowhead Avenue\, San Bernardino CA 92315\nNotice of Sale \nContact Information\nPhone: 909-387-5700 Ext. 5\nEmail: civildocs@sbcsd.org \nLinks\nSheriff’s Sale Rules\nListing Page \n  \n  \n  \n  \n 
URL:https://wp.sbcounty.gov/sheriff/community-event-calendar/ceu-real-property-sale-11090-hidden-trail-dr-rancho-cucamonga-ca-91737/
END:VEVENT
END:VCALENDAR