BEGIN:VCALENDAR
VERSION:2.0
PRODID:-//San Bernardino County Sheriff&#039;s Department - ECPv6.15.14//NONSGML v1.0//EN
CALSCALE:GREGORIAN
METHOD:PUBLISH
X-WR-CALNAME:San Bernardino County Sheriff&#039;s Department
X-ORIGINAL-URL:https://wp.sbcounty.gov/sheriff
X-WR-CALDESC:Events for San Bernardino County Sheriff&#039;s Department
REFRESH-INTERVAL;VALUE=DURATION:PT1H
X-Robots-Tag:noindex
X-PUBLISHED-TTL:PT1H
BEGIN:VTIMEZONE
TZID:America/Los_Angeles
BEGIN:DAYLIGHT
TZOFFSETFROM:-0800
TZOFFSETTO:-0700
TZNAME:PDT
DTSTART:20210314T100000
END:DAYLIGHT
BEGIN:STANDARD
TZOFFSETFROM:-0700
TZOFFSETTO:-0800
TZNAME:PST
DTSTART:20211107T090000
END:STANDARD
BEGIN:DAYLIGHT
TZOFFSETFROM:-0800
TZOFFSETTO:-0700
TZNAME:PDT
DTSTART:20220313T100000
END:DAYLIGHT
BEGIN:STANDARD
TZOFFSETFROM:-0700
TZOFFSETTO:-0800
TZNAME:PST
DTSTART:20221106T090000
END:STANDARD
BEGIN:DAYLIGHT
TZOFFSETFROM:-0800
TZOFFSETTO:-0700
TZNAME:PDT
DTSTART:20230312T100000
END:DAYLIGHT
BEGIN:STANDARD
TZOFFSETFROM:-0700
TZOFFSETTO:-0800
TZNAME:PST
DTSTART:20231105T090000
END:STANDARD
END:VTIMEZONE
BEGIN:VEVENT
DTSTART;TZID=America/Los_Angeles:20220912T080000
DTEND;TZID=America/Los_Angeles:20220916T170000
DTSTAMP:20260420T205528
CREATED:20220812T180901Z
LAST-MODIFIED:20220812T183510Z
UID:44659-1662969600-1663347600@wp.sbcounty.gov
SUMMARY:Crisis Intervention Team
DESCRIPTION:This course is designed to train local law enforcement officers on how to cope with crisis situations with the mentally ill and developmentally disabled community. Officers also participate in various site visits\, scenario training and given information about additional mental health resources.\nCLICK FOR FLYER \n\n\n\nThis course satisfies legislative mandate PC13515.27(a)(1) PC13515.28(a)(1)\, SB11/SB29   \n\n\n\nTopics Covered:\n  \n\nOverview of Mental Health Disorders \nSigns and Symptoms\nMedications\nPTSD and Veterans Resources\nADA\nTactical Communication\nPolice Suicide\nSuicide by Cop\nCommunity Resources\n\n 
URL:https://wp.sbcounty.gov/sheriff/community-event-calendar/crisis-intervention-team-12/
LOCATION:GHRB Inmate Services/Work Release R.O.P. Training Room\, 18000 Institution Road\, San Bernardino\, 92407
CATEGORIES:Advanced Officer Training
ORGANIZER;CN="Advanced Officer Training":MAILTO:ggonzales@sbcsd.org
END:VEVENT
END:VCALENDAR