BEGIN:VCALENDAR
VERSION:2.0
PRODID:-//San Bernardino County Sheriff&#039;s Department - ECPv6.15.14//NONSGML v1.0//EN
CALSCALE:GREGORIAN
METHOD:PUBLISH
X-WR-CALNAME:San Bernardino County Sheriff&#039;s Department
X-ORIGINAL-URL:https://wp.sbcounty.gov/sheriff
X-WR-CALDESC:Events for San Bernardino County Sheriff&#039;s Department
REFRESH-INTERVAL;VALUE=DURATION:PT1H
X-Robots-Tag:noindex
X-PUBLISHED-TTL:PT1H
BEGIN:VTIMEZONE
TZID:America/Los_Angeles
BEGIN:DAYLIGHT
TZOFFSETFROM:-0800
TZOFFSETTO:-0700
TZNAME:PDT
DTSTART:20180311T100000
END:DAYLIGHT
BEGIN:STANDARD
TZOFFSETFROM:-0700
TZOFFSETTO:-0800
TZNAME:PST
DTSTART:20181104T090000
END:STANDARD
BEGIN:DAYLIGHT
TZOFFSETFROM:-0800
TZOFFSETTO:-0700
TZNAME:PDT
DTSTART:20190310T100000
END:DAYLIGHT
BEGIN:STANDARD
TZOFFSETFROM:-0700
TZOFFSETTO:-0800
TZNAME:PST
DTSTART:20191103T090000
END:STANDARD
BEGIN:DAYLIGHT
TZOFFSETFROM:-0800
TZOFFSETTO:-0700
TZNAME:PDT
DTSTART:20200308T100000
END:DAYLIGHT
BEGIN:STANDARD
TZOFFSETFROM:-0700
TZOFFSETTO:-0800
TZNAME:PST
DTSTART:20201101T090000
END:STANDARD
END:VTIMEZONE
BEGIN:VEVENT
DTSTART;TZID=America/Los_Angeles:20190617T080000
DTEND;TZID=America/Los_Angeles:20190628T170000
DTSTAMP:20260421T102433
CREATED:20190423T205957Z
LAST-MODIFIED:20190423T205957Z
UID:31170-1560758400-1561741200@wp.sbcounty.gov
SUMMARY:CSI Basic Crime Scene 2019
DESCRIPTION:Course Description: \nThis 80-hour course is designed to provide a broad knowledge of all aspects of crimes scene processing. This course includes documentation\, photography\, evidence identification and collection\, latent fingerprint processing\, basic gunshot trajectory reconstruction\, basic bloodstain pattern recognition\, and death investigation. This course will cover evidence collection and documentation for Forensic Entomology and Forensic Anthropology exams as well as the basics of Gravesite Excavation. This course includes lecture\, hands-on exercises\, and numerous practical exercises  \n\n\n\n  \nClick for Flyer\n 
URL:https://wp.sbcounty.gov/sheriff/community-event-calendar/csi-basic-crime-scene-2019/
LOCATION:Frank Bland Regional Training Center\, 18901 Institution Rd\, San Bernardino\, CA\, 92407\, United States
CATEGORIES:Advanced Officer Training
END:VEVENT
END:VCALENDAR