BEGIN:VCALENDAR
VERSION:2.0
PRODID:-//San Bernardino County Sheriff&#039;s Department - ECPv6.15.14//NONSGML v1.0//EN
CALSCALE:GREGORIAN
METHOD:PUBLISH
X-WR-CALNAME:San Bernardino County Sheriff&#039;s Department
X-ORIGINAL-URL:https://wp.sbcounty.gov/sheriff
X-WR-CALDESC:Events for San Bernardino County Sheriff&#039;s Department
REFRESH-INTERVAL;VALUE=DURATION:PT1H
X-Robots-Tag:noindex
X-PUBLISHED-TTL:PT1H
BEGIN:VTIMEZONE
TZID:America/Los_Angeles
BEGIN:DAYLIGHT
TZOFFSETFROM:-0800
TZOFFSETTO:-0700
TZNAME:PDT
DTSTART:20210314T100000
END:DAYLIGHT
BEGIN:STANDARD
TZOFFSETFROM:-0700
TZOFFSETTO:-0800
TZNAME:PST
DTSTART:20211107T090000
END:STANDARD
BEGIN:DAYLIGHT
TZOFFSETFROM:-0800
TZOFFSETTO:-0700
TZNAME:PDT
DTSTART:20220313T100000
END:DAYLIGHT
BEGIN:STANDARD
TZOFFSETFROM:-0700
TZOFFSETTO:-0800
TZNAME:PST
DTSTART:20221106T090000
END:STANDARD
BEGIN:DAYLIGHT
TZOFFSETFROM:-0800
TZOFFSETTO:-0700
TZNAME:PDT
DTSTART:20230312T100000
END:DAYLIGHT
BEGIN:STANDARD
TZOFFSETFROM:-0700
TZOFFSETTO:-0800
TZNAME:PST
DTSTART:20231105T090000
END:STANDARD
END:VTIMEZONE
BEGIN:VEVENT
DTSTART;TZID=America/Los_Angeles:20220726T080000
DTEND;TZID=America/Los_Angeles:20220729T170000
DTSTAMP:20260420T205928
CREATED:20220707T141445Z
LAST-MODIFIED:20220707T144607Z
UID:44044-1658822400-1659114000@wp.sbcounty.gov
SUMMARY:School Resource Officer
DESCRIPTION:The purpose of this course is to provide an overview of the basic functions of the School Resource Officer and his/her collaboration with the education system. \n“Click for Flyer”
URL:https://wp.sbcounty.gov/sheriff/community-event-calendar/school-resource-officer/
LOCATION:Frank Bland Regional Training Center\, 18901 Institution Rd\, San Bernardino\, CA\, 92407\, United States
CATEGORIES:Law Enforcement Training Courses
END:VEVENT
END:VCALENDAR