BEGIN:VCALENDAR
VERSION:2.0
PRODID:-//San Bernardino County Sheriff&#039;s Department - ECPv6.15.14//NONSGML v1.0//EN
CALSCALE:GREGORIAN
METHOD:PUBLISH
X-WR-CALNAME:San Bernardino County Sheriff&#039;s Department
X-ORIGINAL-URL:https://wp.sbcounty.gov/sheriff
X-WR-CALDESC:Events for San Bernardino County Sheriff&#039;s Department
REFRESH-INTERVAL;VALUE=DURATION:PT1H
X-Robots-Tag:noindex
X-PUBLISHED-TTL:PT1H
BEGIN:VTIMEZONE
TZID:America/Los_Angeles
BEGIN:DAYLIGHT
TZOFFSETFROM:-0800
TZOFFSETTO:-0700
TZNAME:PDT
DTSTART:20230312T100000
END:DAYLIGHT
BEGIN:STANDARD
TZOFFSETFROM:-0700
TZOFFSETTO:-0800
TZNAME:PST
DTSTART:20231105T090000
END:STANDARD
BEGIN:DAYLIGHT
TZOFFSETFROM:-0800
TZOFFSETTO:-0700
TZNAME:PDT
DTSTART:20240310T100000
END:DAYLIGHT
BEGIN:STANDARD
TZOFFSETFROM:-0700
TZOFFSETTO:-0800
TZNAME:PST
DTSTART:20241103T090000
END:STANDARD
BEGIN:DAYLIGHT
TZOFFSETFROM:-0800
TZOFFSETTO:-0700
TZNAME:PDT
DTSTART:20250309T100000
END:DAYLIGHT
BEGIN:STANDARD
TZOFFSETFROM:-0700
TZOFFSETTO:-0800
TZNAME:PST
DTSTART:20251102T090000
END:STANDARD
END:VTIMEZONE
BEGIN:VEVENT
DTSTART;TZID=America/Los_Angeles:20240506T070000
DTEND;TZID=America/Los_Angeles:20240509T180000
DTSTAMP:20260421T085907
CREATED:20240411T204404Z
LAST-MODIFIED:20240411T204434Z
UID:10002887-1714978800-1715277600@wp.sbcounty.gov
SUMMARY:Basic Traffic Collision Investigation
DESCRIPTION:Course Description\nThis 40-hour course provides accident investigation from on-the scene procedures to follow up and practical application of how to use report forms and accident investigation terminology together with the study of vehicle code law and court decisions. \nCourse meets requirements of VC40600 (a).\n\nLearning Topics\n• Accident Investigation\n• Physical Evidence\n• Vehicle and Human Factors\n• Tire mark and Skid mark Identification\n• Hit and Run \nThis course is the first in a series of Traffic Collision Courses to be M.A.I.T. certified. \nCLICK FOR FLYER
URL:https://wp.sbcounty.gov/sheriff/community-event-calendar/basic-traffic-collision-investigation-10/
LOCATION:Frank Bland Regional Training Center\, 18901 Institution Rd\, San Bernardino\, CA\, 92407\, United States
CATEGORIES:Advanced Officer Training
END:VEVENT
BEGIN:VEVENT
DTSTART;TZID=America/Los_Angeles:20240513T080000
DTEND;TZID=America/Los_Angeles:20240517T170000
DTSTAMP:20260421T085907
CREATED:20240411T210514Z
LAST-MODIFIED:20240411T210514Z
UID:10002896-1715587200-1715965200@wp.sbcounty.gov
SUMMARY:40hr Field Training Officer (FTO)
DESCRIPTION:Course Description\n\nThis course is designed for the experienced peace officer recently appointed to the position of Field Training Officer. This course will have a strong emphasis on the FTO/trainee relationship and a strong focus on teaching techniques. \nLearning Topics\n– Ethics\n– Adult Learning\n– Documentation\n– Legal Issues\n– Remediation\n– Evaluation\n– Leadership\n– Persons with Disabilities\n– SAFE Driving \nCLICK FOR FLYER
URL:https://wp.sbcounty.gov/sheriff/community-event-calendar/40hr-field-training-officer-fto/
LOCATION:Frank Bland Regional Training Center\, 18901 Institution Rd\, San Bernardino\, CA\, 92407\, United States
CATEGORIES:Advanced Officer Training
END:VEVENT
BEGIN:VEVENT
DTSTART;TZID=America/Los_Angeles:20240513T080000
DTEND;TZID=America/Los_Angeles:20240524T170000
DTSTAMP:20260421T085907
CREATED:20240411T210955Z
LAST-MODIFIED:20240411T211731Z
UID:10002929-1715587200-1716570000@wp.sbcounty.gov
SUMMARY:POST Supervisory
DESCRIPTION:Course Description\n\nPOST standardized curriculum introduces new law enforcement supervisors to the role\, responsibilities\, and resources available for their new position. This course meets the POST mandate to complete a supervisory course within twelve months of appointment to first-line supervisor (POST Regulation 1005a) and is taught in a facilitated format.\n\nLearning Topics\n• Situational Leadership\n• Effective Communication\n• Disciplinary Issues\n• Ethics and Integrity\n• Critical Incident Management\n• Performance Evaluations and Employee Improvement Plans\n• Stress Management \nCLICK FOR FLYER
URL:https://wp.sbcounty.gov/sheriff/community-event-calendar/post-supervisory/
LOCATION:JW Marriott Desert Springs Resort & Spa\, 74855 Country Club Drive\, Palm Desert\, CA\, 92260\, United States
CATEGORIES:Advanced Officer Training
END:VEVENT
BEGIN:VEVENT
DTSTART;TZID=America/Los_Angeles:20240514T080000
DTEND;TZID=America/Los_Angeles:20240515T170000
DTSTAMP:20260421T085907
CREATED:20240411T205622Z
LAST-MODIFIED:20240411T205622Z
UID:10002893-1715673600-1715792400@wp.sbcounty.gov
SUMMARY:Deputy Leadership (DLI)
DESCRIPTION:Course Description\n\nD.L.I. is a 16-hour leadership development program for sworn and non-sworn agency members at various levels. Its goal is to help students recognize and adopt leadership potential. Students will study a variety of leadership models\, the importance of value-based decisions\, how to recognize their role as a leader\, and how to improve their personal and professional effectiveness. All agencies are welcome. \nLearning Topics\n• Leadership challenges\n• Paradigms\n• Importance of values and principles\n• Loyalty Conflicts\n• Group dynamics\n• Power versus authority\n• Pro-active and reactive\n• Goal setting\n• Motivation\n• Communication \nWho Should Attend?\n\nSan Bernardino County Sheriff’s Deputies\, City Law Enforcement Officers\, Probation Officers\, Correctional Officers\, School Resource Officers\, University & Community College Officers\, Emergency Dispatchers \nCLICK FOR FLYER
URL:https://wp.sbcounty.gov/sheriff/community-event-calendar/deputy-leadership-dli/
LOCATION:GHRB Inmate Services/Work Release R.O.P. Training Room\, 18000 Institution Road\, San Bernardino\, 92407
CATEGORIES:Advanced Officer Training
END:VEVENT
END:VCALENDAR