BEGIN:VCALENDAR
VERSION:2.0
PRODID:-//San Bernardino County Sheriff&#039;s Department - ECPv6.15.14//NONSGML v1.0//EN
CALSCALE:GREGORIAN
METHOD:PUBLISH
X-ORIGINAL-URL:https://wp.sbcounty.gov/sheriff
X-WR-CALDESC:Events for San Bernardino County Sheriff&#039;s Department
REFRESH-INTERVAL;VALUE=DURATION:PT1H
X-Robots-Tag:noindex
X-PUBLISHED-TTL:PT1H
BEGIN:VTIMEZONE
TZID:America/Los_Angeles
BEGIN:DAYLIGHT
TZOFFSETFROM:-0800
TZOFFSETTO:-0700
TZNAME:PDT
DTSTART:20230312T100000
END:DAYLIGHT
BEGIN:STANDARD
TZOFFSETFROM:-0700
TZOFFSETTO:-0800
TZNAME:PST
DTSTART:20231105T090000
END:STANDARD
BEGIN:DAYLIGHT
TZOFFSETFROM:-0800
TZOFFSETTO:-0700
TZNAME:PDT
DTSTART:20240310T100000
END:DAYLIGHT
BEGIN:STANDARD
TZOFFSETFROM:-0700
TZOFFSETTO:-0800
TZNAME:PST
DTSTART:20241103T090000
END:STANDARD
BEGIN:DAYLIGHT
TZOFFSETFROM:-0800
TZOFFSETTO:-0700
TZNAME:PDT
DTSTART:20250309T100000
END:DAYLIGHT
BEGIN:STANDARD
TZOFFSETFROM:-0700
TZOFFSETTO:-0800
TZNAME:PST
DTSTART:20251102T090000
END:STANDARD
END:VTIMEZONE
BEGIN:VEVENT
DTSTART;TZID=America/Los_Angeles:20240813T080000
DTEND;TZID=America/Los_Angeles:20240813T170000
DTSTAMP:20260420T135258
CREATED:20240613T183538Z
LAST-MODIFIED:20240613T183538Z
UID:10003045-1723536000-1723568400@wp.sbcounty.gov
SUMMARY:Digital Forensics for Investigators (Basic)
DESCRIPTION:Course Description: \nThis 1 day course equips investigators with essential knowledge and skills to effectively navigate the complexities of digital evidence encountered in various criminal and administrative investigative scenarios. You’ll learn how to identify\, collect\, analyze\, and preserve digital evidence\, ensuring it can be used reliably in legal & administrative proceedings. Develop the expertise needed to confidently manage digital evidence\, from understanding the latest digital forensic tools and techniques to staying updated on legal and ethical considerations. Whether you are dealing with cybercrime\, fraud\, or other types of digital investigations\, this training will provide you with the foundational skills necessary to succeed. \nLAW ENFORCEMENT AFFILIATED ONLY \nCLICK FOR FLYER
URL:https://wp.sbcounty.gov/sheriff/community-event-calendar/digital-forensics-for-investigators-basic/
LOCATION:Frank Bland Regional Training Center\, 18901 Institution Rd\, San Bernardino\, CA\, 92407\, United States
END:VEVENT
BEGIN:VEVENT
DTSTART;TZID=America/Los_Angeles:20240815T080000
DTEND;TZID=America/Los_Angeles:20240815T170000
DTSTAMP:20260420T135258
CREATED:20240613T183700Z
LAST-MODIFIED:20240613T183700Z
UID:10003048-1723708800-1723741200@wp.sbcounty.gov
SUMMARY:Digital Forensics for Investigators (Basic)
DESCRIPTION:Course Description: \nThis 1 day course equips investigators with essential knowledge and skills to effectively navigate the complexities of digital evidence encountered in various criminal and administrative investigative scenarios. You’ll learn how to identify\, collect\, analyze\, and preserve digital evidence\, ensuring it can be used reliably in legal & administrative proceedings. Develop the expertise needed to confidently manage digital evidence\, from understanding the latest digital forensic tools and techniques to staying updated on legal and ethical considerations. Whether you are dealing with cybercrime\, fraud\, or other types of digital investigations\, this training will provide you with the foundational skills necessary to succeed. \nLAW ENFORCEMENT AFFILIATED ONLY \nCLICK FOR FLYER
URL:https://wp.sbcounty.gov/sheriff/community-event-calendar/digital-forensics-for-investigators-basic-2/
LOCATION:Frank Bland Regional Training Center\, 18901 Institution Rd\, San Bernardino\, CA\, 92407\, United States
END:VEVENT
BEGIN:VEVENT
DTSTART;TZID=America/Los_Angeles:20240819T080000
DTEND;TZID=America/Los_Angeles:20240823T170000
DTSTAMP:20260420T135258
CREATED:20240411T234408Z
LAST-MODIFIED:20240411T234408Z
UID:10002941-1724054400-1724432400@wp.sbcounty.gov
SUMMARY:40hr Field Training Officer (FTO)
DESCRIPTION:Course Description\n\nThis course is designed for the experienced peace officer recently appointed to the position of Field Training Officer. This course will have a strong emphasis on the FTO/trainee relationship and a strong focus on teaching techniques. \nLearning Topics\n– Ethics\n– Adult Learning\n– Documentation\n– Legal Issues\n– Remediation\n– Evaluation\n– Leadership\n– Persons with Disabilities\n– SAFE Driving \nCLICK FOR FLYER
URL:https://wp.sbcounty.gov/sheriff/community-event-calendar/40hr-field-training-officer-fto-2/
LOCATION:Frank Bland Regional Training Center\, 18901 Institution Rd\, San Bernardino\, CA\, 92407\, United States
CATEGORIES:Advanced Officer Training
END:VEVENT
BEGIN:VEVENT
DTSTART;TZID=America/Los_Angeles:20240826T080000
DTEND;TZID=America/Los_Angeles:20240826T120000
DTSTAMP:20260420T135258
CREATED:20240530T233024Z
LAST-MODIFIED:20240530T233024Z
UID:10003038-1724659200-1724673600@wp.sbcounty.gov
SUMMARY:Civil Procedures
DESCRIPTION:Course Description\nThis 4- hour course is designed to train law enforcement personnel on how to deal with the complexities of civil matters. We will discuss common civil issues encountered by law enforcement during the scope of their duties. \nLearning Topics\n\nCivil Services\nLevies\nEvictions\nLandlord/Tenant Disputes\nRepossessions\nRestraining Orders\nProof of Service\nCustody\n\nCLICK FOR FLYER
URL:https://wp.sbcounty.gov/sheriff/community-event-calendar/civil-procedures-4/
LOCATION:Frank Bland Regional Training Center\, 18901 Institution Rd\, San Bernardino\, CA\, 92407\, United States
CATEGORIES:Advanced Officer Training
END:VEVENT
BEGIN:VEVENT
DTSTART;TZID=America/Los_Angeles:20240826T080000
DTEND;TZID=America/Los_Angeles:20240829T170000
DTSTAMP:20260420T135258
CREATED:20240411T234238Z
LAST-MODIFIED:20240411T234238Z
UID:10002938-1724659200-1724950800@wp.sbcounty.gov
SUMMARY:Intermediate Traffic Collision Investigation
DESCRIPTION:Course Description\n\nThis course builds on concepts taught in the basic traffic collision investigation course. It also introduces students to expanded mathematical equations and physics topics as they relate to collisions. Skid marks are analyzed\, and speed is calculated using standardized equations. \nPrerequisite: Basic Traffic Collision Inv. \nLearning Topics\n• Accident Investigation\n• Physical Evidence\n• Vehicle and Human Factors\n• Tire mark and Skid mark Identification\n• Hit and Run \nCLICK FOR FLYER
URL:https://wp.sbcounty.gov/sheriff/community-event-calendar/intermediate-traffic-collision-investigation-2/
LOCATION:Frank Bland Regional Training Center\, 18901 Institution Rd\, San Bernardino\, CA\, 92407\, United States
CATEGORIES:Advanced Officer Training
END:VEVENT
END:VCALENDAR