BEGIN:VCALENDAR
VERSION:2.0
PRODID:-//San Bernardino County Sheriff&#039;s Department - ECPv6.15.14//NONSGML v1.0//EN
CALSCALE:GREGORIAN
METHOD:PUBLISH
X-ORIGINAL-URL:https://wp.sbcounty.gov/sheriff
X-WR-CALDESC:Events for San Bernardino County Sheriff&#039;s Department
REFRESH-INTERVAL;VALUE=DURATION:PT1H
X-Robots-Tag:noindex
X-PUBLISHED-TTL:PT1H
BEGIN:VTIMEZONE
TZID:America/Los_Angeles
BEGIN:DAYLIGHT
TZOFFSETFROM:-0800
TZOFFSETTO:-0700
TZNAME:PDT
DTSTART:20210314T100000
END:DAYLIGHT
BEGIN:STANDARD
TZOFFSETFROM:-0700
TZOFFSETTO:-0800
TZNAME:PST
DTSTART:20211107T090000
END:STANDARD
BEGIN:DAYLIGHT
TZOFFSETFROM:-0800
TZOFFSETTO:-0700
TZNAME:PDT
DTSTART:20220313T100000
END:DAYLIGHT
BEGIN:STANDARD
TZOFFSETFROM:-0700
TZOFFSETTO:-0800
TZNAME:PST
DTSTART:20221106T090000
END:STANDARD
BEGIN:DAYLIGHT
TZOFFSETFROM:-0800
TZOFFSETTO:-0700
TZNAME:PDT
DTSTART:20230312T100000
END:DAYLIGHT
BEGIN:STANDARD
TZOFFSETFROM:-0700
TZOFFSETTO:-0800
TZNAME:PST
DTSTART:20231105T090000
END:STANDARD
BEGIN:DAYLIGHT
TZOFFSETFROM:-0800
TZOFFSETTO:-0700
TZNAME:PDT
DTSTART:20240310T100000
END:DAYLIGHT
BEGIN:STANDARD
TZOFFSETFROM:-0700
TZOFFSETTO:-0800
TZNAME:PST
DTSTART:20241103T090000
END:STANDARD
END:VTIMEZONE
BEGIN:VEVENT
DTSTART;TZID=America/Los_Angeles:20230109T070000
DTEND;TZID=America/Los_Angeles:20230112T170000
DTSTAMP:20260420T101800
CREATED:20221102T220648Z
LAST-MODIFIED:20221102T220648Z
UID:10002720-1673247600-1673542800@wp.sbcounty.gov
SUMMARY:Traffic Collision Investigation\, Basic
DESCRIPTION:This 40-hours course provides accident investigation from on-the-scene procedures to follow up and practical application of how to use report forms and accident investigation terminology together with the study of vehicle code law and court decisions. \nCourse meets requirements of VC40600 (a). \nClick for Flyer
URL:https://wp.sbcounty.gov/sheriff/community-event-calendar/traffic-collision-investigation-basic-12/
LOCATION:Frank Bland Regional Training Center\, 18901 Institution Rd\, San Bernardino\, CA\, 92407\, United States
CATEGORIES:Advanced Officer Training
END:VEVENT
BEGIN:VEVENT
DTSTART;TZID=America/Los_Angeles:20230105T130000
DTEND;TZID=America/Los_Angeles:20230105T170000
DTSTAMP:20260420T101800
CREATED:20221116T201441Z
LAST-MODIFIED:20221116T201441Z
UID:10002270-1672923600-1672938000@wp.sbcounty.gov
SUMMARY:Fentanyl Safety\, Awareness\, and Overdose Response
DESCRIPTION:This course serves to educate the patrol-level law-enforcement officer in the response to fentanyl-related overdose investigations. Students will learn the fundamentals of fentanyl overdose deaths\, how to stay safe when handling fentanyl and proper documentation. The course will cover investigative techniques and review the pertinent charges related to these investigations. Finally\, case studies will be shown to demonstrate the importance of the initial patrol response through the prosecution while discussing lessons learned. \n“Click for Flyer” 
URL:https://wp.sbcounty.gov/sheriff/community-event-calendar/fentanyl-safety-awareness-and-overdose-response-2/
LOCATION:Frank Bland Regional Training Center\, 18901 Institution Rd\, San Bernardino\, CA\, 92407\, United States
CATEGORIES:Advanced Officer Training
ORGANIZER;CN="Advanced Officer Training":MAILTO:ggonzales@sbcsd.org
END:VEVENT
BEGIN:VEVENT
DTSTART;TZID=America/Los_Angeles:20230105T080000
DTEND;TZID=America/Los_Angeles:20230105T120000
DTSTAMP:20260420T101800
CREATED:20221116T201240Z
LAST-MODIFIED:20221116T201240Z
UID:10002264-1672905600-1672920000@wp.sbcounty.gov
SUMMARY:Fentanyl Safety\, Awareness\, and Overdose Response
DESCRIPTION:This course serves to educate the patrol-level law-enforcement officer in the response to fentanyl-related overdose investigations. Students will learn the fundamentals of fentanyl overdose deaths\, how to stay safe when handling fentanyl and proper documentation. The course will cover investigative techniques and review the pertinent charges related to these investigations. Finally\, case studies will be shown to demonstrate the importance of the initial patrol response through the prosecution while discussing lessons learned. \n  \n“Click for Flyer”
URL:https://wp.sbcounty.gov/sheriff/community-event-calendar/fentanyl-safety-awareness-and-overdose-response/
LOCATION:Frank Bland Regional Training Center\, 18901 Institution Rd\, San Bernardino\, CA\, 92407\, United States
CATEGORIES:Advanced Officer Training
ORGANIZER;CN="Advanced Officer Training":MAILTO:ggonzales@sbcsd.org
END:VEVENT
BEGIN:VEVENT
DTSTART;TZID=America/Los_Angeles:20221215T080000
DTEND;TZID=America/Los_Angeles:20221215T170000
DTSTAMP:20260420T101800
CREATED:20221011T191157Z
LAST-MODIFIED:20221011T194940Z
UID:10002714-1671091200-1671123600@wp.sbcounty.gov
SUMMARY:Law Enforcement Casualty Care (Tac Med)
DESCRIPTION:This course will teach basic medical care interventions\, which can save an injured officer or victims’ life until they can be assisted by conventional EMS.  Instruction will focus on the use of readily available resources such as tourniquets\, gauze\, wound packing materials\, hemostatic dressings\, etc. \n“CLICK FOR FLYER”
URL:https://wp.sbcounty.gov/sheriff/community-event-calendar/law-enforcement-casualty-care-tac-med-2/
LOCATION:Frank Bland Regional Training Center\, 18901 Institution Rd\, San Bernardino\, CA\, 92407\, United States
CATEGORIES:Law Enforcement Training Courses
ORGANIZER;CN="Advanced Officer Training":MAILTO:ggonzales@sbcsd.org
END:VEVENT
BEGIN:VEVENT
DTSTART;TZID=America/Los_Angeles:20221114T070000
DTEND;TZID=America/Los_Angeles:20221117T170000
DTSTAMP:20260420T101800
CREATED:20220713T203828Z
LAST-MODIFIED:20220812T165524Z
UID:10002654-1668409200-1668704400@wp.sbcounty.gov
SUMMARY:Traffic Collision Investigation - Basic
DESCRIPTION:This 40-hours course provides accident investigation from on-the-scene procedures to follow up and practical application of how to use report forms and accident investigation terminology together with the study of vehicle code law and court decisions. \nCourse meets requirements of VC40600 (a). \nCLICK FOR FLYER
URL:https://wp.sbcounty.gov/sheriff/community-event-calendar/traffic-collision-investigation-basic-11/
LOCATION:Frank Bland Regional Training Center\, 18901 Institution Rd\, San Bernardino\, CA\, 92407\, United States
CATEGORIES:Advanced Officer Training
END:VEVENT
BEGIN:VEVENT
DTSTART;TZID=America/Los_Angeles:20221110T080000
DTEND;TZID=America/Los_Angeles:20221110T170000
DTSTAMP:20260420T101800
CREATED:20221011T191014Z
LAST-MODIFIED:20221011T195045Z
UID:10002711-1668067200-1668099600@wp.sbcounty.gov
SUMMARY:Law Enforcement Casualty Care (Tac Med)
DESCRIPTION:This course will teach basic medical care interventions\, which can save an injured officer or victims’ life until they can be assisted by conventional EMS.  Instruction will focus on the use of readily available resources such as tourniquets\, gauze\, wound packing materials\, hemostatic dressings\, etc. \n“Click for Flyer”
URL:https://wp.sbcounty.gov/sheriff/community-event-calendar/law-enforcement-casualty-care-tac-med/
LOCATION:Frank Bland Regional Training Center\, 18901 Institution Rd\, San Bernardino\, CA\, 92407\, United States
CATEGORIES:Law Enforcement Training Courses
ORGANIZER;CN="Advanced Officer Training":MAILTO:ggonzales@sbcsd.org
END:VEVENT
BEGIN:VEVENT
DTSTART;TZID=America/Los_Angeles:20221109T080000
DTEND;TZID=America/Los_Angeles:20221111T170000
DTSTAMP:20260420T101800
CREATED:20220913T233630Z
LAST-MODIFIED:20220913T233630Z
UID:10002702-1667980800-1668186000@wp.sbcounty.gov
SUMMARY:Driving Under the Influence
DESCRIPTION:Course teaches current DUI and Standardized Field Sobriety Tests (SFST) materials and curriculum established by the National Highway Traffic Safety Administration (NHTSA) and the IACP. Course meets prerequisites for ARIDE and DRE set by the California Highway Patrol (CHP). Designed for sworn law enforcement who have responsibilities for DUI enforcement both in the patrol and dedicated traffic enforcement roles. \nClick for Flyer
URL:https://wp.sbcounty.gov/sheriff/community-event-calendar/driving-under-the-influence-5/
LOCATION:Frank Bland Regional Training Center\, 18901 Institution Rd\, San Bernardino\, CA\, 92407\, United States
CATEGORIES:Advanced Officer Training
END:VEVENT
BEGIN:VEVENT
DTSTART;TZID=America/Los_Angeles:20221024T080000
DTEND;TZID=America/Los_Angeles:20221028T170000
DTSTAMP:20260420T101800
CREATED:20221007T182140Z
LAST-MODIFIED:20221007T184646Z
UID:10002708-1666598400-1666976400@wp.sbcounty.gov
SUMMARY:Field Training Officer
DESCRIPTION:This course is designed for the experienced peace officer recently appointed to the position of Field Training Officer. This course will have a strong emphasis on the FTO/trainee relationship and a strong focus on teaching techniques. \n  \n“Click for Flyer”
URL:https://wp.sbcounty.gov/sheriff/community-event-calendar/field-training-officer-13/
LOCATION:Frank Bland Regional Training Center\, 18901 Institution Rd\, San Bernardino\, CA\, 92407\, United States
CATEGORIES:Advanced Officer Training
ORGANIZER;CN="Advanced Officer Training":MAILTO:ggonzales@sbcsd.org
END:VEVENT
BEGIN:VEVENT
DTSTART;TZID=America/Los_Angeles:20221017T080000
DTEND;TZID=America/Los_Angeles:20221021T170000
DTSTAMP:20260420T101800
CREATED:20220812T174751Z
LAST-MODIFIED:20220812T175818Z
UID:10002672-1665993600-1666371600@wp.sbcounty.gov
SUMMARY:Academy Instructor Certification Course (AICC)
DESCRIPTION:This course meets the basic instructional skills training requirement to teach in the P.O.S.T. Regular Basic Course and for the Academy Instructor Certificate Program. Students will gain facilitation skills and an understanding of how to employ adult learning methodologies appropriate for various law enforcement topics. This class is designed to teach fresh\, innovative techniques. \nCLICK FOR FLYER
URL:https://wp.sbcounty.gov/sheriff/community-event-calendar/academy-instructor-certification-course-aicc-11/
LOCATION:Frank Bland Regional Training Center\, 18901 Institution Rd\, San Bernardino\, CA\, 92407\, United States
CATEGORIES:Advanced Officer Training
ORGANIZER;CN="Advanced Officer Training":MAILTO:ggonzales@sbcsd.org
END:VEVENT
BEGIN:VEVENT
DTSTART;TZID=America/Los_Angeles:20221011T080000
DTEND;TZID=America/Los_Angeles:20221013T170000
DTSTAMP:20260420T101800
CREATED:20220818T225902Z
LAST-MODIFIED:20220818T225902Z
UID:10002696-1665475200-1665680400@wp.sbcounty.gov
SUMMARY:Advanced Gang Awareness
DESCRIPTION:This course provides a thorough overview of the most current trends surrounding street\, prison\, and motorcycle gangs as observed from active investigators from the Department’s Regional Gang Division. \n“Click for Flyer”
URL:https://wp.sbcounty.gov/sheriff/community-event-calendar/advanced-gang-awareness-4/
LOCATION:Frank Bland Regional Training Center\, 18901 Institution Rd\, San Bernardino\, CA\, 92407\, United States
CATEGORIES:Law Enforcement Training Courses
END:VEVENT
BEGIN:VEVENT
DTSTART;TZID=America/Los_Angeles:20220929T080000
DTEND;TZID=America/Los_Angeles:20220929T170000
DTSTAMP:20260420T101800
CREATED:20220818T225636Z
LAST-MODIFIED:20220818T225636Z
UID:10002699-1664438400-1664470800@wp.sbcounty.gov
SUMMARY:Law Enforcement Casualty Care
DESCRIPTION:This course will teach basic medical care interventions\, which can save an injured officer or victims’ life until they can be assisted by conventional EMS.  Instruction will focus on the use of readily available resources such as tourniquets\, gauze\, wound packing materials\, hemostatic dressings\, etc. \n“Click for Flyer”
URL:https://wp.sbcounty.gov/sheriff/community-event-calendar/law-enforcement-casualty-care-3/
LOCATION:Frank Bland Regional Training Center\, 18901 Institution Rd\, San Bernardino\, CA\, 92407\, United States
CATEGORIES:Law Enforcement Training Courses
END:VEVENT
BEGIN:VEVENT
DTSTART;TZID=America/Los_Angeles:20220919T080000
DTEND;TZID=America/Los_Angeles:20220930T170000
DTSTAMP:20260420T101800
CREATED:20220812T182545Z
LAST-MODIFIED:20220812T182545Z
UID:10002675-1663574400-1664557200@wp.sbcounty.gov
SUMMARY:Civilian Supervisory Course
DESCRIPTION:Course Description: POST standardized curriculum introduces supervisors to the role\, responsibilities and resources available for their position. This course is POST certified and is taught in a facilitated format to encourage leadership and team building in supervisors.\nCLICK FOR FLYER\n  \n\n\n\nLearning Topics:\n·         Situational Based Leadership \n ·         Effective Communication \n ·         Disciplinary Issues \n ·         Ethics\, Values\, and Integrity \n·         Stress Management \n ·         Performance Evaluations and Employee Improvement Plans
URL:https://wp.sbcounty.gov/sheriff/community-event-calendar/civilian-supervisory-course-12/
LOCATION:Frank Bland Regional Training Center\, 18901 Institution Rd\, San Bernardino\, CA\, 92407\, United States
CATEGORIES:Advanced Officer Training
ORGANIZER;CN="Advanced Officer Training":MAILTO:ggonzales@sbcsd.org
END:VEVENT
BEGIN:VEVENT
DTSTART;TZID=America/Los_Angeles:20220912T070000
DTEND;TZID=America/Los_Angeles:20220922T170000
DTSTAMP:20260420T101800
CREATED:20220713T163738Z
LAST-MODIFIED:20220812T165602Z
UID:10002648-1662966000-1663866000@wp.sbcounty.gov
SUMMARY:Traffic Collision Investigation - Advanced
DESCRIPTION:This 80-hour course is designed for experienced traffic collision investigators. Emphasis is on the applications of mathematics and physics to collision analysis\, scene documentation and evaluation. \nPrerequisite: Intermediate Traffic Collision Inv. \nCLICK FOR FLYER
URL:https://wp.sbcounty.gov/sheriff/community-event-calendar/traffic-collision-investigation-advanced-5/
LOCATION:Frank Bland Regional Training Center\, 18901 Institution Rd\, San Bernardino\, CA\, 92407\, United States
CATEGORIES:Advanced Officer Training
END:VEVENT
BEGIN:VEVENT
DTSTART;TZID=America/Los_Angeles:20220905T070000
DTEND;TZID=America/Los_Angeles:20220908T170000
DTSTAMP:20260420T101800
CREATED:20220713T163514Z
LAST-MODIFIED:20220812T165627Z
UID:10002645-1662361200-1662656400@wp.sbcounty.gov
SUMMARY:Traffic Collision Investigation - Basic
DESCRIPTION:This 40-hours course provides accident investigation from on-the-scene procedures to follow up and practical application of how to use report forms and accident investigation terminology together with the study of vehicle code law and court decisions. \nCourse meets requirements of VC40600 (a). \nCLICK FOR FLYER
URL:https://wp.sbcounty.gov/sheriff/community-event-calendar/traffic-collision-investigation-basic-10/
LOCATION:Frank Bland Regional Training Center\, 18901 Institution Rd\, San Bernardino\, CA\, 92407\, United States
CATEGORIES:Advanced Officer Training
END:VEVENT
BEGIN:VEVENT
DTSTART;TZID=America/Los_Angeles:20220822T070000
DTEND;TZID=America/Los_Angeles:20220825T170000
DTSTAMP:20260420T101800
CREATED:20220713T163236Z
LAST-MODIFIED:20220812T165711Z
UID:10002642-1661151600-1661446800@wp.sbcounty.gov
SUMMARY:Traffic Collision Investigation - Intermediate
DESCRIPTION:This course builds on concepts taught in the basic traffic collision investigation course. It also introduces students to expanded mathematical equations and physics topics as they relate to collisions. Skid marks are analyzed and speed is calculated using standardized equations. \nPrerequisite: Basic Traffic Collision Inv. \nCLICK FOR FLYER
URL:https://wp.sbcounty.gov/sheriff/community-event-calendar/traffic-collision-investigation-intermediate-3/
LOCATION:Frank Bland Regional Training Center\, 18901 Institution Rd\, San Bernardino\, CA\, 92407\, United States
CATEGORIES:Advanced Officer Training
END:VEVENT
BEGIN:VEVENT
DTSTART;TZID=America/Los_Angeles:20220819T080000
DTEND;TZID=America/Los_Angeles:20220819T170000
DTSTAMP:20260420T101800
CREATED:20220718T194409Z
LAST-MODIFIED:20220718T194409Z
UID:10002663-1660896000-1660928400@wp.sbcounty.gov
SUMMARY:Law Enforcement Casualty Care
DESCRIPTION:This course will teach basic medical care interventions\, which can save an injured officer or victims’ life until they can be assisted by conventional EMS.  Instruction will focus on the use of readily available resources such as tourniquets\, gauze\, wound packing  materials\, hemostatic dressings\, etc. \n“Click for Flyer”
URL:https://wp.sbcounty.gov/sheriff/community-event-calendar/law-enforcement-casualty-care-2/
LOCATION:Frank Bland Regional Training Center\, 18901 Institution Rd\, San Bernardino\, CA\, 92407\, United States
CATEGORIES:Law Enforcement Training Courses
END:VEVENT
BEGIN:VEVENT
DTSTART;TZID=America/Los_Angeles:20220815T080000
DTEND;TZID=America/Los_Angeles:20220819T170000
DTSTAMP:20260420T101800
CREATED:20220812T171100Z
LAST-MODIFIED:20220812T175851Z
UID:10002666-1660550400-1660928400@wp.sbcounty.gov
SUMMARY:Academy Instructor Certification Course (AICC)
DESCRIPTION:This course meets the basic instructional skills training requirement to teach in the P.O.S.T. Regular Basic Course and for the Academy Instructor Certificate Program. Students will gain facilitation skills and an understanding of how to employ adult learning methodologies appropriate for various law enforcement topics. This class is designed to teach fresh\, innovative techniques. \n  \nCLICK FOR FLYER\n  \n  \n  \nhttps://wp.sbcounty.gov/sheriff/wp-content/uploads/sites/17/AICC-August-2022-PLAN-V-.pdf
URL:https://wp.sbcounty.gov/sheriff/community-event-calendar/academy-instructor-certification-course-aicc-5/
LOCATION:Frank Bland Regional Training Center\, 18901 Institution Rd\, San Bernardino\, CA\, 92407\, United States
CATEGORIES:Advanced Officer Training
END:VEVENT
BEGIN:VEVENT
DTSTART;TZID=America/Los_Angeles:20220726T080000
DTEND;TZID=America/Los_Angeles:20220729T170000
DTSTAMP:20260420T101800
CREATED:20220707T141445Z
LAST-MODIFIED:20220707T144607Z
UID:10002636-1658822400-1659114000@wp.sbcounty.gov
SUMMARY:School Resource Officer
DESCRIPTION:The purpose of this course is to provide an overview of the basic functions of the School Resource Officer and his/her collaboration with the education system. \n“Click for Flyer”
URL:https://wp.sbcounty.gov/sheriff/community-event-calendar/school-resource-officer/
LOCATION:Frank Bland Regional Training Center\, 18901 Institution Rd\, San Bernardino\, CA\, 92407\, United States
CATEGORIES:Law Enforcement Training Courses
END:VEVENT
BEGIN:VEVENT
DTSTART;TZID=America/Los_Angeles:20220726T080000
DTEND;TZID=America/Los_Angeles:20220728T170000
DTSTAMP:20260420T101800
CREATED:20220607T145549Z
LAST-MODIFIED:20220607T145549Z
UID:10002621-1658822400-1659027600@wp.sbcounty.gov
SUMMARY:Field Training Officer - Update
DESCRIPTION:This course is designed for the experienced Field Training Officer and includes updated instruction in liability\, documentation and teaching techniques with an emphasis on the FTO/Trainee relationship. \n“click for flyer”
URL:https://wp.sbcounty.gov/sheriff/community-event-calendar/field-training-officer-update-5/
LOCATION:Frank Bland Regional Training Center\, 18901 Institution Rd\, San Bernardino\, CA\, 92407\, United States
CATEGORIES:Advanced Officer Training
END:VEVENT
BEGIN:VEVENT
DTSTART;TZID=America/Los_Angeles:20220726T080000
DTEND;TZID=America/Los_Angeles:20220728T170000
DTSTAMP:20260420T101800
CREATED:20220526T221556Z
LAST-MODIFIED:20220526T221556Z
UID:10002615-1658822400-1659027600@wp.sbcounty.gov
SUMMARY:Advanced Gang Awareness
DESCRIPTION:This course provides a thorough overview of the most current trends surrounding street\, prison\, and motorcycle gangs as observed from active investigators from the Department’s Regional Gang Division. \n“Click for Flyer”
URL:https://wp.sbcounty.gov/sheriff/community-event-calendar/advanced-gang-awareness-3/
LOCATION:Frank Bland Regional Training Center\, 18901 Institution Rd\, San Bernardino\, CA\, 92407\, United States
CATEGORIES:Law Enforcement Training Courses
END:VEVENT
BEGIN:VEVENT
DTSTART;TZID=America/Los_Angeles:20220725T080000
DTEND;TZID=America/Los_Angeles:20220728T170000
DTSTAMP:20260420T101800
CREATED:20220713T162932Z
LAST-MODIFIED:20220713T162932Z
UID:10002639-1658736000-1659027600@wp.sbcounty.gov
SUMMARY:Traffic Collision Investigation - Basic
DESCRIPTION:This 40-hours course provides accident investigation from on-the-scene procedures to follow up and practical application of how to use report forms and accident investigation terminology together with the study of vehicle code law and court decisions.\nCourse meets requirements of VC40600 (a). \nCLICK FOR FLYER
URL:https://wp.sbcounty.gov/sheriff/community-event-calendar/traffic-collision-investigation-basic-9/
LOCATION:Frank Bland Regional Training Center\, 18901 Institution Rd\, San Bernardino\, CA\, 92407\, United States
CATEGORIES:Advanced Officer Training
END:VEVENT
BEGIN:VEVENT
DTSTART;TZID=America/Los_Angeles:20220718T080000
DTEND;TZID=America/Los_Angeles:20220722T170000
DTSTAMP:20260420T101800
CREATED:20220607T145108Z
LAST-MODIFIED:20220607T145108Z
UID:10002618-1658131200-1658509200@wp.sbcounty.gov
SUMMARY:Field Training Officer
DESCRIPTION:This course is designed for the experienced Peace Officer recently appointed as a Field Training Officer. Course includes instruction in liability\, documentation\, and teaching techniques with an emphasis on the FTO/Trainee relationship. \n  \n“click for Flyer”
URL:https://wp.sbcounty.gov/sheriff/community-event-calendar/field-training-officer-12/
LOCATION:Frank Bland Regional Training Center\, 18901 Institution Rd\, San Bernardino\, CA\, 92407\, United States
CATEGORIES:Advanced Officer Training
END:VEVENT
BEGIN:VEVENT
DTSTART;VALUE=DATE:20220624
DTEND;VALUE=DATE:20220625
DTSTAMP:20260420T101800
CREATED:20220525T150209Z
LAST-MODIFIED:20220525T150209Z
UID:10002612-1656028800-1656115199@wp.sbcounty.gov
SUMMARY:Gangs - Cal Gang Computer System Update (Query)
DESCRIPTION:“Query” is an eight-hour course that will train users to search the database to assist in criminal investigations along with identifying gang members and gang criteria. \n“Click for Flyer”
URL:https://wp.sbcounty.gov/sheriff/community-event-calendar/gangs-cal-gang-computer-system-update-query/
LOCATION:Frank Bland Regional Training Center\, 18901 Institution Rd\, San Bernardino\, CA\, 92407\, United States
CATEGORIES:Law Enforcement Training Courses
END:VEVENT
BEGIN:VEVENT
DTSTART;TZID=America/Los_Angeles:20220613T080000
DTEND;TZID=America/Los_Angeles:20220615T170000
DTSTAMP:20260420T101800
CREATED:20220328T150336Z
LAST-MODIFIED:20220328T150336Z
UID:10002606-1655107200-1655312400@wp.sbcounty.gov
SUMMARY:Traffic Program Management
DESCRIPTION:This course explores working with and supervising traffic officers. It reviews the concepts of traffic engineering\, office of traffic safety\, driving under the influence programs\, special events planning\, traffic resource management and report review. \nWHO SHOULD ATTEND:\nLaw enforcement supervisors and managers who are or may oversee a traffic program within their agency. \nclick for flyer
URL:https://wp.sbcounty.gov/sheriff/community-event-calendar/traffic-program-management-4/
LOCATION:Frank Bland Regional Training Center\, 18901 Institution Rd\, San Bernardino\, CA\, 92407\, United States
CATEGORIES:Advanced Officer Training
END:VEVENT
BEGIN:VEVENT
DTSTART;TZID=America/Los_Angeles:20220606T080000
DTEND;TZID=America/Los_Angeles:20220610T170000
DTSTAMP:20260420T101800
CREATED:20210526T172708Z
LAST-MODIFIED:20210526T172708Z
UID:10002504-1654502400-1654880400@wp.sbcounty.gov
SUMMARY:Academy Instructor Certification Course (AICC)
DESCRIPTION:This course meets the basic instructional skills training requirement to teach in the P.O.S.T. Regular Basic Course and for the Academy Instructor Certificate Program. Students will gain facilitation skills and an understanding of how to employ adult learning methodologies appropriate for various law enforcement topics. This class is designed to teach fresh\, innovative techniques. \n  \nClick for Flyer
URL:https://wp.sbcounty.gov/sheriff/community-event-calendar/academy-instructor-certification-course-aicc-8/
LOCATION:Frank Bland Regional Training Center\, 18901 Institution Rd\, San Bernardino\, CA\, 92407\, United States
CATEGORIES:Advanced Officer Training
END:VEVENT
BEGIN:VEVENT
DTSTART;TZID=America/Los_Angeles:20220606T080000
DTEND;TZID=America/Los_Angeles:20220607T170000
DTSTAMP:20260420T101800
CREATED:20220525T145637Z
LAST-MODIFIED:20220525T145637Z
UID:10002609-1654502400-1654621200@wp.sbcounty.gov
SUMMARY:Gangs- Cal Gang Computer System (Data Entry)
DESCRIPTION:“Data Entry” is a 16-hour course that will train users to search the database to assist in criminal investigations along with identifying gang members and gang criteria. It will also provide users the ability to enter all data into the system. \n“Click for Flyer”
URL:https://wp.sbcounty.gov/sheriff/community-event-calendar/gangs-cal-gang-computer-system-data-entry/
LOCATION:Frank Bland Regional Training Center\, 18901 Institution Rd\, San Bernardino\, CA\, 92407\, United States
CATEGORIES:Law Enforcement Training Courses
END:VEVENT
BEGIN:VEVENT
DTSTART;VALUE=DATE:20220502
DTEND;VALUE=DATE:20220503
DTSTAMP:20260420T101800
CREATED:20220316T221051Z
LAST-MODIFIED:20220317T230107Z
UID:10002600-1651449600-1651535999@wp.sbcounty.gov
SUMMARY:Report Writing
DESCRIPTION:This course provides an update on proper report writing techniques. It provides the skills needed to prepare a thoroughly written report. The course is designed for officers and deputies assigned to a patrol assignment to ensure personnel can prepare an articulate and factual case capable of being successfully filed and prosecuted.   \n  \n“CLICK FOR FLYER”
URL:https://wp.sbcounty.gov/sheriff/community-event-calendar/report-writing-4/
LOCATION:Frank Bland Regional Training Center\, 18901 Institution Rd\, San Bernardino\, CA\, 92407\, United States
CATEGORIES:Law Enforcement Training Courses
END:VEVENT
BEGIN:VEVENT
DTSTART;TZID=America/Los_Angeles:20220418T080000
DTEND;TZID=America/Los_Angeles:20220419T170000
DTSTAMP:20260420T101800
CREATED:20220310T153845Z
LAST-MODIFIED:20220310T153845Z
UID:10002594-1650268800-1650387600@wp.sbcounty.gov
SUMMARY:Interview and Interrogation
DESCRIPTION:This course is designed to provide officers with the knowledge to recognize the distinct differences between interviews and interrogations\, legal issues and how to obtain the truth from suspects\, witnesses and victims. \n  \n“Click for Flyer”
URL:https://wp.sbcounty.gov/sheriff/community-event-calendar/interview-and-interrogation-4/
LOCATION:Frank Bland Regional Training Center\, 18901 Institution Rd\, San Bernardino\, CA\, 92407\, United States
CATEGORIES:Law Enforcement Training Courses
END:VEVENT
BEGIN:VEVENT
DTSTART;TZID=America/Los_Angeles:20220411T080000
DTEND;TZID=America/Los_Angeles:20220415T170000
DTSTAMP:20260420T101800
CREATED:20220321T152635Z
LAST-MODIFIED:20220321T152635Z
UID:10002603-1649664000-1650042000@wp.sbcounty.gov
SUMMARY:Field Training Officer
DESCRIPTION:This course is designed for the experienced Peace Officer recently appointed as a Field Training Officer. Course includes instruction in liability\, documentation\, and teaching techniques with an emphasis on the FTO/Trainee relationship. \n  \n“CLICK FOR FLYER”
URL:https://wp.sbcounty.gov/sheriff/community-event-calendar/field-training-officer-11/
LOCATION:Frank Bland Regional Training Center\, 18901 Institution Rd\, San Bernardino\, CA\, 92407\, United States
CATEGORIES:Law Enforcement Training Courses
END:VEVENT
BEGIN:VEVENT
DTSTART;TZID=America/Los_Angeles:20220331T080000
DTEND;TZID=America/Los_Angeles:20220331T170000
DTSTAMP:20260420T101800
CREATED:20220310T154345Z
LAST-MODIFIED:20220310T154345Z
UID:10002597-1648713600-1648746000@wp.sbcounty.gov
SUMMARY:Drug Influence Recognition
DESCRIPTION:This course is designed to assist the patrol officer in the recognition of persons under the influence of illegal drugs. \n  \n“Click for Flyer”
URL:https://wp.sbcounty.gov/sheriff/community-event-calendar/drug-influence-recognition/
LOCATION:Frank Bland Regional Training Center\, 18901 Institution Rd\, San Bernardino\, CA\, 92407\, United States
CATEGORIES:Advanced Officer Training
END:VEVENT
END:VCALENDAR