BEGIN:VCALENDAR
VERSION:2.0
PRODID:-//San Bernardino County Sheriff&#039;s Department - ECPv6.15.14//NONSGML v1.0//EN
CALSCALE:GREGORIAN
METHOD:PUBLISH
X-WR-CALNAME:San Bernardino County Sheriff&#039;s Department
X-ORIGINAL-URL:https://wp.sbcounty.gov/sheriff
X-WR-CALDESC:Events for San Bernardino County Sheriff&#039;s Department
REFRESH-INTERVAL;VALUE=DURATION:PT1H
X-Robots-Tag:noindex
X-PUBLISHED-TTL:PT1H
BEGIN:VTIMEZONE
TZID:America/Los_Angeles
BEGIN:DAYLIGHT
TZOFFSETFROM:-0800
TZOFFSETTO:-0700
TZNAME:PDT
DTSTART:20200308T100000
END:DAYLIGHT
BEGIN:STANDARD
TZOFFSETFROM:-0700
TZOFFSETTO:-0800
TZNAME:PST
DTSTART:20201101T090000
END:STANDARD
BEGIN:DAYLIGHT
TZOFFSETFROM:-0800
TZOFFSETTO:-0700
TZNAME:PDT
DTSTART:20210314T100000
END:DAYLIGHT
BEGIN:STANDARD
TZOFFSETFROM:-0700
TZOFFSETTO:-0800
TZNAME:PST
DTSTART:20211107T090000
END:STANDARD
BEGIN:DAYLIGHT
TZOFFSETFROM:-0800
TZOFFSETTO:-0700
TZNAME:PDT
DTSTART:20220313T100000
END:DAYLIGHT
BEGIN:STANDARD
TZOFFSETFROM:-0700
TZOFFSETTO:-0800
TZNAME:PST
DTSTART:20221106T090000
END:STANDARD
END:VTIMEZONE
BEGIN:VEVENT
DTSTART;TZID=America/Los_Angeles:20211213T080000
DTEND;TZID=America/Los_Angeles:20211217T170000
DTSTAMP:20260421T234539
CREATED:20211118T213959Z
LAST-MODIFIED:20211118T213959Z
UID:10002573-1639382400-1639760400@wp.sbcounty.gov
SUMMARY:Field Training Officer
DESCRIPTION:This course is designed for the experienced Peace Officer recently appointed as a Field Training Officer. Course includes instruction in liability\, documentation\, and teaching techniques with an emphasis on the FTO/ Trainee relationship. \n  \n“Click for Flyer”
URL:https://wp.sbcounty.gov/sheriff/community-event-calendar/field-training-officer-10/
LOCATION:Frank Bland Regional Training Center\, 18901 Institution Rd\, San Bernardino\, CA\, 92407\, United States
END:VEVENT
BEGIN:VEVENT
DTSTART;TZID=America/Los_Angeles:20211108T070000
DTEND;TZID=America/Los_Angeles:20211118T170000
DTSTAMP:20260421T234539
CREATED:20201209T201046Z
LAST-MODIFIED:20210722T213006Z
UID:10002318-1636354800-1637254800@wp.sbcounty.gov
SUMMARY:Traffic Collision Investigation - Reconstruction
DESCRIPTION:THIS IS AN 80-HOUR ADVANCE TECHNICAL COURSE THAT INCLUDES HIGHER MATHEMATICS\, PHYSICS\, MOMENTUM THEORIES\, VEHICLE DYNAMICS\, RECONSTRUCTION METHODOLOGY AND MOTORCYLE\, AUTO-PEDESTRIAN/BICYCLE\, AND HEAVY DUTY ARTICULATED VEHICLE COLLISION ANALYSIS. THE STUDENT WILL BUILD ON CONCEPTS TAUGHT IN BASIC\, INTERMEDIATE AND ADVANCED TRAFFIC ACCIDENT INVESTIGATION SCHOOL. THIS CLASS IS OPEN TO CURRENT LAW ENFORCEMENT PEACE OFFICERS ONLY. \nPrerequisite: Advanced Traffic Collision Inv. \n  \n“Click for Flyer” \n 
URL:https://wp.sbcounty.gov/sheriff/community-event-calendar/traffic-collision-investigation-reconstruction-3/
LOCATION:Frank Bland Regional Training Center\, 18901 Institution Rd\, San Bernardino\, CA\, 92407\, United States
CATEGORIES:Advanced Officer Training
END:VEVENT
BEGIN:VEVENT
DTSTART;TZID=America/Los_Angeles:20211101T070000
DTEND;TZID=America/Los_Angeles:20211104T170000
DTSTAMP:20260421T234539
CREATED:20201209T192214Z
LAST-MODIFIED:20201209T192214Z
UID:10002273-1635750000-1636045200@wp.sbcounty.gov
SUMMARY:Basic Traffic Investigation
DESCRIPTION:This 40-hours course provides accident investigation from on-the-scene procedures to follow up and practical application of how to use report forms and accident investigation terminology together with the study of vehicle code law and court decisions.\nCourse meets requirements of VC40600 (a). \n  \n“Click for Flyer”
URL:https://wp.sbcounty.gov/sheriff/community-event-calendar/basic-traffic-investigation-5/
LOCATION:Frank Bland Regional Training Center\, 18901 Institution Rd\, San Bernardino\, CA\, 92407\, United States
CATEGORIES:Advanced Officer Training
END:VEVENT
BEGIN:VEVENT
DTSTART;TZID=America/Los_Angeles:20211019T080000
DTEND;TZID=America/Los_Angeles:20211021T170000
DTSTAMP:20260421T234539
CREATED:20210928T153719Z
LAST-MODIFIED:20210928T153719Z
UID:10002078-1634630400-1634835600@wp.sbcounty.gov
SUMMARY:Field Training Officer - Update
DESCRIPTION:This course is designed for the experienced Field Training Officer and includes updated instruction in liability\, documentation\, and teaching techniques with an emphasis on the FTO/ Trainee relationship. \n  \n“Click for Flyer” 
URL:https://wp.sbcounty.gov/sheriff/community-event-calendar/field-training-officer-update-3/
LOCATION:Frank Bland Regional Training Center\, 18901 Institution Rd\, San Bernardino\, CA\, 92407\, United States
CATEGORIES:Advanced Officer Training
END:VEVENT
BEGIN:VEVENT
DTSTART;TZID=America/Los_Angeles:20211018T080000
DTEND;TZID=America/Los_Angeles:20211022T170000
DTSTAMP:20260421T234539
CREATED:20210526T173113Z
LAST-MODIFIED:20210526T173113Z
UID:10002501-1634544000-1634922000@wp.sbcounty.gov
SUMMARY:Academy Instructor Certification Course (AICC)
DESCRIPTION:This course meets the basic instructional skills training requirement to teach in the P.O.S.T. Regular Basic Course and for the Academy Instructor Certificate Program. Students will gain facilitation skills and an understanding of how to employ adult learning methodologies appropriate for various law enforcement topics. This class is designed to teach fresh\, innovative techniques. \n  \nClick for Flyer
URL:https://wp.sbcounty.gov/sheriff/community-event-calendar/academy-instructor-certification-course-aicc-9/
LOCATION:Frank Bland Regional Training Center\, 18901 Institution Rd\, San Bernardino\, CA\, 92407\, United States
CATEGORIES:Advanced Officer Training
END:VEVENT
BEGIN:VEVENT
DTSTART;TZID=America/Los_Angeles:20211018T080000
DTEND;TZID=America/Los_Angeles:20211021T170000
DTSTAMP:20260421T234539
CREATED:20210909T195921Z
LAST-MODIFIED:20210909T195921Z
UID:10002072-1634544000-1634835600@wp.sbcounty.gov
SUMMARY:Traffic Collision Investigation Motor Vehicle Inspection
DESCRIPTION:The purpose of this course is to introduce the traffic investigator to the components and systems of a vehicle that may cause or contribute to a collision. Students will conduct complete examinations of all systems of a motor vehicle to determine functionality  and will learn how to document their findings. \n  \n“Click for Flyer”
URL:https://wp.sbcounty.gov/sheriff/community-event-calendar/traffic-collision-investigation-motor-vehicle-inspection-2/
LOCATION:Frank Bland Regional Training Center\, 18901 Institution Rd\, San Bernardino\, CA\, 92407\, United States
CATEGORIES:Law Enforcement Training Courses
END:VEVENT
BEGIN:VEVENT
DTSTART;TZID=America/Los_Angeles:20211014T070000
DTEND;TZID=America/Los_Angeles:20211014T170000
DTSTAMP:20260421T234539
CREATED:20201209T194252Z
LAST-MODIFIED:20210524T210759Z
UID:10002303-1634194800-1634230800@wp.sbcounty.gov
SUMMARY:Advanced Traffic Collision Investigation
DESCRIPTION:This 80-hour course is designed for experienced traffic collision investigators. Emphasis is on the\napplications of mathematics and physics to collision analysis\, scene documentation and evaluation. \nPrerequisite: Intermediate Traffic Collision Inv. \n  \n“Click for Flyer”
URL:https://wp.sbcounty.gov/sheriff/community-event-calendar/advanced-traffic-collision-investigation-2/2021-10-14/
LOCATION:Frank Bland Regional Training Center\, 18901 Institution Rd\, San Bernardino\, CA\, 92407\, United States
CATEGORIES:Advanced Officer Training
END:VEVENT
BEGIN:VEVENT
DTSTART;TZID=America/Los_Angeles:20211013T070000
DTEND;TZID=America/Los_Angeles:20211013T170000
DTSTAMP:20260421T234539
CREATED:20201209T194252Z
LAST-MODIFIED:20210524T210759Z
UID:10002300-1634108400-1634144400@wp.sbcounty.gov
SUMMARY:Advanced Traffic Collision Investigation
DESCRIPTION:This 80-hour course is designed for experienced traffic collision investigators. Emphasis is on the\napplications of mathematics and physics to collision analysis\, scene documentation and evaluation. \nPrerequisite: Intermediate Traffic Collision Inv. \n  \n“Click for Flyer”
URL:https://wp.sbcounty.gov/sheriff/community-event-calendar/advanced-traffic-collision-investigation-2/2021-10-13/
LOCATION:Frank Bland Regional Training Center\, 18901 Institution Rd\, San Bernardino\, CA\, 92407\, United States
CATEGORIES:Advanced Officer Training
END:VEVENT
BEGIN:VEVENT
DTSTART;TZID=America/Los_Angeles:20211012T070000
DTEND;TZID=America/Los_Angeles:20211012T170000
DTSTAMP:20260421T234539
CREATED:20201209T194252Z
LAST-MODIFIED:20210524T210759Z
UID:10002297-1634022000-1634058000@wp.sbcounty.gov
SUMMARY:Advanced Traffic Collision Investigation
DESCRIPTION:This 80-hour course is designed for experienced traffic collision investigators. Emphasis is on the\napplications of mathematics and physics to collision analysis\, scene documentation and evaluation. \nPrerequisite: Intermediate Traffic Collision Inv. \n  \n“Click for Flyer”
URL:https://wp.sbcounty.gov/sheriff/community-event-calendar/advanced-traffic-collision-investigation-2/2021-10-12/
LOCATION:Frank Bland Regional Training Center\, 18901 Institution Rd\, San Bernardino\, CA\, 92407\, United States
CATEGORIES:Advanced Officer Training
END:VEVENT
BEGIN:VEVENT
DTSTART;TZID=America/Los_Angeles:20211011T070000
DTEND;TZID=America/Los_Angeles:20211011T170000
DTSTAMP:20260421T234539
CREATED:20201209T194252Z
LAST-MODIFIED:20210524T210759Z
UID:10002294-1633935600-1633971600@wp.sbcounty.gov
SUMMARY:Advanced Traffic Collision Investigation
DESCRIPTION:This 80-hour course is designed for experienced traffic collision investigators. Emphasis is on the\napplications of mathematics and physics to collision analysis\, scene documentation and evaluation. \nPrerequisite: Intermediate Traffic Collision Inv. \n  \n“Click for Flyer”
URL:https://wp.sbcounty.gov/sheriff/community-event-calendar/advanced-traffic-collision-investigation-2/2021-10-11/
LOCATION:Frank Bland Regional Training Center\, 18901 Institution Rd\, San Bernardino\, CA\, 92407\, United States
CATEGORIES:Advanced Officer Training
END:VEVENT
BEGIN:VEVENT
DTSTART;TZID=America/Los_Angeles:20211008T070000
DTEND;TZID=America/Los_Angeles:20211008T170000
DTSTAMP:20260421T234539
CREATED:20201209T194252Z
LAST-MODIFIED:20210524T210759Z
UID:10002291-1633676400-1633712400@wp.sbcounty.gov
SUMMARY:Advanced Traffic Collision Investigation
DESCRIPTION:This 80-hour course is designed for experienced traffic collision investigators. Emphasis is on the\napplications of mathematics and physics to collision analysis\, scene documentation and evaluation. \nPrerequisite: Intermediate Traffic Collision Inv. \n  \n“Click for Flyer”
URL:https://wp.sbcounty.gov/sheriff/community-event-calendar/advanced-traffic-collision-investigation-2/2021-10-08/
LOCATION:Frank Bland Regional Training Center\, 18901 Institution Rd\, San Bernardino\, CA\, 92407\, United States
CATEGORIES:Advanced Officer Training
END:VEVENT
BEGIN:VEVENT
DTSTART;TZID=America/Los_Angeles:20211007T070000
DTEND;TZID=America/Los_Angeles:20211007T170000
DTSTAMP:20260421T234539
CREATED:20201209T194252Z
LAST-MODIFIED:20210524T210759Z
UID:10002288-1633590000-1633626000@wp.sbcounty.gov
SUMMARY:Advanced Traffic Collision Investigation
DESCRIPTION:This 80-hour course is designed for experienced traffic collision investigators. Emphasis is on the\napplications of mathematics and physics to collision analysis\, scene documentation and evaluation. \nPrerequisite: Intermediate Traffic Collision Inv. \n  \n“Click for Flyer”
URL:https://wp.sbcounty.gov/sheriff/community-event-calendar/advanced-traffic-collision-investigation-2/2021-10-07/
LOCATION:Frank Bland Regional Training Center\, 18901 Institution Rd\, San Bernardino\, CA\, 92407\, United States
CATEGORIES:Advanced Officer Training
END:VEVENT
BEGIN:VEVENT
DTSTART;TZID=America/Los_Angeles:20211006T070000
DTEND;TZID=America/Los_Angeles:20211006T170000
DTSTAMP:20260421T234539
CREATED:20201209T194252Z
LAST-MODIFIED:20210524T210759Z
UID:10002285-1633503600-1633539600@wp.sbcounty.gov
SUMMARY:Advanced Traffic Collision Investigation
DESCRIPTION:This 80-hour course is designed for experienced traffic collision investigators. Emphasis is on the\napplications of mathematics and physics to collision analysis\, scene documentation and evaluation. \nPrerequisite: Intermediate Traffic Collision Inv. \n  \n“Click for Flyer”
URL:https://wp.sbcounty.gov/sheriff/community-event-calendar/advanced-traffic-collision-investigation-2/2021-10-06/
LOCATION:Frank Bland Regional Training Center\, 18901 Institution Rd\, San Bernardino\, CA\, 92407\, United States
CATEGORIES:Advanced Officer Training
END:VEVENT
BEGIN:VEVENT
DTSTART;TZID=America/Los_Angeles:20211005T070000
DTEND;TZID=America/Los_Angeles:20211005T170000
DTSTAMP:20260421T234539
CREATED:20201209T194252Z
LAST-MODIFIED:20210524T210759Z
UID:10002282-1633417200-1633453200@wp.sbcounty.gov
SUMMARY:Advanced Traffic Collision Investigation
DESCRIPTION:This 80-hour course is designed for experienced traffic collision investigators. Emphasis is on the\napplications of mathematics and physics to collision analysis\, scene documentation and evaluation. \nPrerequisite: Intermediate Traffic Collision Inv. \n  \n“Click for Flyer”
URL:https://wp.sbcounty.gov/sheriff/community-event-calendar/advanced-traffic-collision-investigation-2/2021-10-05/
LOCATION:Frank Bland Regional Training Center\, 18901 Institution Rd\, San Bernardino\, CA\, 92407\, United States
CATEGORIES:Advanced Officer Training
END:VEVENT
BEGIN:VEVENT
DTSTART;TZID=America/Los_Angeles:20211004T070000
DTEND;TZID=America/Los_Angeles:20211004T170000
DTSTAMP:20260421T234539
CREATED:20201209T194252Z
LAST-MODIFIED:20210524T210759Z
UID:10002279-1633330800-1633366800@wp.sbcounty.gov
SUMMARY:Advanced Traffic Collision Investigation
DESCRIPTION:This 80-hour course is designed for experienced traffic collision investigators. Emphasis is on the\napplications of mathematics and physics to collision analysis\, scene documentation and evaluation. \nPrerequisite: Intermediate Traffic Collision Inv. \n  \n“Click for Flyer”
URL:https://wp.sbcounty.gov/sheriff/community-event-calendar/advanced-traffic-collision-investigation-2/2021-10-04/
LOCATION:Frank Bland Regional Training Center\, 18901 Institution Rd\, San Bernardino\, CA\, 92407\, United States
CATEGORIES:Advanced Officer Training
END:VEVENT
BEGIN:VEVENT
DTSTART;TZID=America/Los_Angeles:20210920T080000
DTEND;TZID=America/Los_Angeles:20210924T170000
DTSTAMP:20260421T234539
CREATED:20210526T173256Z
LAST-MODIFIED:20210526T173256Z
UID:10002498-1632124800-1632502800@wp.sbcounty.gov
SUMMARY:Academy Instructor Certification Course (AICC)
DESCRIPTION:This course meets the basic instructional skills training requirement to teach in the P.O.S.T. Regular Basic Course and for the Academy Instructor Certificate Program. Students will gain facilitation skills and an understanding of how to employ adult learning methodologies appropriate for various law enforcement topics. This class is designed to teach fresh\, innovative techniques. \n  \nClick for Flyer
URL:https://wp.sbcounty.gov/sheriff/community-event-calendar/academy-instructor-certification-course-aicc-10/
LOCATION:Frank Bland Regional Training Center\, 18901 Institution Rd\, San Bernardino\, CA\, 92407\, United States
CATEGORIES:Advanced Officer Training
END:VEVENT
BEGIN:VEVENT
DTSTART;TZID=America/Los_Angeles:20210913T080000
DTEND;TZID=America/Los_Angeles:20210917T170000
DTSTAMP:20260421T234539
CREATED:20210728T160546Z
LAST-MODIFIED:20210728T160546Z
UID:10002516-1631520000-1631898000@wp.sbcounty.gov
SUMMARY:Field Training Officer
DESCRIPTION:This course is designed for the experienced Peace Officer recently appointed as a Field Training Officer. Course includes instruction in liability\, documentation\, and teaching techniques with an emphasis on the FTO/ Trainee relationship. \n  \n“Click for Flyer”
URL:https://wp.sbcounty.gov/sheriff/community-event-calendar/field-training-officer-9/
LOCATION:Frank Bland Regional Training Center\, 18901 Institution Rd\, San Bernardino\, CA\, 92407\, United States
CATEGORIES:Law Enforcement Training Courses
END:VEVENT
BEGIN:VEVENT
DTSTART;TZID=America/Los_Angeles:20210913T070000
DTEND;TZID=America/Los_Angeles:20210916T170000
DTSTAMP:20260421T234539
CREATED:20210524T193854Z
LAST-MODIFIED:20210524T215221Z
UID:10002468-1631516400-1631811600@wp.sbcounty.gov
SUMMARY:Basic Traffic Collision Investigation
DESCRIPTION:This 40-hours course provides accident investigation from on-the-scene procedures to follow up and practical application of how to use report forms and accident investigation terminology together with the study of vehicle code law and court decisions. Course meets requirements of VC40600 (a). \n  \nClick for Flyer
URL:https://wp.sbcounty.gov/sheriff/community-event-calendar/basic-traffic-collision-investigation-7/
LOCATION:Frank Bland Regional Training Center\, 18901 Institution Rd\, San Bernardino\, CA\, 92407\, United States
CATEGORIES:Advanced Officer Training
END:VEVENT
BEGIN:VEVENT
DTSTART;TZID=America/Los_Angeles:20210824T080000
DTEND;TZID=America/Los_Angeles:20210827T170000
DTSTAMP:20260421T234539
CREATED:20210524T185023Z
LAST-MODIFIED:20210524T215201Z
UID:10002357-1629792000-1630083600@wp.sbcounty.gov
SUMMARY:Background Investigations
DESCRIPTION:This course will provide students with the knowledge necessary to conduct background investigations for law enforcement agencies. It will provide officers with the tools to complete a proper and thorough Background Investigation that satisfies two goals\, assuring compliance with all applicable minimum standards for employment and screening out candidates who based on their past history of other relevant information\, are found unsuitable for the positions in question. \n  \nClick for Flyer
URL:https://wp.sbcounty.gov/sheriff/community-event-calendar/background-investigations-4/
LOCATION:Frank Bland Regional Training Center\, 18901 Institution Rd\, San Bernardino\, CA\, 92407\, United States
CATEGORIES:Advanced Officer Training
END:VEVENT
BEGIN:VEVENT
DTSTART;TZID=America/Los_Angeles:20210823T070000
DTEND;TZID=America/Los_Angeles:20210826T170000
DTSTAMP:20260421T234539
CREATED:20210524T194029Z
LAST-MODIFIED:20210524T215142Z
UID:10002465-1629702000-1629997200@wp.sbcounty.gov
SUMMARY:Traffic Collision Investigation - Intermediate
DESCRIPTION:This course builds on concepts taught in the basic traffic collision investigation course. It also introduces students to expanded mathematical equations and physics topics as they relate to collisions. Skid marks are analyzed and speed is calculated using standardized equations. \nPrerequisite: Basic Traffic Collision Inv. \n  \nClick for Flyer
URL:https://wp.sbcounty.gov/sheriff/community-event-calendar/traffic-collision-investigation-intermediate-4/
LOCATION:Frank Bland Regional Training Center\, 18901 Institution Rd\, San Bernardino\, CA\, 92407\, United States
CATEGORIES:Advanced Officer Training
END:VEVENT
BEGIN:VEVENT
DTSTART;TZID=America/Los_Angeles:20210712T080000
DTEND;TZID=America/Los_Angeles:20210716T170000
DTSTAMP:20260421T234539
CREATED:20210526T172534Z
LAST-MODIFIED:20210526T172534Z
UID:10002486-1626076800-1626454800@wp.sbcounty.gov
SUMMARY:Academy Instructor Certification Course (AICC)
DESCRIPTION:This course meets the basic instructional skills training requirement to teach in the P.O.S.T. Regular Basic Course and for the Academy Instructor Certificate Program. Students will gain facilitation skills and an understanding of how to employ adult learning methodologies appropriate for various law enforcement topics. This class is designed to teach fresh\, innovative techniques. \n  \nClick for Flyer
URL:https://wp.sbcounty.gov/sheriff/community-event-calendar/academy-instructor-certification-course-aicc-7/
LOCATION:Frank Bland Regional Training Center\, 18901 Institution Rd\, San Bernardino\, CA\, 92407\, United States
CATEGORIES:Advanced Officer Training
END:VEVENT
BEGIN:VEVENT
DTSTART;TZID=America/Los_Angeles:20210712T070000
DTEND;TZID=America/Los_Angeles:20210715T170000
DTSTAMP:20260421T234539
CREATED:20210524T193710Z
LAST-MODIFIED:20210524T214955Z
UID:10002471-1626073200-1626368400@wp.sbcounty.gov
SUMMARY:Basic Traffic Collision Investigation
DESCRIPTION:This 40-hours course provides accident investigation from on-the-scene procedures to follow up and practical application of how to use report forms and accident investigation terminology together with the study of vehicle code law and court decisions. Course meets requirements of VC40600 (a). \n  \nClick for Flyer
URL:https://wp.sbcounty.gov/sheriff/community-event-calendar/basic-traffic-collision-investigation-6/
LOCATION:Frank Bland Regional Training Center\, 18901 Institution Rd\, San Bernardino\, CA\, 92407\, United States
CATEGORIES:Advanced Officer Training
END:VEVENT
BEGIN:VEVENT
DTSTART;TZID=America/Los_Angeles:20210707T080000
DTEND;TZID=America/Los_Angeles:20210709T170000
DTSTAMP:20260421T234539
CREATED:20210524T191556Z
LAST-MODIFIED:20210524T214917Z
UID:10002483-1625644800-1625850000@wp.sbcounty.gov
SUMMARY:Field Training Officer - Update
DESCRIPTION:This course is designed for the experienced Field Training Officer and includes updated instruction in liability\, documentation\, and teaching techniques with an emphasis on the FTO/ Trainee relationship. \n  \nClick for Flyer
URL:https://wp.sbcounty.gov/sheriff/community-event-calendar/field-training-officer-update-4/
LOCATION:Frank Bland Regional Training Center\, 18901 Institution Rd\, San Bernardino\, CA\, 92407\, United States
CATEGORIES:Advanced Officer Training
END:VEVENT
BEGIN:VEVENT
DTSTART;TZID=America/Los_Angeles:20210621T080000
DTEND;TZID=America/Los_Angeles:20210625T170000
DTSTAMP:20260421T234539
CREATED:20210524T190431Z
LAST-MODIFIED:20210524T190431Z
UID:10002456-1624262400-1624640400@wp.sbcounty.gov
SUMMARY:Crisis Intervention Team
DESCRIPTION:This course is designed to train local law enforcement officers on how to cope with crisis situations with the\nmentally ill and developmentally disabled community. Officers also participate in various site visits\, scenario training and given information about additional mental health resources. This course satisfies legislative mandate PC13515.27(a)(1) PC13515.28(a)(1)\, SB11/SB29 \n  \nClick for Flyer
URL:https://wp.sbcounty.gov/sheriff/community-event-calendar/crisis-intervention-team-9/
LOCATION:Frank Bland Regional Training Center\, 18901 Institution Rd\, San Bernardino\, CA\, 92407\, United States
CATEGORIES:Advanced Officer Training
END:VEVENT
BEGIN:VEVENT
DTSTART;TZID=America/Los_Angeles:20210610T080000
DTEND;TZID=America/Los_Angeles:20210610T170000
DTSTAMP:20260421T234539
CREATED:20210524T192232Z
LAST-MODIFIED:20210524T200010Z
UID:10002480-1623312000-1623344400@wp.sbcounty.gov
SUMMARY:Radar-Laser Operator (LIDAR)
DESCRIPTION:THIS COURSE IS DESIGNED TO TRAIN AND CERTIFY LAW ENFORCEMENT OFFICERS IN THE PROPER AND EFFICIENT USE OF LIDAR. THE STUDENTS WILL BE PROVIDED WITH AN UNDERSTANDING OF THE LASER AS AN ENFORCEMENT TOOL\, ALONG WITH PRACTICAL SKILLS AND LEGAL CONSIDERATIONS. \nPREREQUISITE: ** MUST BE RADAR TRAINED TO ATTEND THIS CLASS** \n  \nClick for Flyer
URL:https://wp.sbcounty.gov/sheriff/community-event-calendar/radar-laser-operator-lidar-2/
LOCATION:Frank Bland Regional Training Center\, 18901 Institution Rd\, San Bernardino\, CA\, 92407\, United States
CATEGORIES:Advanced Officer Training
END:VEVENT
BEGIN:VEVENT
DTSTART;TZID=America/Los_Angeles:20210607T080000
DTEND;TZID=America/Los_Angeles:20210611T170000
DTSTAMP:20260421T234539
CREATED:20210524T172732Z
LAST-MODIFIED:20210524T214614Z
UID:10002354-1623052800-1623430800@wp.sbcounty.gov
SUMMARY:Academy Instructor Certification Course (AICC)
DESCRIPTION:This course meets the basic instructional skills training requirement to teach in the P.O.S.T. Regular Basic Course and for the Academy Instructor Certificate Program. Students will gain facilitation skills and an understanding of how to employ adult learning methodologies appropriate for various law enforcement topics. This class is designed to teach fresh\, innovative techniques. \n  \nClick for Flyer
URL:https://wp.sbcounty.gov/sheriff/community-event-calendar/academy-instructor-certification-course-aicc-4/
LOCATION:Frank Bland Regional Training Center\, 18901 Institution Rd\, San Bernardino\, CA\, 92407\, United States
CATEGORIES:Advanced Officer Training
END:VEVENT
BEGIN:VEVENT
DTSTART;TZID=America/Los_Angeles:20210607T080000
DTEND;TZID=America/Los_Angeles:20210609T170000
DTSTAMP:20260421T234539
CREATED:20210524T193458Z
LAST-MODIFIED:20210524T214733Z
UID:10002474-1623052800-1623258000@wp.sbcounty.gov
SUMMARY:Radar Operator
DESCRIPTION:DESIGNED TO TRAIN PATROL OFFICERS IN THE OPERATION OF RADAR DEVICES. INCLUDES; HISTORY\, PRINCIPLES\, THEORY AND LAWS RELATING TO RADAR\, SET-UP\, CALIBRATION\, AND COURTROOM TESTIMONY. THIS COURSE SATIFIES THE REQUIREMENTS OF POST REGULATION 1081. \n  \nClick for Flyer
URL:https://wp.sbcounty.gov/sheriff/community-event-calendar/radar-operator-4/
LOCATION:Frank Bland Regional Training Center\, 18901 Institution Rd\, San Bernardino\, CA\, 92407\, United States
CATEGORIES:Advanced Officer Training
END:VEVENT
BEGIN:VEVENT
DTSTART;TZID=America/Los_Angeles:20210531T080000
DTEND;TZID=America/Los_Angeles:20210604T170000
DTSTAMP:20260421T234539
CREATED:20210405T205003Z
LAST-MODIFIED:20210524T214544Z
UID:10002342-1622448000-1622826000@wp.sbcounty.gov
SUMMARY:Field Training Officer
DESCRIPTION:This course is designed for the experienced Peace Officer recently appointed as a Field Training Officer. This Course includes instruction in liability\, documentation\, and teaching techniques with an emphasis on the FTO/ Trainee relationship. \n  \n“Click for Flyer”
URL:https://wp.sbcounty.gov/sheriff/community-event-calendar/field-training-officer-8/
LOCATION:Frank Bland Regional Training Center\, 18901 Institution Rd\, San Bernardino\, CA\, 92407\, United States
CATEGORIES:Advanced Officer Training
END:VEVENT
BEGIN:VEVENT
DTSTART;TZID=America/Los_Angeles:20210510T070000
DTEND;TZID=America/Los_Angeles:20210513T170000
DTSTAMP:20260421T234539
CREATED:20201209T182031Z
LAST-MODIFIED:20201209T182031Z
UID:10002267-1620630000-1620925200@wp.sbcounty.gov
SUMMARY:Basic Traffic Investigation
DESCRIPTION:This 40-hours course provides accident investigation from on-the-scene procedures to follow up and practical application of how to use report forms and accident investigation terminology together with the study of vehicle code law and court decisions. Course meets requirements of VC40600 (a). \n  \n“Click for Flyer”
URL:https://wp.sbcounty.gov/sheriff/community-event-calendar/basic-traffic-investigation-2/
LOCATION:Frank Bland Regional Training Center\, 18901 Institution Rd\, San Bernardino\, CA\, 92407\, United States
CATEGORIES:Advanced Officer Training
END:VEVENT
BEGIN:VEVENT
DTSTART;TZID=America/Los_Angeles:20210415T080000
DTEND;TZID=America/Los_Angeles:20210415T170000
DTSTAMP:20260421T234539
CREATED:20210406T165432Z
LAST-MODIFIED:20210406T165432Z
UID:10002345-1618473600-1618506000@wp.sbcounty.gov
SUMMARY:Use of Force and De-escalation (DLGP)
DESCRIPTION:To provide law enforcement officers with the knowledge and skills to become effective communicators by using case studies and discussions on how to de-escalate various situations. This course provides updated legislative content of Penal Code Section 835a. \n“Click for Flyer”\n 
URL:https://wp.sbcounty.gov/sheriff/community-event-calendar/use-of-force-and-de-escalation-dlgp/
LOCATION:Frank Bland Regional Training Center\, 18901 Institution Rd\, San Bernardino\, CA\, 92407\, United States
CATEGORIES:Advanced Officer Training
END:VEVENT
END:VCALENDAR