BEGIN:VCALENDAR
VERSION:2.0
PRODID:-//San Bernardino County Sheriff&#039;s Department - ECPv6.15.14//NONSGML v1.0//EN
CALSCALE:GREGORIAN
METHOD:PUBLISH
X-ORIGINAL-URL:https://wp.sbcounty.gov/sheriff
X-WR-CALDESC:Events for San Bernardino County Sheriff&#039;s Department
REFRESH-INTERVAL;VALUE=DURATION:PT1H
X-Robots-Tag:noindex
X-PUBLISHED-TTL:PT1H
BEGIN:VTIMEZONE
TZID:America/Los_Angeles
BEGIN:DAYLIGHT
TZOFFSETFROM:-0800
TZOFFSETTO:-0700
TZNAME:PDT
DTSTART:20170312T100000
END:DAYLIGHT
BEGIN:STANDARD
TZOFFSETFROM:-0700
TZOFFSETTO:-0800
TZNAME:PST
DTSTART:20171105T090000
END:STANDARD
BEGIN:DAYLIGHT
TZOFFSETFROM:-0800
TZOFFSETTO:-0700
TZNAME:PDT
DTSTART:20180311T100000
END:DAYLIGHT
BEGIN:STANDARD
TZOFFSETFROM:-0700
TZOFFSETTO:-0800
TZNAME:PST
DTSTART:20181104T090000
END:STANDARD
BEGIN:DAYLIGHT
TZOFFSETFROM:-0800
TZOFFSETTO:-0700
TZNAME:PDT
DTSTART:20190310T100000
END:DAYLIGHT
BEGIN:STANDARD
TZOFFSETFROM:-0700
TZOFFSETTO:-0800
TZNAME:PST
DTSTART:20191103T090000
END:STANDARD
END:VTIMEZONE
BEGIN:VEVENT
DTSTART;TZID=America/Los_Angeles:20180625T080000
DTEND;TZID=America/Los_Angeles:20180625T170000
DTSTAMP:20260425T151648
CREATED:20180611T231559Z
LAST-MODIFIED:20180611T233404Z
UID:10001550-1529913600-1529946000@wp.sbcounty.gov
SUMMARY:Report Writing
DESCRIPTION:This course provides an update on proper report writing techniques. It provides the skills needed to prepare a thoroughly written report. The course is intended for officers recently assigned to patrol functions after working corrections\, and for patrol trained officers who are seeking additional training in report writing. \nClick for Flyer
URL:https://wp.sbcounty.gov/sheriff/community-event-calendar/report-writing/
LOCATION:Frank Bland Regional Training Center\, 18901 Institution Rd\, San Bernardino\, CA\, 92407\, United States
CATEGORIES:Law Enforcement Training Courses
END:VEVENT
BEGIN:VEVENT
DTSTART;TZID=America/Los_Angeles:20180625T080000
DTEND;TZID=America/Los_Angeles:20180625T170000
DTSTAMP:20260425T151648
CREATED:20180611T173814Z
LAST-MODIFIED:20180703T153905Z
UID:10001538-1529913600-1529946000@wp.sbcounty.gov
SUMMARY:Human Trafficking
DESCRIPTION:This course provides an introduction to the commercialized sex industry subculture and how to conduct human trafficking investigations. It provides the skills necessary to identify victims and suspects. It will also discuss evidence\, including social media and search warrants. How to use and search internet escort advertisements will be discussed. Instructors will show how to conduct a field operation to locate victims and suspects. Attendees will hear from a survivor and investigators will provide case study summaries. \nClick for Flyer
URL:https://wp.sbcounty.gov/sheriff/community-event-calendar/human-trafficking/
LOCATION:Frank Bland Regional Training Center\, 18901 Institution Rd\, San Bernardino\, CA\, 92407\, United States
CATEGORIES:Advanced Officer Training
END:VEVENT
BEGIN:VEVENT
DTSTART;TZID=America/Los_Angeles:20180618T080000
DTEND;TZID=America/Los_Angeles:20180621T170000
DTSTAMP:20260425T151648
CREATED:20180611T233643Z
LAST-MODIFIED:20180611T233643Z
UID:10001556-1529308800-1529600400@wp.sbcounty.gov
SUMMARY:Crisis Intervention Training - 32 hour
DESCRIPTION:This 32-hours course is designed to train local law enforcement officers on how to cope with crisis situations with the mentally ill and developmentally disabled community. Signs and symptoms as well as a review of common medications are highlights of the in-class training. Officers also participate in various site visits and are given information about additional mental health resources available in the community. \nClick for Flyer
URL:https://wp.sbcounty.gov/sheriff/community-event-calendar/crisis-intervention-training-32-hour/
LOCATION:Frank Bland Regional Training Center\, 18901 Institution Rd\, San Bernardino\, CA\, 92407\, United States
END:VEVENT
BEGIN:VEVENT
DTSTART;TZID=America/Los_Angeles:20180615T080000
DTEND;TZID=America/Los_Angeles:20180615T170000
DTSTAMP:20260425T151648
CREATED:20180611T232010Z
LAST-MODIFIED:20180611T233142Z
UID:10001553-1529049600-1529082000@wp.sbcounty.gov
SUMMARY:Advanced Vehicle Stops
DESCRIPTION:This course will educate the patrol officer in current trends involving traffic stop enforcement. The course will focus on officer safety based approaches to include vehicle placement\, high-risk stops\, and radio communications. \nClick for Flyer
URL:https://wp.sbcounty.gov/sheriff/community-event-calendar/advanced-vehicle-stops/
LOCATION:Frank Bland Regional Training Center\, 18901 Institution Rd\, San Bernardino\, CA\, 92407\, United States
CATEGORIES:Law Enforcement Training Courses
END:VEVENT
BEGIN:VEVENT
DTSTART;TZID=America/Los_Angeles:20180604T080000
DTEND;TZID=America/Los_Angeles:20180605T170000
DTSTAMP:20260425T151648
CREATED:20180605T221432Z
LAST-MODIFIED:20180611T233333Z
UID:10001532-1528099200-1528218000@wp.sbcounty.gov
SUMMARY:Traffic Collision Investigation - MAIT Protocols
DESCRIPTION:This course is a 16-hour MAIT protocol course that is meant to be a follow up to the Traffic Collision Investigation – Reconstruction course. While reconstruction teaches the basics of the math and physics needed for collision reconstruction\, it does not cover the protocols of scene management\, scene documentation\, evidence collection\, interviewing\, and report writing. This course will consist of one day of classroom activity and one day of field work putting the lessons from day one into practice. It is meant to be a jumpstart primer into the field of Major Accident Investigation and give the prospective investigator a solid grounding prior to being assigned to a team.
URL:https://wp.sbcounty.gov/sheriff/community-event-calendar/traffic-collision-investigation-mait-protocols/
LOCATION:Frank Bland Regional Training Center\, 18901 Institution Rd\, San Bernardino\, CA\, 92407\, United States
CATEGORIES:Law Enforcement Training Courses
END:VEVENT
BEGIN:VEVENT
DTSTART;TZID=America/Los_Angeles:20180122T080000
DTEND;TZID=America/Los_Angeles:20180126T170000
DTSTAMP:20260425T151648
CREATED:20180124T201606Z
LAST-MODIFIED:20180124T201606Z
UID:10001529-1516608000-1516986000@wp.sbcounty.gov
SUMMARY:Civilian Supervisory Course
DESCRIPTION:POST standardized curriculum introduces supervisors to the role\, responsibilities and resources available for their position. \nThis course is POST certified and is taught in a facilitated format to encourage leadership and team building in supervisors. \nClick here to view flyer.
URL:https://wp.sbcounty.gov/sheriff/community-event-calendar/civilian-supervisory-course/
LOCATION:Frank Bland Regional Training Center\, 18901 Institution Rd\, San Bernardino\, CA\, 92407\, United States
CATEGORIES:Law Enforcement Training Courses,Public Safety Courses
ORGANIZER;CN="Sheriff's Academy":MAILTO:aotregistration@sbcsd.org
END:VEVENT
END:VCALENDAR