BEGIN:VCALENDAR
VERSION:2.0
PRODID:-//San Bernardino County Sheriff&#039;s Department - ECPv6.15.14//NONSGML v1.0//EN
CALSCALE:GREGORIAN
METHOD:PUBLISH
X-ORIGINAL-URL:https://wp.sbcounty.gov/sheriff
X-WR-CALDESC:Events for San Bernardino County Sheriff&#039;s Department
REFRESH-INTERVAL;VALUE=DURATION:PT1H
X-Robots-Tag:noindex
X-PUBLISHED-TTL:PT1H
BEGIN:VTIMEZONE
TZID:America/Los_Angeles
BEGIN:DAYLIGHT
TZOFFSETFROM:-0800
TZOFFSETTO:-0700
TZNAME:PDT
DTSTART:20170312T100000
END:DAYLIGHT
BEGIN:STANDARD
TZOFFSETFROM:-0700
TZOFFSETTO:-0800
TZNAME:PST
DTSTART:20171105T090000
END:STANDARD
BEGIN:DAYLIGHT
TZOFFSETFROM:-0800
TZOFFSETTO:-0700
TZNAME:PDT
DTSTART:20180311T100000
END:DAYLIGHT
BEGIN:STANDARD
TZOFFSETFROM:-0700
TZOFFSETTO:-0800
TZNAME:PST
DTSTART:20181104T090000
END:STANDARD
BEGIN:DAYLIGHT
TZOFFSETFROM:-0800
TZOFFSETTO:-0700
TZNAME:PDT
DTSTART:20190310T100000
END:DAYLIGHT
BEGIN:STANDARD
TZOFFSETFROM:-0700
TZOFFSETTO:-0800
TZNAME:PST
DTSTART:20191103T090000
END:STANDARD
END:VTIMEZONE
BEGIN:VEVENT
DTSTART;TZID=America/Los_Angeles:20181015T080000
DTEND;TZID=America/Los_Angeles:20181019T170000
DTSTAMP:20260425T093258
CREATED:20181010T215206Z
LAST-MODIFIED:20181010T215206Z
UID:10001805-1539590400-1539968400@wp.sbcounty.gov
SUMMARY:Post-Blast Investigations
DESCRIPTION:The FBI Basic Post Blast Investigator’s Course is designed to provide law enforcement personnel an introduction to techniques useful in investigating bombing crime scenes. The focus of the course is “crime scene to court room\,” to hone those investigative skills needed to successfully exploit the evidence found in a bombing scene in order to present the strongest case possible during the prosecution.  \n***Closed Class***
URL:https://wp.sbcounty.gov/sheriff/community-event-calendar/post-blast-investigations/
LOCATION:TBA
CATEGORIES:Advanced Officer Training
END:VEVENT
END:VCALENDAR