BEGIN:VCALENDAR
VERSION:2.0
PRODID:-//Transitional Assistance Department - ECPv6.15.14//NONSGML v1.0//EN
CALSCALE:GREGORIAN
METHOD:PUBLISH
X-WR-CALNAME:Transitional Assistance Department
X-ORIGINAL-URL:https://wp.sbcounty.gov/tad
X-WR-CALDESC:Events for Transitional Assistance Department
REFRESH-INTERVAL;VALUE=DURATION:PT1H
X-Robots-Tag:noindex
X-PUBLISHED-TTL:PT1H
BEGIN:VTIMEZONE
TZID:America/Los_Angeles
BEGIN:DAYLIGHT
TZOFFSETFROM:-0800
TZOFFSETTO:-0700
TZNAME:PDT
DTSTART:20240310T100000
END:DAYLIGHT
BEGIN:STANDARD
TZOFFSETFROM:-0700
TZOFFSETTO:-0800
TZNAME:PST
DTSTART:20241103T090000
END:STANDARD
BEGIN:DAYLIGHT
TZOFFSETFROM:-0800
TZOFFSETTO:-0700
TZNAME:PDT
DTSTART:20250309T100000
END:DAYLIGHT
BEGIN:STANDARD
TZOFFSETFROM:-0700
TZOFFSETTO:-0800
TZNAME:PST
DTSTART:20251102T090000
END:STANDARD
BEGIN:DAYLIGHT
TZOFFSETFROM:-0800
TZOFFSETTO:-0700
TZNAME:PDT
DTSTART:20260308T100000
END:DAYLIGHT
BEGIN:STANDARD
TZOFFSETFROM:-0700
TZOFFSETTO:-0800
TZNAME:PST
DTSTART:20261101T090000
END:STANDARD
END:VTIMEZONE
BEGIN:VEVENT
DTSTART;TZID=America/Los_Angeles:20251023T100000
DTEND;TZID=America/Los_Angeles:20251023T133000
DTSTAMP:20260424T015811
CREATED:20251021T185220Z
LAST-MODIFIED:20251021T185220Z
UID:19584-1761213600-1761226200@wp.sbcounty.gov
SUMMARY:Barstow Job Fair and Resource Event
DESCRIPTION:The San Bernardino County Workforce Development Department\, in partnership with the City of Barstow\, invites job seekers and community members to attend the Barstow Job Fair and Resource Event. Held indoors at the historic Harvey House\, this free event will connect attendees to local employers\, career support\, and community resources. \nThe Transitional Assistance Department (TAD) Outreach Team will be onsite as a resource table providing social service information\, application assistance\, and case support. \nDate: Thursday\, October 23\, 2025Time: 10 a.m. – 1:30 p.m.Location: Harvey House\, 685 North 1st Avenue\, Barstow\, California 92311
URL:https://wp.sbcounty.gov/tad/event/barstow-job-fair-and-resource-event/
LOCATION:Harvey House\, 685 North 1st Avenue\, Barstow\, CA\, 92311\, United States
CATEGORIES:Community Event,Hiring Event
ATTACH;FMTTYPE=image/jpeg:https://wp.sbcounty.gov/tad/wp-content/uploads/sites/25/Outreach-Tabling-Calendar-Photo-2.jpg
END:VEVENT
END:VCALENDAR