BEGIN:VCALENDAR
VERSION:2.0
PRODID:-//Transitional Assistance Department - ECPv6.15.14//NONSGML v1.0//EN
CALSCALE:GREGORIAN
METHOD:PUBLISH
X-WR-CALNAME:Transitional Assistance Department
X-ORIGINAL-URL:https://wp.sbcounty.gov/tad
X-WR-CALDESC:Events for Transitional Assistance Department
REFRESH-INTERVAL;VALUE=DURATION:PT1H
X-Robots-Tag:noindex
X-PUBLISHED-TTL:PT1H
BEGIN:VTIMEZONE
TZID:America/Los_Angeles
BEGIN:DAYLIGHT
TZOFFSETFROM:-0800
TZOFFSETTO:-0700
TZNAME:PDT
DTSTART:20240310T100000
END:DAYLIGHT
BEGIN:STANDARD
TZOFFSETFROM:-0700
TZOFFSETTO:-0800
TZNAME:PST
DTSTART:20241103T090000
END:STANDARD
BEGIN:DAYLIGHT
TZOFFSETFROM:-0800
TZOFFSETTO:-0700
TZNAME:PDT
DTSTART:20250309T100000
END:DAYLIGHT
BEGIN:STANDARD
TZOFFSETFROM:-0700
TZOFFSETTO:-0800
TZNAME:PST
DTSTART:20251102T090000
END:STANDARD
BEGIN:DAYLIGHT
TZOFFSETFROM:-0800
TZOFFSETTO:-0700
TZNAME:PDT
DTSTART:20260308T100000
END:DAYLIGHT
BEGIN:STANDARD
TZOFFSETFROM:-0700
TZOFFSETTO:-0800
TZNAME:PST
DTSTART:20261101T090000
END:STANDARD
END:VTIMEZONE
BEGIN:VEVENT
DTSTART;TZID=America/Los_Angeles:20250824T100000
DTEND;TZID=America/Los_Angeles:20250824T153000
DTSTAMP:20260423T034803
CREATED:20250819T173238Z
LAST-MODIFIED:20250819T174716Z
UID:18421-1756029600-1756049400@wp.sbcounty.gov
SUMMARY:Black Breastfeeding Week Celebration and Community Baby Shower
DESCRIPTION:Join the San Bernardino County Department of Public Health – Black Infant Health Program for a free community event celebrating Black Breastfeeding Week. This event honors past\, current\, and future breastfeeding families while raising awareness of health disparities affecting the Black birthing community. Enjoy wellness activities\, cultural celebration\, and access to vital family and community resources. \nThe Transitional Assistance Department (TAD) Outreach Team will be onsite providing social service information\, application assistance\, and case support. \nDate: Saturday\, August 24\, 2025\nTime: 10 a.m. – 3:30 p.m.\nLocation: Dorothy Inghram Learning Center\, 670 E Carnegie Drive\, San Bernardino\, CA 92408
URL:https://wp.sbcounty.gov/tad/event/black-breastfeeding-week-celebration-and-community-baby-shower/
LOCATION:Dorothy Inghram Learning Center\, 670 E Carnegie Drive\, San Bernardino\, CA\, 92408\, United States
CATEGORIES:Community Event
ATTACH;FMTTYPE=image/jpeg:https://wp.sbcounty.gov/tad/wp-content/uploads/sites/25/BIH-Calendar-Photo.jpg
END:VEVENT
END:VCALENDAR