BEGIN:VCALENDAR
VERSION:2.0
PRODID:-//Transitional Assistance Department - ECPv6.15.14//NONSGML v1.0//EN
CALSCALE:GREGORIAN
METHOD:PUBLISH
X-WR-CALNAME:Transitional Assistance Department
X-ORIGINAL-URL:https://wp.sbcounty.gov/tad
X-WR-CALDESC:Events for Transitional Assistance Department
REFRESH-INTERVAL;VALUE=DURATION:PT1H
X-Robots-Tag:noindex
X-PUBLISHED-TTL:PT1H
BEGIN:VTIMEZONE
TZID:America/Los_Angeles
BEGIN:DAYLIGHT
TZOFFSETFROM:-0800
TZOFFSETTO:-0700
TZNAME:PDT
DTSTART:20240310T100000
END:DAYLIGHT
BEGIN:STANDARD
TZOFFSETFROM:-0700
TZOFFSETTO:-0800
TZNAME:PST
DTSTART:20241103T090000
END:STANDARD
BEGIN:DAYLIGHT
TZOFFSETFROM:-0800
TZOFFSETTO:-0700
TZNAME:PDT
DTSTART:20250309T100000
END:DAYLIGHT
BEGIN:STANDARD
TZOFFSETFROM:-0700
TZOFFSETTO:-0800
TZNAME:PST
DTSTART:20251102T090000
END:STANDARD
BEGIN:DAYLIGHT
TZOFFSETFROM:-0800
TZOFFSETTO:-0700
TZNAME:PDT
DTSTART:20260308T100000
END:DAYLIGHT
BEGIN:STANDARD
TZOFFSETFROM:-0700
TZOFFSETTO:-0800
TZNAME:PST
DTSTART:20261101T090000
END:STANDARD
END:VTIMEZONE
BEGIN:VEVENT
DTSTART;TZID=America/Los_Angeles:20250927T100000
DTEND;TZID=America/Los_Angeles:20250927T150000
DTSTAMP:20260424T024107
CREATED:20250821T231451Z
LAST-MODIFIED:20250821T231451Z
UID:18556-1758967200-1758985200@wp.sbcounty.gov
SUMMARY:LIFT Our Community – Resource and Family Fun Fair
DESCRIPTION:LIFT Our Community invites you to the 2nd Annual San Bernardino Community Resource and Family Fun Fair\, a free event connecting families to housing support\, food assistance\, medical and legal services\, academic programs\, veteran services\, senior resources\, and more. Enjoy live performances\, entertainment\, food\, and activities for all ages. \nThis year’s event celebrates local nonprofits\, teachers\, and students for their contributions to the community\, while promoting same-day services and community connection. \nThe Transitional Assistance Department (TAD) Outreach Team will be onsite as a resource table providing social service information\, application assistance\, and case support. \nDate: Saturday\, September 27\, 2025\nTime: 10 a.m. – 3 p.m.\nLocation: Urbita Elementary School\, 771 South J Street\, San Bernardino\, CA 92410
URL:https://wp.sbcounty.gov/tad/event/lift-our-community-resource-and-family-fun-fair/
LOCATION:Urbita Elementary School\, 771 South J Street\, San Bernardino\, CA\, 92410\, United States
CATEGORIES:Community Event
ATTACH;FMTTYPE=image/jpeg:https://wp.sbcounty.gov/tad/wp-content/uploads/sites/25/Family-Event-Calendar-Photo-1.jpg
END:VEVENT
END:VCALENDAR