BEGIN:VCALENDAR
VERSION:2.0
PRODID:-//Transitional Assistance Department - ECPv6.15.14//NONSGML v1.0//EN
CALSCALE:GREGORIAN
METHOD:PUBLISH
X-WR-CALNAME:Transitional Assistance Department
X-ORIGINAL-URL:https://wp.sbcounty.gov/tad
X-WR-CALDESC:Events for Transitional Assistance Department
REFRESH-INTERVAL;VALUE=DURATION:PT1H
X-Robots-Tag:noindex
X-PUBLISHED-TTL:PT1H
BEGIN:VTIMEZONE
TZID:America/Los_Angeles
BEGIN:DAYLIGHT
TZOFFSETFROM:-0800
TZOFFSETTO:-0700
TZNAME:PDT
DTSTART:20240310T100000
END:DAYLIGHT
BEGIN:STANDARD
TZOFFSETFROM:-0700
TZOFFSETTO:-0800
TZNAME:PST
DTSTART:20241103T090000
END:STANDARD
BEGIN:DAYLIGHT
TZOFFSETFROM:-0800
TZOFFSETTO:-0700
TZNAME:PDT
DTSTART:20250309T100000
END:DAYLIGHT
BEGIN:STANDARD
TZOFFSETFROM:-0700
TZOFFSETTO:-0800
TZNAME:PST
DTSTART:20251102T090000
END:STANDARD
BEGIN:DAYLIGHT
TZOFFSETFROM:-0800
TZOFFSETTO:-0700
TZNAME:PDT
DTSTART:20260308T100000
END:DAYLIGHT
BEGIN:STANDARD
TZOFFSETFROM:-0700
TZOFFSETTO:-0800
TZNAME:PST
DTSTART:20261101T090000
END:STANDARD
END:VTIMEZONE
BEGIN:VEVENT
DTSTART;TZID=America/Los_Angeles:20250904T090000
DTEND;TZID=America/Los_Angeles:20250904T120000
DTSTAMP:20260423T092642
CREATED:20250819T193644Z
LAST-MODIFIED:20250819T193644Z
UID:18481-1756976400-1756987200@wp.sbcounty.gov
SUMMARY:U.S. Probation – Job and Resource Fair
DESCRIPTION:The U.S. Probation and Pretrial Services Office will host a Job and Resource Fair to support justice-impacted individuals on federal supervision. Attendees can explore job opportunities\, connect with community resources\, and access essential support services. Come interview ready with a resume in hand. \nRegister here and participate at no cost. \nIf you have questions\, please contact your assigned probation officer. \nThe Transitional Assistance Department (TAD) Outreach Team will be onsite as a resource table providing social service information\, application assistance\, and case support. \nDate: Thursday\, September 4\, 2025Time: 9 a.m. – noonLocation: George E. Brown\, Jr. Federal Building Courtyard\, 3470 Twelfth Street\, Riverside\, CA 92501
URL:https://wp.sbcounty.gov/tad/event/u-s-probation-job-and-resource-fair/
LOCATION:George E. Brown\, Jr. Federal Building Courtyard\, 3470 Twelfth Street\, Riverside\, CA\, 92501\, United States
CATEGORIES:Hiring Event
ATTACH;FMTTYPE=image/jpeg:https://wp.sbcounty.gov/tad/wp-content/uploads/sites/25/Outreach-Tabling-Calendar-Photo-2.jpg
END:VEVENT
END:VCALENDAR