BEGIN:VCALENDAR
VERSION:2.0
PRODID:-//Transitional Assistance Department - ECPv6.15.14//NONSGML v1.0//EN
CALSCALE:GREGORIAN
METHOD:PUBLISH
X-ORIGINAL-URL:https://wp.sbcounty.gov/tad
X-WR-CALDESC:Events for Transitional Assistance Department
REFRESH-INTERVAL;VALUE=DURATION:PT1H
X-Robots-Tag:noindex
X-PUBLISHED-TTL:PT1H
BEGIN:VTIMEZONE
TZID:America/Los_Angeles
BEGIN:DAYLIGHT
TZOFFSETFROM:-0800
TZOFFSETTO:-0700
TZNAME:PDT
DTSTART:20240310T100000
END:DAYLIGHT
BEGIN:STANDARD
TZOFFSETFROM:-0700
TZOFFSETTO:-0800
TZNAME:PST
DTSTART:20241103T090000
END:STANDARD
BEGIN:DAYLIGHT
TZOFFSETFROM:-0800
TZOFFSETTO:-0700
TZNAME:PDT
DTSTART:20250309T100000
END:DAYLIGHT
BEGIN:STANDARD
TZOFFSETFROM:-0700
TZOFFSETTO:-0800
TZNAME:PST
DTSTART:20251102T090000
END:STANDARD
BEGIN:DAYLIGHT
TZOFFSETFROM:-0800
TZOFFSETTO:-0700
TZNAME:PDT
DTSTART:20260308T100000
END:DAYLIGHT
BEGIN:STANDARD
TZOFFSETFROM:-0700
TZOFFSETTO:-0800
TZNAME:PST
DTSTART:20261101T090000
END:STANDARD
END:VTIMEZONE
BEGIN:VEVENT
DTSTART;TZID=America/Los_Angeles:20251008T123000
DTEND;TZID=America/Los_Angeles:20251008T160000
DTSTAMP:20260425T162258
CREATED:20251002T171650Z
LAST-MODIFIED:20251002T171650Z
UID:10000072-1759926600-1759939200@wp.sbcounty.gov
SUMMARY:TAD Mobile Event - Public Defender's Office Mobile Defense Program
DESCRIPTION:The San Bernardino County Public Defender’s Office\, in partnership with the San Bernardino Superior Court and the High Desert Black Worker Center\, invites residents to the next Mobile Defense Program event. This free event offers on-site legal assistance to help clear criminal records\, remove barriers to housing and employment\, and resolve outstanding court matters. \nMobile court services will be available\, along with support from community-based organizations and several County departments providing health\, reentry\, employment\, and family services. \nThe Transitional Assistance Department (TAD) Outreach Team will be onsite with the Mobile Office providing social service information\, application assistance\, document services\, and case support. \nDate: Wednesday\, October 8\, 2025Time: 12:30 – 4 p.m.Location: Adelanto Plaza & Event Center\, 11200 Bartlett Avenue\, Adelanto\, California 92301 \nFor more information or to register\, visit the San Bernardino County Public Defender’s Office Eventbrite page.
URL:https://wp.sbcounty.gov/tad/event/tad-mobile-event-public-defenders-office-mobile-defense-program/
LOCATION:Adelanto Plaza & Event Center\, 12000 Stadium Way\, Adelanto\, CA\, 92301\, United States
CATEGORIES:Community Event,Mobile Event
ATTACH;FMTTYPE=image/jpeg:https://wp.sbcounty.gov/tad/wp-content/uploads/sites/25/TAD-MO-Calendar-Photo.jpg
END:VEVENT
END:VCALENDAR