BEGIN:VCALENDAR
VERSION:2.0
PRODID:-//Transitional Assistance Department - ECPv6.15.14//NONSGML v1.0//EN
CALSCALE:GREGORIAN
METHOD:PUBLISH
X-ORIGINAL-URL:https://wp.sbcounty.gov/tad
X-WR-CALDESC:Events for Transitional Assistance Department
REFRESH-INTERVAL;VALUE=DURATION:PT1H
X-Robots-Tag:noindex
X-PUBLISHED-TTL:PT1H
BEGIN:VTIMEZONE
TZID:America/Los_Angeles
BEGIN:DAYLIGHT
TZOFFSETFROM:-0800
TZOFFSETTO:-0700
TZNAME:PDT
DTSTART:20240310T100000
END:DAYLIGHT
BEGIN:STANDARD
TZOFFSETFROM:-0700
TZOFFSETTO:-0800
TZNAME:PST
DTSTART:20241103T090000
END:STANDARD
BEGIN:DAYLIGHT
TZOFFSETFROM:-0800
TZOFFSETTO:-0700
TZNAME:PDT
DTSTART:20250309T100000
END:DAYLIGHT
BEGIN:STANDARD
TZOFFSETFROM:-0700
TZOFFSETTO:-0800
TZNAME:PST
DTSTART:20251102T090000
END:STANDARD
BEGIN:DAYLIGHT
TZOFFSETFROM:-0800
TZOFFSETTO:-0700
TZNAME:PDT
DTSTART:20260308T100000
END:DAYLIGHT
BEGIN:STANDARD
TZOFFSETFROM:-0700
TZOFFSETTO:-0800
TZNAME:PST
DTSTART:20261101T090000
END:STANDARD
END:VTIMEZONE
BEGIN:VEVENT
DTSTART;TZID=America/Los_Angeles:20251210T103000
DTEND;TZID=America/Los_Angeles:20251210T120000
DTSTAMP:20260424T072151
CREATED:20251203T205738Z
LAST-MODIFIED:20251203T205738Z
UID:10000202-1765362600-1765368000@wp.sbcounty.gov
SUMMARY:Colton Middle School Wellness & Resource Fair
DESCRIPTION:Colton Middle School invites you to the Colton Middle School Wellness & Resource Fair\, an outdoor event dedicated to connecting students and families with valuable wellness services\, school supports\, and community resources that promote health and stability. \nThe Transitional Assistance Department (TAD) Outreach Team will be onsite hosting a resource booth and providing information on CalWORKs\, CalFresh\, Medi-Cal\, BenefitsCal\, and self-service options. Staff will also have program brochures available to support families seeking assistance. \nDate: Wednesday\, December 10\, 2025Time: 10:40 – 11:52 a.m.Location: Colton Middle School\, 670 W. Laurel Street\, Colton\, California 92324
URL:https://wp.sbcounty.gov/tad/event/colton-middle-school-wellness-resource-fair/
LOCATION:Colton Middle School\, 670 W. Laurel Street\, Colton\, CA\, 92324\, United States
ATTACH;FMTTYPE=image/jpeg:https://wp.sbcounty.gov/tad/wp-content/uploads/sites/25/Outdoor-Event-3-Calendar-Photo.jpg
END:VEVENT
END:VCALENDAR