BEGIN:VCALENDAR
VERSION:2.0
PRODID:-//Transitional Assistance Department - ECPv6.15.14//NONSGML v1.0//EN
CALSCALE:GREGORIAN
METHOD:PUBLISH
X-WR-CALNAME:Transitional Assistance Department
X-ORIGINAL-URL:https://wp.sbcounty.gov/tad
X-WR-CALDESC:Events for Transitional Assistance Department
REFRESH-INTERVAL;VALUE=DURATION:PT1H
X-Robots-Tag:noindex
X-PUBLISHED-TTL:PT1H
BEGIN:VTIMEZONE
TZID:America/Los_Angeles
BEGIN:DAYLIGHT
TZOFFSETFROM:-0800
TZOFFSETTO:-0700
TZNAME:PDT
DTSTART:20240310T100000
END:DAYLIGHT
BEGIN:STANDARD
TZOFFSETFROM:-0700
TZOFFSETTO:-0800
TZNAME:PST
DTSTART:20241103T090000
END:STANDARD
BEGIN:DAYLIGHT
TZOFFSETFROM:-0800
TZOFFSETTO:-0700
TZNAME:PDT
DTSTART:20250309T100000
END:DAYLIGHT
BEGIN:STANDARD
TZOFFSETFROM:-0700
TZOFFSETTO:-0800
TZNAME:PST
DTSTART:20251102T090000
END:STANDARD
BEGIN:DAYLIGHT
TZOFFSETFROM:-0800
TZOFFSETTO:-0700
TZNAME:PDT
DTSTART:20260308T100000
END:DAYLIGHT
BEGIN:STANDARD
TZOFFSETFROM:-0700
TZOFFSETTO:-0800
TZNAME:PST
DTSTART:20261101T090000
END:STANDARD
END:VTIMEZONE
BEGIN:VEVENT
DTSTART;TZID=America/Los_Angeles:20251113T110000
DTEND;TZID=America/Los_Angeles:20251113T153000
DTSTAMP:20260422T172131
CREATED:20251023T224640Z
LAST-MODIFIED:20251023T224640Z
UID:10000158-1763031600-1763047800@wp.sbcounty.gov
SUMMARY:Adoption Finalization Event
DESCRIPTION:The San Bernardino County Children and Family Services Department invites adoptive families to a special Adoption Finalization Event\, celebrating new beginnings while connecting families to helpful resources. This free indoor event offers information and support for adoptive parents navigating programs like Medi-Cal and Adoption Assistance. \nThe Transitional Assistance Department (TAD) Outreach Team will be onsite as a resource table providing social service information\, application assistance\, and case support. \nDate: Thursday\, November 13\, 2025Time: 11 a.m. – 3:30 p.m.Location: Ontario Convention Center\, 2000 East Convention Center Way\, Ontario\, California 91764
URL:https://wp.sbcounty.gov/tad/event/adoption-finalization-event/
LOCATION:Ontario Convention Center\, 2000 E Convention Center Way\, Ontario\, CA\, 91764\, United States
CATEGORIES:Community Event
ATTACH;FMTTYPE=image/jpeg:https://wp.sbcounty.gov/tad/wp-content/uploads/sites/25/Family-Event-Calendar-Photo-1.jpg
END:VEVENT
BEGIN:VEVENT
DTSTART;TZID=America/Los_Angeles:20251024T090000
DTEND;TZID=America/Los_Angeles:20251024T130000
DTSTAMP:20260422T172131
CREATED:20251023T204148Z
LAST-MODIFIED:20251023T204148Z
UID:10000125-1761296400-1761310800@wp.sbcounty.gov
SUMMARY:SoCal Job Expo
DESCRIPTION:US Jobs Now invites job seekers\, graduating students\, veterans\, and community members from across Southern California to the SoCal Job Expo\, a large-scale employment and resource fair themed “Tomorrow’s Technology… Starting Today.” The event will feature over 40 employers\, more than 20 resource providers\, and interactive exhibits including electric vehicles and Joby Aviation’s electric air taxi. \nThe Transitional Assistance Department (TAD) Outreach Team will be onsite as a resource table providing social service information\, application assistance\, and case support. \nDate: Friday\, October 24\, 2025Time: 9 a.m. – 1 p.m.Location: Ontario Convention Center – Hall B\, 2000 East Convention Center Way\, Ontario\, California 91764
URL:https://wp.sbcounty.gov/tad/event/socal-job-expo/
LOCATION:Ontario Convention Center\, 2000 E Convention Center Way\, Ontario\, CA\, 91764\, United States
CATEGORIES:Community Event,Hiring Event
ATTACH;FMTTYPE=image/jpeg:https://wp.sbcounty.gov/tad/wp-content/uploads/sites/25/Outreach-Tabling-Calendar-Photo-2.jpg
END:VEVENT
BEGIN:VEVENT
DTSTART;TZID=America/Los_Angeles:20251016T080000
DTEND;TZID=America/Los_Angeles:20251016T170000
DTSTAMP:20260422T172131
CREATED:20251002T181532Z
LAST-MODIFIED:20251002T181532Z
UID:10000096-1760601600-1760634000@wp.sbcounty.gov
SUMMARY:39th Annual Children’s Network Conference
DESCRIPTION:Children’s Network invites professionals\, parents\, and youth to the 39th Annual Children’s Network Conference – San Bernardino County’s premier event for family-serving agencies and community partners. This free\, full-day conference offers access to programs\, resources\, and services that support the well-being of children and families across the region. \nThe Transitional Assistance Department (TAD) Outreach Team will be onsite as a resource table providing social service information\, application assistance\, and case support. \nDate: Thursday\, October 16\, 2025Time: 8 a.m. – 5 p.m.Location: Ontario Convention Center\, 2000 East Convention Center Way\, Ontario\, California 91764
URL:https://wp.sbcounty.gov/tad/event/39th-annual-childrens-network-conference-2/
LOCATION:Ontario Convention Center\, 2000 E Convention Center Way\, Ontario\, CA\, 91764\, United States
CATEGORIES:Community Event
ATTACH;FMTTYPE=image/jpeg:https://wp.sbcounty.gov/tad/wp-content/uploads/sites/25/Outreach-Tabling-Calendar-Photo-2.jpg
END:VEVENT
BEGIN:VEVENT
DTSTART;TZID=America/Los_Angeles:20251015T080000
DTEND;TZID=America/Los_Angeles:20251015T170000
DTSTAMP:20260422T172131
CREATED:20251002T181442Z
LAST-MODIFIED:20251002T181442Z
UID:10000093-1760515200-1760547600@wp.sbcounty.gov
SUMMARY:39th Annual Children’s Network Conference
DESCRIPTION:Children’s Network invites professionals\, parents\, and youth to the 39th Annual Children’s Network Conference – San Bernardino County’s premier event for family-serving agencies and community partners. This free\, full-day conference offers access to programs\, resources\, and services that support the well-being of children and families across the region. \nThe Transitional Assistance Department (TAD) Outreach Team will be onsite as a resource table providing social service information\, application assistance\, and case support. \nDate: Wednesday\, October 15\, 2025Time: 8 a.m. – 5 p.m.Location: Ontario Convention Center\, 2000 East Convention Center Way\, Ontario\, California 91764
URL:https://wp.sbcounty.gov/tad/event/39th-annual-childrens-network-conference/
LOCATION:Ontario Convention Center\, 2000 E Convention Center Way\, Ontario\, CA\, 91764\, United States
CATEGORIES:Community Event
ATTACH;FMTTYPE=image/jpeg:https://wp.sbcounty.gov/tad/wp-content/uploads/sites/25/Outreach-Tabling-Calendar-Photo-2.jpg
END:VEVENT
BEGIN:VEVENT
DTSTART;TZID=America/Los_Angeles:20250827T090000
DTEND;TZID=America/Los_Angeles:20250827T130000
DTSTAMP:20260422T172131
CREATED:20250819T174658Z
LAST-MODIFIED:20250819T174658Z
UID:10000019-1756285200-1756299600@wp.sbcounty.gov
SUMMARY:Gateway to Employment Hiring Event – Ontario
DESCRIPTION:The San Bernardino County Workforce Development Department (WDD) is hosting the Gateway to Employment Hiring Event to connect job seekers with employment opportunities and support services throughout the County. This no-cost event will feature a wide range of employers and workforce resources. \nThe Transitional Assistance Department (TAD) Outreach Team will be onsite providing social service information\, application assistance\, and case support. \nDate: Wednesday\, August 27\, 2025Time: 9 a.m. – 1 p.m.Location: Ontario Convention Center\, 2000 East Convention Center Way\, Ontario\, CA 91764
URL:https://wp.sbcounty.gov/tad/event/gateway-to-employment-hiring-event-ontario/
LOCATION:Ontario Convention Center\, 2000 E Convention Center Way\, Ontario\, CA\, 91764\, United States
CATEGORIES:Hiring Event
ATTACH;FMTTYPE=image/png:https://wp.sbcounty.gov/tad/wp-content/uploads/sites/25/WVHE0825-Image.png
END:VEVENT
END:VCALENDAR